- using R Under development (unstable) (2025-10-20 r88955)
- using platform: x86_64-pc-linux-gnu
- R was compiled by
gcc-15 (Debian 15.2.0-4) 15.2.0
GNU Fortran (Debian 15.2.0-4) 15.2.0
- running under: Debian GNU/Linux forky/sid
- using session charset: UTF-8
- checking for file ‘memisc/DESCRIPTION’ ... OK
- checking extension type ... Package
- this is package ‘memisc’ version ‘0.99.31.8.3’
- checking CRAN incoming feasibility ... [1s/2s] OK
- checking package namespace information ... OK
- checking package dependencies ... OK
- checking if this is a source package ... OK
- checking if there is a namespace ... OK
- checking for executable files ... OK
- checking for hidden files and directories ... OK
- checking for portable file names ... OK
- checking for sufficient/correct file permissions ... OK
- checking serialization versions ... OK
- checking whether package ‘memisc’ can be installed ... OK
See the install log for details.
- used C compiler: ‘gcc-15 (Debian 15.2.0-4) 15.2.0’
- checking package directory ... OK
- checking for future file timestamps ... OK
- checking ‘build’ directory ... OK
- checking DESCRIPTION meta-information ... OK
- checking top-level files ... NOTE
Found the following validation problem for the NEWS.Rd HTML conversion:
NEWS.html:766:1 (inst/NEWS.Rd:431): Warning: missing </ul> before </div>
NEWS.html:567:1 (inst/NEWS.Rd:318): Warning: <h4> anchor "NEW-FEATURES" already defined
NEWS.html:636:1 (inst/NEWS.Rd:366): Warning: <h4> anchor "BUGFIXES" already defined
NEWS.html:669:1 (inst/NEWS.Rd:382): Warning: <h4> anchor "USER-VISIBLE-CHANGES" already defined
NEWS.html:685:1 (inst/NEWS.Rd:390): Warning: <h4> anchor "DEFUNCT" already defined
NEWS.html:703:1 (inst/NEWS.Rd:400): Warning: <h4> anchor "NEW-FEATURES" already defined
NEWS.html:735:1 (inst/NEWS.Rd:418): Warning: <h4> anchor "USER-VISIBLE-CHANGES" already defined
NEWS.html:746:1 (inst/NEWS.Rd:423): Warning: <h4> anchor "DEFUNCT" already defined
- checking for left-over files ... OK
- checking index information ... OK
- checking package subdirectories ... OK
- checking code files for non-ASCII characters ... OK
- checking R files for syntax errors ... OK
- checking whether the package can be loaded ... [1s/1s] OK
- checking whether the package can be loaded with stated dependencies ... [1s/1s] OK
- checking whether the package can be unloaded cleanly ... [1s/1s] OK
- checking whether the namespace can be loaded with stated dependencies ... [1s/1s] OK
- checking whether the namespace can be unloaded cleanly ... [1s/2s] OK
- checking loading without being on the library search path ... [1s/1s] OK
- checking whether startup messages can be suppressed ... [1s/1s] OK
- checking use of S3 registration ... OK
- checking dependencies in R code ... OK
- checking S3 generic/method consistency ... OK
- checking replacement functions ... OK
- checking foreign function calls ... OK
- checking R code for possible problems ... [36s/45s] OK
- checking Rd files ... [1s/1s] OK
- checking Rd metadata ... OK
- checking Rd line widths ... OK
- checking Rd cross-references ... OK
- checking for missing documentation entries ... OK
- checking for code/documentation mismatches ... OK
- checking Rd \usage sections ... OK
- checking Rd contents ... OK
- checking for unstated dependencies in examples ... OK
- checking line endings in C/C++/Fortran sources/headers ... OK
- checking line endings in Makefiles ... OK
- checking compilation flags in Makevars ... OK
- checking for GNU extensions in Makefiles ... OK
- checking for portable use of $(BLAS_LIBS) and $(LAPACK_LIBS) ... OK
- checking use of PKG_*FLAGS in Makefiles ... OK
- checking use of SHLIB_OPENMP_*FLAGS in Makefiles ... OK
- checking pragmas in C/C++ headers and code ... OK
- checking compilation flags used ... OK
- checking compiled code ... OK
- checking installed files from ‘inst/doc’ ... OK
- checking files in ‘vignettes’ ... OK
- checking examples ... [4s/4s] OK
- checking for unstated dependencies in vignettes ... OK
- checking package vignettes ... OK
- checking re-building of vignette outputs ... [18s/28s] OK
- checking PDF version of manual ... [9s/13s] OK
- checking HTML version of manual ... [4s/7s] NOTE
Found the following HTML validation problems:
00memisc.html:357:1 (00memisc.Rd:224): Warning: missing </ul> before </div>
Write.html:59:1 (Write.Rd:19): Warning: missing </ul> before </div>
memisc-deprecated.html:85:1 (memisc-deprecated.Rd:36): Warning: missing </ul> before </div>
stats-conveniences.html:81:1 (stats-conveniences.Rd:36): Warning: missing </ul> before </div>
- checking for non-standard things in the check directory ... OK
- DONE
Status: 2 NOTEs