* using log directory ‘/home/hornik/tmp/R.check/r-devel-gcc/Work/PKGS/mapdata.Rcheck’ * using R Under development (unstable) (2025-07-14 r88410) * using platform: x86_64-pc-linux-gnu * R was compiled by gcc-14 (Debian 14.2.0-19) 14.2.0 GNU Fortran (Debian 14.2.0-19) 14.2.0 * running under: Debian GNU/Linux 13 (trixie) * using session charset: UTF-8 * checking for file ‘mapdata/DESCRIPTION’ ... OK * this is package ‘mapdata’ version ‘2.3.1’ * checking CRAN incoming feasibility ... [0s/0s] NOTE Maintainer: ‘Alex Deckmyn ’ No Authors@R field in DESCRIPTION. Please add one, modifying Authors@R: c(person(given = c("Original", "S", "code", "by", "Richard", "A."), family = "Becker", role = "aut"), person(given = c("Allan", "R.", "Wilks.", "R", "version", "by", "Ray"), family = "Brownrigg.", role = "aut", email = "Ray.Brownrigg@ecs.vuw.ac.nz"), person(given = "Alex", family = "Deckmyn", role = "cre", email = "alex.deckmyn@meteo.be")) as necessary. * checking package namespace information ... OK * checking package dependencies ... OK * checking if this is a source package ... OK * checking if there is a namespace ... OK * checking for executable files ... OK * checking for hidden files and directories ... OK * checking for portable file names ... OK * checking for sufficient/correct file permissions ... OK * checking serialization versions ... OK * checking whether package ‘mapdata’ can be installed ... OK See 'https://www.r-project.org/nosvn/R.check/r-devel-linux-x86_64-debian-gcc/mapdata-00install.html' for details. * checking package directory ... OK * checking for future file timestamps ... OK * checking DESCRIPTION meta-information ... OK * checking top-level files ... OK * checking for left-over files ... OK * checking index information ... OK * checking package subdirectories ... OK * checking code files for non-ASCII characters ... OK * checking R files for syntax errors ... OK * checking whether the package can be loaded ... [0s/0s] OK * checking whether the package can be loaded with stated dependencies ... [0s/0s] OK * checking whether the package can be unloaded cleanly ... [0s/0s] OK * checking whether the namespace can be loaded with stated dependencies ... [0s/0s] OK * checking whether the namespace can be unloaded cleanly ... [0s/0s] OK * checking loading without being on the library search path ... [0s/0s] OK * checking whether startup messages can be suppressed ... [0s/0s] OK * checking use of S3 registration ... OK * checking dependencies in R code ... OK * checking S3 generic/method consistency ... OK * checking replacement functions ... OK * checking foreign function calls ... OK * checking R code for possible problems ... [2s/4s] OK * checking Rd files ... [0s/0s] OK * checking Rd metadata ... OK * checking Rd line widths ... OK * checking Rd cross-references ... OK * checking for missing documentation entries ... OK * checking for code/documentation mismatches ... OK * checking Rd \usage sections ... OK * checking Rd contents ... OK * checking for unstated dependencies in examples ... OK * checking contents of ‘data’ directory ... OK * checking data for non-ASCII characters ... [0s/0s] OK * checking LazyData ... OK * checking data for ASCII and uncompressed saves ... OK * checking line endings in shell scripts ... OK * checking line endings in C/C++/Fortran sources/headers ... OK * checking line endings in Makefiles ... OK * checking for GNU extensions in Makefiles ... OK * checking for portable use of $(BLAS_LIBS) and $(LAPACK_LIBS) ... OK * checking use of PKG_*FLAGS in Makefiles ... OK * checking use of SHLIB_OPENMP_*FLAGS in Makefiles ... OK * checking include directives in Makefiles ... OK * checking pragmas in C/C++ headers and code ... OK * checking compilation flags used ... OK * checking compiled code ... OK * checking examples ... [1s/1s] OK * checking PDF version of manual ... [3s/5s] OK * checking HTML version of manual ... [0s/0s] OK * checking for non-standard things in the check directory ... OK * DONE Status: 1 NOTE