* using log directory ‘/home/hornik/tmp/R.check/r-devel-gcc/Work/PKGS/lsirm12pl.Rcheck’ * using R Under development (unstable) (2025-07-15 r88411) * using platform: x86_64-pc-linux-gnu * R was compiled by gcc-14 (Debian 14.2.0-19) 14.2.0 GNU Fortran (Debian 14.2.0-19) 14.2.0 * running under: Debian GNU/Linux 13 (trixie) * using session charset: UTF-8 * checking for file ‘lsirm12pl/DESCRIPTION’ ... OK * checking extension type ... Package * this is package ‘lsirm12pl’ version ‘1.3.5’ * package encoding: UTF-8 * checking CRAN incoming feasibility ... [1s/1s] OK * checking package namespace information ... OK * checking package dependencies ... OK * checking if this is a source package ... OK * checking if there is a namespace ... OK * checking for executable files ... OK * checking for hidden files and directories ... OK * checking for portable file names ... OK * checking for sufficient/correct file permissions ... OK * checking serialization versions ... OK * checking whether package ‘lsirm12pl’ can be installed ... OK See 'https://www.r-project.org/nosvn/R.check/r-devel-linux-x86_64-debian-gcc/lsirm12pl-00install.html' for details. * used C++ compiler: ‘g++-14 (Debian 14.2.0-19) 14.2.0’ * checking package directory ... OK * checking for future file timestamps ... OK * checking DESCRIPTION meta-information ... OK * checking top-level files ... OK * checking for left-over files ... OK * checking index information ... OK * checking package subdirectories ... OK * checking code files for non-ASCII characters ... OK * checking R files for syntax errors ... OK * checking whether the package can be loaded ... [4s/5s] OK * checking whether the package can be loaded with stated dependencies ... [4s/5s] OK * checking whether the package can be unloaded cleanly ... [4s/5s] OK * checking whether the namespace can be loaded with stated dependencies ... [4s/5s] OK * checking whether the namespace can be unloaded cleanly ... [4s/5s] OK * checking loading without being on the library search path ... [4s/5s] OK * checking use of S3 registration ... OK * checking dependencies in R code ... OK * checking S3 generic/method consistency ... OK * checking replacement functions ... OK * checking foreign function calls ... OK * checking R code for possible problems ... [37s/44s] OK * checking Rd files ... [1s/1s] OK * checking Rd metadata ... OK * checking Rd line widths ... OK * checking Rd cross-references ... OK * checking for missing documentation entries ... OK * checking for code/documentation mismatches ... OK * checking Rd \usage sections ... OK * checking Rd contents ... OK * checking for unstated dependencies in examples ... OK * checking contents of ‘data’ directory ... OK * checking data for non-ASCII characters ... [0s/0s] OK * checking LazyData ... OK * checking data for ASCII and uncompressed saves ... OK * checking line endings in C/C++/Fortran sources/headers ... OK * checking line endings in Makefiles ... OK * checking compilation flags in Makevars ... OK * checking for GNU extensions in Makefiles ... OK * checking for portable use of $(BLAS_LIBS) and $(LAPACK_LIBS) ... OK * checking use of PKG_*FLAGS in Makefiles ... OK * checking use of SHLIB_OPENMP_*FLAGS in Makefiles ... OK * checking pragmas in C/C++ headers and code ... OK * checking compilation flags used ... OK * checking compiled code ... OK * checking examples ... [83s/101s] OK Examples with CPU (user + system) or elapsed time > 5s user system elapsed lsirm1pl_normal_fixed_gamma_mar 3.083 1.778 6.864 lsirm2pl_normal_mcar 2.897 1.815 6.680 lsirm1pl_normal_fixed_gamma 2.602 2.099 5.750 lsirm1pl_normal_mar_ss 3.057 1.596 5.444 lsirm2pl_normal_fixed_gamma_mcar 2.913 1.639 5.573 lsirm2pl_normal_mar 2.899 1.622 5.980 lsirm2pl_normal_mar_ss 2.787 1.644 5.538 lsirm1pl_normal_ss 2.689 1.692 5.229 lsirm2pl_normal_fixed_gamma_mar 2.670 1.664 5.140 lsirm2pl_normal_ss 2.690 1.545 5.603 lsirm2pl_normal_mcar_ss 2.709 1.475 5.274 lsirm2pl_normal_o 2.704 1.422 5.250 * checking PDF version of manual ... [7s/9s] OK * checking HTML version of manual ... [4s/7s] OK * checking for non-standard things in the check directory ... OK * DONE Status: OK