- using R Under development (unstable) (2025-10-25 r88970)
- using platform: x86_64-pc-linux-gnu
- R was compiled by
gcc-15 (Debian 15.2.0-4) 15.2.0
GNU Fortran (Debian 15.2.0-4) 15.2.0
- running under: Debian GNU/Linux forky/sid
- using session charset: UTF-8
- checking for file ‘lsirm12pl/DESCRIPTION’ ... OK
- checking extension type ... Package
- this is package ‘lsirm12pl’ version ‘1.3.9’
- package encoding: UTF-8
- checking CRAN incoming feasibility ... [1s/1s] OK
- checking package namespace information ... OK
- checking package dependencies ... OK
- checking if this is a source package ... OK
- checking if there is a namespace ... OK
- checking for executable files ... OK
- checking for hidden files and directories ... OK
- checking for portable file names ... OK
- checking for sufficient/correct file permissions ... OK
- checking serialization versions ... OK
- checking whether package ‘lsirm12pl’ can be installed ... OK
See the install log for details.
- used C++ compiler: ‘g++-15 (Debian 15.2.0-4) 15.2.0’
- checking package directory ... OK
- checking for future file timestamps ... OK
- checking DESCRIPTION meta-information ... OK
- checking top-level files ... OK
- checking for left-over files ... OK
- checking index information ... OK
- checking package subdirectories ... OK
- checking code files for non-ASCII characters ... OK
- checking R files for syntax errors ... OK
- checking whether the package can be loaded ... [5s/6s] OK
- checking whether the package can be loaded with stated dependencies ... [4s/5s] OK
- checking whether the package can be unloaded cleanly ... [4s/5s] OK
- checking whether the namespace can be loaded with stated dependencies ... [4s/5s] OK
- checking whether the namespace can be unloaded cleanly ... [4s/5s] OK
- checking loading without being on the library search path ... [4s/5s] OK
- checking use of S3 registration ... OK
- checking dependencies in R code ... OK
- checking S3 generic/method consistency ... OK
- checking replacement functions ... OK
- checking foreign function calls ... OK
- checking R code for possible problems ... [37s/43s] OK
- checking Rd files ... [1s/1s] OK
- checking Rd metadata ... OK
- checking Rd line widths ... OK
- checking Rd cross-references ... OK
- checking for missing documentation entries ... OK
- checking for code/documentation mismatches ... OK
- checking Rd \usage sections ... OK
- checking Rd contents ... OK
- checking for unstated dependencies in examples ... OK
- checking contents of ‘data’ directory ... OK
- checking data for non-ASCII characters ... [0s/0s] OK
- checking LazyData ... OK
- checking data for ASCII and uncompressed saves ... OK
- checking line endings in C/C++/Fortran sources/headers ... OK
- checking line endings in Makefiles ... OK
- checking compilation flags in Makevars ... OK
- checking for GNU extensions in Makefiles ... OK
- checking for portable use of $(BLAS_LIBS) and $(LAPACK_LIBS) ... OK
- checking use of PKG_*FLAGS in Makefiles ... OK
- checking use of SHLIB_OPENMP_*FLAGS in Makefiles ... OK
- checking pragmas in C/C++ headers and code ... OK
- checking compilation flags used ... OK
- checking compiled code ... OK
- checking examples ... [82s/105s] OK
Examples with CPU (user + system) or elapsed time > 5s
user system elapsed
lsirm2pl_normal_mar_ss 3.218 1.694 7.455
lsirm1pl_normal_fixed_gamma 2.849 1.717 5.547
lsirm2pl_normal_mcar_ss 2.831 1.699 6.075
lsirm1pl_normal_mcar 2.881 1.585 5.234
lsirm1pl_normal_fixed_gamma_mcar 2.796 1.583 5.315
lsirm2pl_normal_mar 2.791 1.527 5.832
lsirm2pl_normal_o 2.608 1.694 5.496
lsirm2pl_normal_mcar 2.622 1.654 5.396
lsirm2pl_normal_fixed_gamma_mar 2.638 1.604 5.299
lsirm1pl_normal_fixed_gamma_mar 2.755 1.485 5.756
lsirm2pl_normal_fixed_gamma 2.576 1.663 5.659
lsirm1pl_normal_mar 2.655 1.546 6.054
lsirm2pl_normal_ss 2.587 1.579 5.535
lsirm1pl_normal_ss 2.463 1.498 5.979
- checking PDF version of manual ... [9s/12s] OK
- checking HTML version of manual ... [4s/6s] OK
- checking for non-standard things in the check directory ... OK
- DONE
Status: OK