- using R Under development (unstable) (2025-10-20 r88955)
- using platform: x86_64-pc-linux-gnu
- R was compiled by
gcc-15 (Debian 15.2.0-4) 15.2.0
GNU Fortran (Debian 15.2.0-4) 15.2.0
- running under: Debian GNU/Linux forky/sid
- using session charset: UTF-8
- checking for file ‘limonaid/DESCRIPTION’ ... OK
- this is package ‘limonaid’ version ‘25.5.5’
- package encoding: UTF-8
- checking CRAN incoming feasibility ... [1s/1s] OK
- checking package namespace information ... OK
- checking package dependencies ... OK
- checking if this is a source package ... OK
- checking if there is a namespace ... OK
- checking for executable files ... OK
- checking for hidden files and directories ... OK
- checking for portable file names ... OK
- checking for sufficient/correct file permissions ... OK
- checking whether package ‘limonaid’ can be installed ... OK
See the install log for details.
- checking package directory ... OK
- checking for future file timestamps ... OK
- checking ‘build’ directory ... OK
- checking DESCRIPTION meta-information ... OK
- checking top-level files ... OK
- checking for left-over files ... OK
- checking index information ... OK
- checking package subdirectories ... OK
- checking code files for non-ASCII characters ... OK
- checking R files for syntax errors ... OK
- checking whether the package can be loaded ... [0s/0s] OK
- checking whether the package can be loaded with stated dependencies ... [0s/0s] OK
- checking whether the package can be unloaded cleanly ... [0s/0s] OK
- checking whether the namespace can be loaded with stated dependencies ... [0s/0s] OK
- checking whether the namespace can be unloaded cleanly ... [0s/0s] OK
- checking loading without being on the library search path ... [0s/0s] OK
- checking use of S3 registration ... OK
- checking dependencies in R code ... OK
- checking S3 generic/method consistency ... OK
- checking replacement functions ... OK
- checking foreign function calls ... OK
- checking R code for possible problems ... [5s/7s] OK
- checking Rd files ... [0s/0s] OK
- checking Rd metadata ... OK
- checking Rd line widths ... OK
- checking Rd cross-references ... OK
- checking for missing documentation entries ... OK
- checking for code/documentation mismatches ... OK
- checking Rd \usage sections ... OK
- checking Rd contents ... OK
- checking for unstated dependencies in examples ... OK
- checking installed files from ‘inst/doc’ ... OK
- checking files in ‘vignettes’ ... OK
- checking examples ... [3s/3s] OK
- checking for unstated dependencies in ‘tests’ ... OK
- checking tests ... [2s/4s] OK
Running ‘testthat.R’ [2s/4s]
- checking for unstated dependencies in vignettes ... OK
- checking package vignettes ... OK
- checking re-building of vignette outputs ... [1s/2s] OK
- checking PDF version of manual ... [6s/8s] OK
- checking HTML version of manual ... [2s/3s] NOTE
Found the following HTML validation problems:
Group.html:195:1 (Group.Rd:160): Warning: <h5> anchor "Usage" already defined
Group.html:207:1 (Group.Rd:170): Warning: <h5> anchor "Arguments" already defined
Group.html:230:1 (Group.Rd:187): Warning: <h5> anchor "Returns" already defined
Group.html:250:1 (Group.Rd:199): Warning: <h5> anchor "Usage" already defined
Group.html:262:1 (Group.Rd:209): Warning: <h5> anchor "Arguments" already defined
Group.html:286:1 (Group.Rd:227): Warning: <h5> anchor "Returns" already defined
Group.html:303:1 (Group.Rd:236): Warning: <h5> anchor "Usage" already defined
Group.html:309:1 (Group.Rd:240): Warning: <h5> anchor "Arguments" already defined
Question.html:779:1 (Question.Rd:502): Warning: missing </ul> before </div>
Question.html:385:1 (Question.Rd:248): Warning: <h5> anchor "Usage" already defined
Question.html:398:1 (Question.Rd:259): Warning: <h5> anchor "Arguments" already defined
Question.html:423:1 (Question.Rd:278): Warning: <h5> anchor "Returns" already defined
Question.html:443:1 (Question.Rd:290): Warning: <h5> anchor "Usage" already defined
Question.html:460:1 (Question.Rd:305): Warning: <h5> anchor "Arguments" already defined
Question.html:501:1 (Question.Rd:340): Warning: <h5> anchor "Returns" already defined
Question.html:518:1 (Question.Rd:349): Warning: <h5> anchor "Usage" already defined
Question.html:524:1 (Question.Rd:353): Warning: <h5> anchor "Arguments" already defined
Question.html:537:1 (Question.Rd:360): Warning: <h5> anchor "Returns" already defined
Question.html:554:1 (Question.Rd:369): Warning: <h5> anchor "Usage" already defined
Question.html:563:1 (Question.Rd:376): Warning: <h5> anchor "Arguments" already defined
Question.html:579:1 (Question.Rd:386): Warning: <h5> anchor "Returns" already defined
Question.html:596:1 (Question.Rd:395): Warning: <h5> anchor "Usage" already defined
Question.html:605:1 (Question.Rd:402): Warning: <h5> anchor "Arguments" already defined
Question.html:620:1 (Question.Rd:411): Warning: <h5> anchor "Returns" already defined
Question.html:637:1 (Question.Rd:420): Warning: <h5> anchor "Usage" already defined
Question.html:646:1 (Question.Rd:427): Warning: <h5> anchor "Arguments" already defined
Question.html:662:1 (Question.Rd:437): Warning: <h5> anchor "Returns" already defined
Question.html:679:1 (Question.Rd:446): Warning: <h5> anchor "Usage" already defined
Question.html:688:1 (Question.Rd:453): Warning: <h5> anchor "Arguments" already defined
Question.html:703:1 (Question.Rd:462): Warning: <h5> anchor "Returns" already defined
Question.html:720:1 (Question.Rd:471): Warning: <h5> anchor "Usage" already defined
Question.html:726:1 (Question.Rd:475): Warning: <h5> anchor "Arguments" already defined
Question.html:739:1 (Question.Rd:482): Warning: <h5> anchor "Returns" already defined
Question.html:756:1 (Question.Rd:491): Warning: <h5> anchor "Usage" already defined
Question.html:762:1 (Question.Rd:495): Warning: <h5> anchor "Arguments" already defined
Survey.html:701:1 (Survey.Rd:555): Warning: missing </ul> before </div>
Survey.html:492:1 (Survey.Rd:422): Warning: <h5> anchor "Usage" already defined
Survey.html:498:1 (Survey.Rd:426): Warning: <h5> anchor "Arguments" already defined
Survey.html:523:1 (Survey.Rd:445): Warning: <h5> anchor "Returns" already defined
Survey.html:540:1 (Survey.Rd:454): Warning: <h5> anchor "Usage" already defined
Survey.html:546:1 (Survey.Rd:458): Warning: <h5> anchor "Arguments" already defined
Survey.html:568:1 (Survey.Rd:474): Warning: <h5> anchor "Returns" already defined
Survey.html:586:1 (Survey.Rd:484): Warning: <h5> anchor "Usage" already defined
Survey.html:599:1 (Survey.Rd:495): Warning: <h5> anchor "Arguments" already defined
Survey.html:623:1 (Survey.Rd:513): Warning: <h5> anchor "Returns" already defined
Survey.html:640:1 (Survey.Rd:522): Warning: <h5> anchor "Usage" already defined
Survey.html:646:1 (Survey.Rd:526): Warning: <h5> anchor "Arguments" already defined
Survey.html:661:1 (Survey.Rd:535): Warning: <h5> anchor "Returns" already defined
Survey.html:678:1 (Survey.Rd:544): Warning: <h5> anchor "Usage" already defined
Survey.html:684:1 (Survey.Rd:548): Warning: <h5> anchor "Arguments" already defined
- checking for non-standard things in the check directory ... OK
- DONE
Status: 1 NOTE