* using log directory ‘/home/hornik/tmp/R.check/r-devel-gcc/Work/PKGS/likelihoodR.Rcheck’ * using R Under development (unstable) (2025-07-15 r88411) * using platform: x86_64-pc-linux-gnu * R was compiled by gcc-14 (Debian 14.2.0-19) 14.2.0 GNU Fortran (Debian 14.2.0-19) 14.2.0 * running under: Debian GNU/Linux 13 (trixie) * using session charset: UTF-8 * checking for file ‘likelihoodR/DESCRIPTION’ ... OK * this is package ‘likelihoodR’ version ‘1.1.5’ * package encoding: UTF-8 * checking CRAN incoming feasibility ... [0s/1s] NOTE Maintainer: ‘Peter Cahusac ’ Found the following \keyword or \concept entries which likely give several index terms: File ‘L_1way_ANOVA.Rd’: \keyword{ANOVA;} \keyword{Likelihood;} \keyword{support;} File ‘L_1way_RM_ANOVA.Rd’: \keyword{Likelihood;} \keyword{support;} File ‘L_1way_cat.Rd’: \keyword{Likelihood-based;} \keyword{binomial;} File ‘L_2S_ttest.Rd’: \keyword{Likelihood;} \keyword{support;} \keyword{test;} File ‘L_2way_Factorial_ANOVA.Rd’: \keyword{ANOVA;} \keyword{Likelihood;} \keyword{support;} File ‘L_2way_cat.Rd’: \keyword{Likelihood-based;} File ‘L_OR.Rd’: \keyword{Likelihood;} \keyword{interval;} \keyword{ratio;} \keyword{support;} File ‘L_RR.Rd’: \keyword{Likelihood;} \keyword{interval;} \keyword{risk;} \keyword{support;} File ‘L_corr.Rd’: \keyword{Likelihood;} \keyword{correlation;} \keyword{support;} File ‘L_efficacy.Rd’: \keyword{efficacy;} \keyword{interval;} \keyword{support;} File ‘L_logistic_regress.Rd’: \keyword{Likelihood;} \keyword{support;} File ‘L_regress.Rd’: \keyword{Likelihood;} \keyword{linear;} \keyword{quadratic;} \keyword{regression;} \keyword{support;} File ‘L_t_test_sample_size.Rd’: \keyword{Likelihood;} \keyword{evidence;} \keyword{size;} \keyword{test;} File ‘L_ttest.Rd’: \keyword{Likelihood;} \keyword{support;} \keyword{test;} * checking package namespace information ... OK * checking package dependencies ... OK * checking if this is a source package ... OK * checking if there is a namespace ... OK * checking for executable files ... OK * checking for hidden files and directories ... OK * checking for portable file names ... OK * checking for sufficient/correct file permissions ... OK * checking serialization versions ... OK * checking whether package ‘likelihoodR’ can be installed ... OK See 'https://www.r-project.org/nosvn/R.check/r-devel-linux-x86_64-debian-gcc/likelihoodR-00install.html' for details. * checking package directory ... OK * checking for future file timestamps ... OK * checking DESCRIPTION meta-information ... OK * checking top-level files ... OK * checking for left-over files ... OK * checking index information ... OK * checking package subdirectories ... OK * checking code files for non-ASCII characters ... OK * checking R files for syntax errors ... OK * checking whether the package can be loaded ... [2s/2s] OK * checking whether the package can be loaded with stated dependencies ... [2s/2s] OK * checking whether the package can be unloaded cleanly ... [1s/2s] OK * checking whether the namespace can be loaded with stated dependencies ... [1s/2s] OK * checking whether the namespace can be unloaded cleanly ... [2s/2s] OK * checking loading without being on the library search path ... [2s/2s] OK * checking use of S3 registration ... OK * checking dependencies in R code ... OK * checking S3 generic/method consistency ... OK * checking replacement functions ... OK * checking foreign function calls ... OK * checking R code for possible problems ... [12s/15s] OK * checking Rd files ... [0s/0s] OK * checking Rd metadata ... OK * checking Rd line widths ... OK * checking Rd cross-references ... OK * checking for missing documentation entries ... OK * checking for code/documentation mismatches ... OK * checking Rd \usage sections ... OK * checking Rd contents ... OK * checking for unstated dependencies in examples ... OK * checking examples ... [2s/3s] OK * checking PDF version of manual ... [4s/6s] OK * checking HTML version of manual ... [0s/1s] OK * checking for non-standard things in the check directory ... OK * DONE Status: 1 NOTE