- using R Under development (unstable) (2019-12-13 r77566)
- using platform: x86_64-pc-linux-gnu (64-bit)
- using session charset: UTF-8
- checking for file ‘learnstats/DESCRIPTION’ ... OK
- checking extension type ... Package
- this is package ‘learnstats’ version ‘0.1.1’
- checking package namespace information ... OK
- checking package dependencies ... OK
- checking if this is a source package ... OK
- checking if there is a namespace ... OK
- checking for executable files ... OK
- checking for hidden files and directories ... OK
- checking for portable file names ... OK
- checking for sufficient/correct file permissions ... OK
- checking serialization versions ... OK
- checking whether package ‘learnstats’ can be installed ... OK
- checking package directory ... OK
- checking for future file timestamps ... OK
- checking DESCRIPTION meta-information ... OK
- checking top-level files ... OK
- checking for left-over files ... OK
- checking index information ... OK
- checking package subdirectories ... OK
- checking R files for non-ASCII characters ... OK
- checking R files for syntax errors ... OK
- checking whether the package can be loaded ... OK
- checking whether the package can be loaded with stated dependencies ... OK
- checking whether the package can be unloaded cleanly ... OK
- checking whether the namespace can be loaded with stated dependencies ... OK
- checking whether the namespace can be unloaded cleanly ... OK
- checking loading without being on the library search path ... OK
- checking use of S3 registration ... OK
- checking dependencies in R code ... OK
- checking S3 generic/method consistency ... OK
- checking replacement functions ... OK
- checking foreign function calls ... OK
- checking R code for possible problems ... [16s/29s] NOTE
prob: no visible global function definition for ‘pnorm’
prob: no visible global function definition for ‘dnorm’
prob: no visible global function definition for ‘plot’
prob : <anonymous>: no visible global function definition for ‘dnorm’
prob: no visible global function definition for ‘axis’
prob: no visible global function definition for ‘polygon’
prob: no visible global function definition for ‘legend’
prob: no visible global function definition for ‘jpeg’
prob: no visible global function definition for ‘dev.off’
pval: no visible global function definition for ‘qt’
pval: no visible global function definition for ‘pt’
pval : dl: no visible global function definition for ‘dt’
pval: no visible global function definition for ‘pnorm’
pval : dl: no visible global function definition for ‘dnorm’
pval: no visible global function definition for ‘plot’
pval: no visible global function definition for ‘polygon’
pval: no visible global function definition for ‘axis’
pval: no visible global function definition for ‘segments’
pval: no visible global function definition for ‘legend’
pval: no visible global function definition for ‘jpeg’
pval: no visible global function definition for ‘title’
pval: no visible global function definition for ‘dev.off’
pval: no visible global function definition for ‘qchisq’
pval: no visible global function definition for ‘pchisq’
pval : dl: no visible global function definition for ‘dchisq’
pval: no visible global function definition for ‘qf’
pval: no visible global function definition for ‘pf’
qqsim: no visible global function definition for ‘rnorm’
qqsim: no visible global function definition for ‘runif’
qqsim: no visible global function definition for ‘rchisq’
qqsim: no visible global function definition for ‘rt’
qqsim: no visible global function definition for ‘par’
qqsim: no visible global function definition for ‘qqnorm’
qqsim: no visible global function definition for ‘qqline’
qqsim: no visible global function definition for ‘hist’
qqsim: no visible global function definition for ‘mtext’
qqsim: no visible global function definition for ‘jpeg’
qqsim: no visible global function definition for ‘dev.off’
timeseressim: no visible global function definition for ‘rnorm’
timeseressim: no visible global function definition for ‘par’
timeseressim: no visible global function definition for ‘plot’
timeseressim: no visible global function definition for ‘mtext’
timeseressim: no visible global function definition for ‘jpeg’
timeseressim: no visible global function definition for ‘dev.off’
Undefined global functions or variables:
axis dchisq dev.off dnorm dt hist jpeg legend mtext par pchisq pf
plot pnorm polygon pt qchisq qf qqline qqnorm qt rchisq rnorm rt
runif segments title
Consider adding
importFrom("grDevices", "dev.off", "jpeg")
importFrom("graphics", "axis", "hist", "legend", "mtext", "par",
"plot", "polygon", "segments", "title")
importFrom("stats", "dchisq", "dnorm", "dt", "pchisq", "pf", "pnorm",
"pt", "qchisq", "qf", "qqline", "qqnorm", "qt", "rchisq",
"rnorm", "rt", "runif")
to your NAMESPACE file.
- checking Rd files ... OK
- checking Rd metadata ... OK
- checking Rd line widths ... OK
- checking Rd cross-references ... OK
- checking for missing documentation entries ... OK
- checking for code/documentation mismatches ... OK
- checking Rd \usage sections ... OK
- checking Rd contents ... OK
- checking for unstated dependencies in examples ... OK
- checking examples ... [4s/6s] OK
- checking PDF version of manual ... OK
- checking for non-standard things in the check directory ... OK
- DONE
Status: 1 NOTE