- using R Under development (unstable) (2025-10-19 r88945)
- using platform: x86_64-pc-linux-gnu
- R was compiled by
gcc-15 (Debian 15.2.0-4) 15.2.0
GNU Fortran (Debian 15.2.0-4) 15.2.0
- running under: Debian GNU/Linux forky/sid
- using session charset: UTF-8
- checking for file ‘latrend/DESCRIPTION’ ... OK
- checking extension type ... Package
- this is package ‘latrend’ version ‘1.6.2’
- package encoding: UTF-8
- checking CRAN incoming feasibility ... [2s/3s] OK
- checking package namespace information ... OK
- checking package dependencies ... OK
- checking if this is a source package ... OK
- checking if there is a namespace ... OK
- checking for executable files ... OK
- checking for hidden files and directories ... OK
- checking for portable file names ... OK
- checking for sufficient/correct file permissions ... OK
- checking whether package ‘latrend’ can be installed ... OK
See the install log for details.
- checking package directory ... OK
- checking for future file timestamps ... OK
- checking ‘build’ directory ... OK
- checking DESCRIPTION meta-information ... OK
- checking top-level files ... OK
- checking for left-over files ... OK
- checking index information ... OK
- checking package subdirectories ... OK
- checking code files for non-ASCII characters ... OK
- checking R files for syntax errors ... OK
- checking whether the package can be loaded ... [1s/1s] OK
- checking whether the package can be loaded with stated dependencies ... [1s/1s] OK
- checking whether the package can be unloaded cleanly ... [1s/1s] OK
- checking whether the namespace can be loaded with stated dependencies ... [1s/1s] OK
- checking whether the namespace can be unloaded cleanly ... [1s/1s] OK
- checking loading without being on the library search path ... [1s/1s] OK
- checking whether startup messages can be suppressed ... [1s/1s] OK
- checking use of S3 registration ... OK
- checking dependencies in R code ... OK
- checking S3 generic/method consistency ... OK
- checking replacement functions ... OK
- checking foreign function calls ... OK
- checking R code for possible problems ... [15s/20s] OK
- checking Rd files ... [3s/4s] OK
- checking Rd metadata ... OK
- checking Rd line widths ... OK
- checking Rd cross-references ... OK
- checking for missing documentation entries ... OK
- checking for code/documentation mismatches ... OK
- checking Rd \usage sections ... OK
- checking Rd contents ... OK
- checking for unstated dependencies in examples ... OK
- checking contents of ‘data’ directory ... OK
- checking data for non-ASCII characters ... [0s/0s] OK
- checking LazyData ... OK
- checking data for ASCII and uncompressed saves ... OK
- checking installed files from ‘inst/doc’ ... OK
- checking files in ‘vignettes’ ... OK
- checking examples ... [61s/69s] OK
- checking for unstated dependencies in ‘tests’ ... OK
- checking tests ... [65s/74s] OK
Running ‘testthat.R’ [65s/74s]
- checking for unstated dependencies in vignettes ... OK
- checking package vignettes ... OK
- checking re-building of vignette outputs ... [63s/71s] OK
- checking PDF version of manual ... [14s/16s] OK
- checking HTML version of manual ... [7s/11s] NOTE
Found the following HTML validation problems:
assert.html:111:1 (assert.Rd:51): Warning: missing </ul> before </div>
dot-guessResponseVariable.html:63:1 (dot-guessResponseVariable.Rd:21): Warning: missing </ul> before </div>
dot-trajSubset.html:54:1 (dot-trajSubset.Rd:14): Warning: missing </ul> before </div>
interface-metaMethods.html:119:1 (interface-metaMethods.Rd:74): Warning: missing </ul> before </div>
isArgDefined.html:54:1 (isArgDefined.Rd:14): Warning: missing </ul> before </div>
lcApproxModel-class.html:83:1 (lcApproxModel-class.Rd:35): Warning: missing </ul> before </div>
lcMatrixMethod-class.html:69:1 (lcMatrixMethod-class.Rd:26): Warning: missing </ul> before </div>
lcModelWeightedPartition.html:78:1 (lcModelWeightedPartition.Rd:30): Warning: missing </ul> before </div>
meanNA.html:53:1 (meanNA.Rd:15): Warning: missing </ul> before </div>
model.data.html:50:1 (model.data.Rd:12): Warning: missing </ul> before </div>
plot-lcModels-method.html:64:1 (plot-lcModels-method.Rd:21): Warning: missing </ul> before </div>
postProbFromObs.html:50:1 (postProbFromObs.Rd:12): Warning: missing </ul> before </div>
postprobFromAssignments.html:50:1 (postprobFromAssignments.Rd:12): Warning: missing </ul> before </div>
print.lcMethod.html:63:1 (print.lcMethod.Rd:18): Warning: missing </ul> before </div>
summary.lcModel.html:51:1 (summary.lcModel.Rd:12): Warning: missing </ul> before </div>
weighted.meanNA.html:56:1 (weighted.meanNA.Rd:16): Warning: missing </ul> before </div>
- checking for non-standard things in the check directory ... OK
- DONE
Status: 1 NOTE