- using R Under development (unstable) (2022-08-06 r82693)
- using platform: x86_64-pc-linux-gnu (64-bit)
- using session charset: UTF-8
- checking for file ‘katex/DESCRIPTION’ ... OK
- checking extension type ... Package
- this is package ‘katex’ version ‘1.4.0’
- package encoding: UTF-8
- checking package namespace information ... OK
- checking package dependencies ... OK
- checking if this is a source package ... OK
- checking if there is a namespace ... OK
- checking for executable files ... OK
- checking for hidden files and directories ... OK
- checking for portable file names ... OK
- checking for sufficient/correct file permissions ... OK
- checking serialization versions ... OK
- checking whether package ‘katex’ can be installed ... OK
- checking package directory ... OK
- checking for future file timestamps ... OK
- checking ‘build’ directory ... OK
- checking DESCRIPTION meta-information ... OK
- checking top-level files ... OK
- checking for left-over files ... OK
- checking index information ... OK
- checking package subdirectories ... OK
- checking R files for non-ASCII characters ... OK
- checking R files for syntax errors ... OK
- checking whether the package can be loaded ... OK
- checking whether the package can be loaded with stated dependencies ... OK
- checking whether the package can be unloaded cleanly ... OK
- checking whether the namespace can be loaded with stated dependencies ... OK
- checking whether the namespace can be unloaded cleanly ... OK
- checking loading without being on the library search path ... OK
- checking use of S3 registration ... OK
- checking dependencies in R code ... OK
- checking S3 generic/method consistency ... OK
- checking replacement functions ... OK
- checking foreign function calls ... OK
- checking R code for possible problems ... [4s/7s] OK
- checking Rd files ... [1s/1s] OK
- checking Rd metadata ... OK
- checking Rd line widths ... OK
- checking Rd cross-references ... OK
- checking for missing documentation entries ... OK
- checking for code/documentation mismatches ... OK
- checking Rd \usage sections ... OK
- checking Rd contents ... OK
- checking for unstated dependencies in examples ... OK
- checking installed files from ‘inst/doc’ ... OK
- checking files in ‘vignettes’ ... OK
- checking examples ... [1s/1s] OK
- checking for unstated dependencies in vignettes ... OK
- checking package vignettes in ‘inst/doc’ ... OK
- checking re-building of vignette outputs ... [2s/4s] OK
- checking PDF version of manual ... OK
- checking HTML version of manual ... NOTE
Found the following HTML validation problems:
math_to_rd.html:81:2153: Warning: <svg> attribute "width" has invalid value "400em"
math_to_rd.html:81:2153: Warning: <svg> attribute "height" has invalid value "1.08em"
math_to_rd.html:81:795: Warning: trimming empty <span>
math_to_rd.html:81:1030: Warning: trimming empty <span>
math_to_rd.html:81:1116: Warning: trimming empty <span>
math_to_rd.html:81:1201: Warning: trimming empty <span>
math_to_rd.html:81:1314: Warning: trimming empty <span>
math_to_rd.html:81:1502: Warning: trimming empty <span>
math_to_rd.html:81:1803: Warning: trimming empty <span>
math_to_rd.html:81:2040: Warning: trimming empty <span>
math_to_rd.html:92:161: Warning: trimming empty <span>
math_to_rd.html:92:116: Warning: trimming empty <span>
math_to_rd.html:92:94: Warning: trimming empty <span>
math_to_rd.html:92:243: Warning: trimming empty <span>
math_to_rd.html:92:291: Warning: trimming empty <span>
math_to_rd.html:92:216: Warning: trimming empty <span>
math_to_rd.html:92:393: Warning: trimming empty <span>
math_to_rd.html:92:610: Warning: trimming empty <span>
math_to_rd.html:92:567: Warning: trimming empty <span>
math_to_rd.html:92:545: Warning: trimming empty <span>
math_to_rd.html:92:651: Warning: trimming empty <span>
math_to_rd.html:92:923: Warning: trimming empty <span>
math_to_rd.html:92:1129: Warning: trimming empty <span>
math_to_rd.html:92:1341: Warning: trimming empty <span>
math_to_rd.html:92:1545: Warning: trimming empty <span>
math_to_rd.html:92:1593: Warning: trimming empty <span>
math_to_rd.html:92:1516: Warning: trimming empty <span>
math_to_rd.html:92:1703: Warning: trimming empty <span>
math_to_rd.html:92:1988: Warning: trimming empty <span>
math_to_rd.html:92:1944: Warning: trimming empty <span>
math_to_rd.html:92:1922: Warning: trimming empty <span>
math_to_rd.html:92:2029: Warning: trimming empty <span>
math_to_rd.html:92:2171: Warning: trimming empty <span>
math_to_rd.html:92:2382: Warning: trimming empty <span>
math_to_rd.html:92:2629: Warning: trimming empty <span>
math_to_rd.html:92:2677: Warning: trimming empty <span>
math_to_rd.html:92:2600: Warning: trimming empty <span>
math_to_rd.html:92:2788: Warning: trimming empty <span>
math_to_rd.html:92:3163: Warning: trimming empty <span>
math_to_rd.html:92:3119: Warning: trimming empty <span>
math_to_rd.html:92:3097: Warning: trimming empty <span>
math_to_rd.html:92:3204: Warning: trimming empty <span>
math_to_rd.html:92:3503: Warning: trimming empty <span>
math_to_rd.html:102:377: Warning: trimming empty <span>
math_to_rd.html:102:499: Warning: trimming empty <span>
math_to_rd.html:102:585: Warning: trimming empty <span>
math_to_rd.html:102:670: Warning: trimming empty <span>
math_to_rd.html:102:1040: Warning: trimming empty <span>
- checking for non-standard things in the check directory ... OK
- DONE
Status: 1 NOTE