- using R Under development (unstable) (2023-12-01 r85656)
- using platform: x86_64-pc-linux-gnu
- R was compiled by
gcc-13 (Debian 13.2.0-5) 13.2.0
GNU Fortran (Debian 13.2.0-5) 13.2.0
- running under: Debian GNU/Linux trixie/sid
- using session charset: UTF-8
- checking for file ‘infer/DESCRIPTION’ ... OK
- checking extension type ... Package
- this is package ‘infer’ version ‘1.0.5’
- package encoding: UTF-8
- checking package namespace information ... OK
- checking package dependencies ... OK
- checking if this is a source package ... OK
- checking if there is a namespace ... OK
- checking for executable files ... OK
- checking for hidden files and directories ... OK
- checking for portable file names ... OK
- checking for sufficient/correct file permissions ... OK
- checking whether package ‘infer’ can be installed ... OK
See the install log for details.
- checking package directory ... OK
- checking for future file timestamps ... OK
- checking ‘build’ directory ... OK
- checking DESCRIPTION meta-information ... OK
- checking top-level files ... OK
- checking for left-over files ... OK
- checking index information ... OK
- checking package subdirectories ... OK
- checking R files for non-ASCII characters ... OK
- checking R files for syntax errors ... OK
- checking whether the package can be loaded ... [1s/2s] OK
- checking whether the package can be loaded with stated dependencies ... [1s/2s] OK
- checking whether the package can be unloaded cleanly ... [1s/2s] OK
- checking whether the namespace can be loaded with stated dependencies ... [1s/2s] OK
- checking whether the namespace can be unloaded cleanly ... [1s/2s] OK
- checking loading without being on the library search path ... [1s/2s] OK
- checking use of S3 registration ... OK
- checking dependencies in R code ... OK
- checking S3 generic/method consistency ... OK
- checking replacement functions ... OK
- checking foreign function calls ... OK
- checking R code for possible problems ... [14s/25s] OK
- checking Rd files ... [1s/1s] NOTE
checkRd: (-1) shade_confidence_interval.Rd:33: Lost braces; missing escapes or markup?
33 | \item{...}{Other arguments passed along to \\{ggplot2\\} functions.}
| ^
checkRd: (-1) shade_confidence_interval.Rd:36: Lost braces; missing escapes or markup?
36 | If added to an existing {infer} visualization, a \\{ggplot2\\}
| ^
checkRd: (-1) shade_confidence_interval.Rd:36: Lost braces; missing escapes or markup?
36 | If added to an existing {infer} visualization, a \\{ggplot2\\}
| ^
checkRd: (-1) shade_p_value.Rd:31: Lost braces; missing escapes or markup?
31 | \item{...}{Other arguments passed along to \\{ggplot2\\} functions.
| ^
checkRd: (-1) shade_p_value.Rd:35: Lost braces; missing escapes or markup?
35 | If added to an existing {infer} visualization, a \\{ggplot2\\}
| ^
checkRd: (-1) shade_p_value.Rd:35: Lost braces; missing escapes or markup?
35 | If added to an existing {infer} visualization, a \\{ggplot2\\}
| ^
checkRd: (-1) t_stat.Rd:46: Lost braces; missing escapes or markup?
46 | \item{...}{Pass in arguments to \\{infer\\} functions.}
| ^
checkRd: (-1) visualize.Rd:30: Lost braces; missing escapes or markup?
30 | \item{...}{Other arguments passed along to \\{ggplot2\\} functions.}
| ^
- checking Rd metadata ... OK
- checking Rd line widths ... OK
- checking Rd cross-references ... OK
- checking for missing documentation entries ... OK
- checking for code/documentation mismatches ... OK
- checking Rd \usage sections ... OK
- checking Rd contents ... OK
- checking for unstated dependencies in examples ... OK
- checking contents of ‘data’ directory ... OK
- checking data for non-ASCII characters ... [0s/1s] OK
- checking LazyData ... OK
- checking data for ASCII and uncompressed saves ... OK
- checking installed files from ‘inst/doc’ ... OK
- checking files in ‘vignettes’ ... OK
- checking examples ... [16s/24s] OK
- checking for unstated dependencies in ‘tests’ ... OK
- checking tests ... [35s/55s] OK
Running ‘testthat.R’ [35s/55s]
- checking for unstated dependencies in vignettes ... OK
- checking package vignettes in ‘inst/doc’ ... OK
- checking re-building of vignette outputs ... [191s/308s] OK
- checking PDF version of manual ... [7s/18s] OK
- checking HTML version of manual ... [2s/4s] OK
- checking for non-standard things in the check directory ... OK
- DONE
Status: 1 NOTE