- using R Under development (unstable) (2023-11-28 r85645)
- using platform: x86_64-pc-linux-gnu
- R was compiled by
gcc-13 (Debian 13.2.0-5) 13.2.0
GNU Fortran (Debian 13.2.0-5) 13.2.0
- running under: Debian GNU/Linux trixie/sid
- using session charset: UTF-8
- checking for file ‘iml/DESCRIPTION’ ... OK
- checking extension type ... Package
- this is package ‘iml’ version ‘0.11.1’
- package encoding: UTF-8
- checking package namespace information ... OK
- checking package dependencies ... OK
- checking if this is a source package ... OK
- checking if there is a namespace ... OK
- checking for executable files ... OK
- checking for hidden files and directories ... OK
- checking for portable file names ... OK
- checking for sufficient/correct file permissions ... OK
- checking serialization versions ... OK
- checking whether package ‘iml’ can be installed ... OK
See the install log for details.
- checking package directory ... OK
- checking for future file timestamps ... OK
- checking ‘build’ directory ... OK
- checking DESCRIPTION meta-information ... OK
- checking top-level files ... OK
- checking for left-over files ... OK
- checking index information ... OK
- checking package subdirectories ... OK
- checking R files for non-ASCII characters ... OK
- checking R files for syntax errors ... OK
- checking whether the package can be loaded ... [1s/2s] OK
- checking whether the package can be loaded with stated dependencies ... [1s/2s] OK
- checking whether the package can be unloaded cleanly ... [1s/2s] OK
- checking whether the namespace can be loaded with stated dependencies ... [1s/2s] OK
- checking whether the namespace can be unloaded cleanly ... [1s/2s] OK
- checking loading without being on the library search path ... [1s/2s] OK
- checking use of S3 registration ... OK
- checking dependencies in R code ... OK
- checking S3 generic/method consistency ... OK
- checking replacement functions ... OK
- checking foreign function calls ... OK
- checking R code for possible problems ... [11s/18s] OK
- checking Rd files ... [1s/1s] NOTE
checkRd: (-1) plot.FeatureEffects.Rd:32: Lost braces; missing escapes or markup?
32 | In contrast to other plot methods in {iml}, for FeatureEffects the returned
| ^
- checking Rd metadata ... OK
- checking Rd line widths ... OK
- checking Rd cross-references ... OK
- checking for missing documentation entries ... OK
- checking for code/documentation mismatches ... OK
- checking Rd \usage sections ... OK
- checking Rd contents ... OK
- checking for unstated dependencies in examples ... OK
- checking installed files from ‘inst/doc’ ... OK
- checking files in ‘vignettes’ ... OK
- checking examples ... [38s/56s] OK
Examples with CPU (user + system) or elapsed time > 5s
user system elapsed
plot.FeatureEffects 7.252 0.083 10.519
FeatureEffect 6.482 0.133 10.496
FeatureImp 5.187 0.075 7.481
FeatureEffects 3.862 0.056 6.421
Shapley 3.405 0.106 5.625
- checking for unstated dependencies in ‘tests’ ... OK
- checking tests ... [59s/47s] OK
Running ‘testthat.R’ [59s/46s]
- checking for unstated dependencies in vignettes ... OK
- checking package vignettes in ‘inst/doc’ ... OK
- checking re-building of vignette outputs ... [137s/166s] OK
- checking PDF version of manual ... [6s/16s] OK
- checking HTML version of manual ... [2s/5s] OK
- checking for non-standard things in the check directory ... OK
- DONE
Status: 1 NOTE