- using R Under development (unstable) (2023-03-20 r84011)
- using platform: x86_64-pc-linux-gnu (64-bit)
- R was compiled by
gcc-12 (Debian 12.2.0-14) 12.2.0
GNU Fortran (Debian 12.2.0-14) 12.2.0
- running under: Debian GNU/Linux bookworm/sid
- using session charset: UTF-8
- checking for file ‘htmcglm/DESCRIPTION’ ... OK
- checking extension type ... Package
- this is package ‘htmcglm’ version ‘0.0.1’
- package encoding: UTF-8
- checking package namespace information ... OK
- checking package dependencies ... OK
- checking if this is a source package ... OK
- checking if there is a namespace ... OK
- checking for executable files ... OK
- checking for hidden files and directories ... OK
- checking for portable file names ... OK
- checking for sufficient/correct file permissions ... OK
- checking serialization versions ... OK
- checking whether package ‘htmcglm’ can be installed ... OK
- checking package directory ... OK
- checking for future file timestamps ... OK
- checking DESCRIPTION meta-information ... OK
- checking top-level files ... OK
- checking for left-over files ... OK
- checking index information ... OK
- checking package subdirectories ... OK
- checking R files for non-ASCII characters ... OK
- checking R files for syntax errors ... OK
- checking whether the package can be loaded ... [2s/3s] OK
- checking whether the package can be loaded with stated dependencies ... [2s/3s] OK
- checking whether the package can be unloaded cleanly ... [2s/3s] OK
- checking whether the namespace can be loaded with stated dependencies ... [2s/3s] OK
- checking whether the namespace can be unloaded cleanly ... [2s/3s] OK
- checking loading without being on the library search path ... [2s/4s] OK
- checking use of S3 registration ... OK
- checking dependencies in R code ... OK
- checking S3 generic/method consistency ... OK
- checking replacement functions ... OK
- checking foreign function calls ... OK
- checking R code for possible problems ... [13s/20s] OK
- checking Rd files ... [0s/1s] OK
- checking Rd metadata ... OK
- checking Rd line widths ... OK
- checking Rd cross-references ... OK
- checking for missing documentation entries ... OK
- checking for code/documentation mismatches ... OK
- checking Rd \usage sections ... OK
- checking Rd contents ... OK
- checking for unstated dependencies in examples ... OK
- checking examples ... [47s/72s] OK
Examples with CPU (user + system) or elapsed time > 5s
user system elapsed
mc_multcomp 4.593 0.046 7.388
mc_anova_I 4.400 0.047 6.387
mc_mult_multcomp 4.380 0.040 6.954
mc_manova_dispersion 4.059 0.004 6.841
mc_anova_II 3.916 0.009 5.718
mc_anova_III 3.880 0.039 6.171
mc_anova_dispersion 3.860 0.008 6.190
mc_manova_II 3.849 0.004 6.469
mc_manova_III 3.701 0.035 5.509
mc_linear_hypothesis 3.735 0.000 6.498
- checking PDF version of manual ... [4s/11s] OK
- checking HTML version of manual ... [1s/2s] OK
- checking for non-standard things in the check directory ... OK
- DONE
Status: OK