- using R Under development (unstable) (2025-10-19 r88945)
- using platform: x86_64-pc-linux-gnu
- R was compiled by
gcc-15 (Debian 15.2.0-4) 15.2.0
GNU Fortran (Debian 15.2.0-4) 15.2.0
- running under: Debian GNU/Linux forky/sid
- using session charset: UTF-8
- checking for file ‘h2o/DESCRIPTION’ ... OK
- checking extension type ... Package
- this is package ‘h2o’ version ‘3.44.0.3’
- checking CRAN incoming feasibility ... [3s/4s] OK
- checking package namespace information ... OK
- checking package dependencies ... OK
- checking if this is a source package ... OK
- checking if there is a namespace ... OK
- checking for executable files ... OK
- checking for hidden files and directories ... OK
- checking for portable file names ... OK
- checking for sufficient/correct file permissions ... OK
- checking serialization versions ... OK
- checking whether package ‘h2o’ can be installed ... OK
See the install log for details.
- checking package directory ... OK
- checking for future file timestamps ... OK
- checking DESCRIPTION meta-information ... OK
- checking top-level files ... OK
- checking for left-over files ... OK
- checking index information ... OK
- checking package subdirectories ... OK
- checking code files for non-ASCII characters ... OK
- checking R files for syntax errors ... OK
- checking whether the package can be loaded ... [1s/1s] OK
- checking whether the package can be loaded with stated dependencies ... [0s/1s] OK
- checking whether the package can be unloaded cleanly ... [1s/1s] OK
- checking whether the namespace can be loaded with stated dependencies ... [1s/1s] OK
- checking whether the namespace can be unloaded cleanly ... [1s/1s] OK
- checking loading without being on the library search path ... [1s/1s] OK
- checking whether startup messages can be suppressed ... [1s/1s] OK
- checking use of S3 registration ... OK
- checking dependencies in R code ... OK
- checking S3 generic/method consistency ... OK
- checking replacement functions ... OK
- checking foreign function calls ... OK
- checking R code for possible problems ... [47s/57s] OK
- checking Rd files ... [2s/2s] OK
- checking Rd metadata ... OK
- checking Rd line widths ... OK
- checking Rd cross-references ... OK
- checking for missing documentation entries ... OK
- checking for code/documentation mismatches ... OK
- checking Rd \usage sections ... OK
- checking Rd contents ... OK
- checking for unstated dependencies in examples ... OK
- checking examples ... [1s/1s] OK
- checking for unstated dependencies in ‘demo’ ... OK
- checking PDF version of manual ... [20s/24s] OK
- checking HTML version of manual ... [12s/21s] NOTE
Found the following HTML validation problems:
H2OCoxPHModel-class.html:86:1 (H2OCoxPHModel-class.Rd:41): Warning: missing </ul> before </div>
H2OFrame-Extract.html:106:1 (H2OFrame-Extract.Rd:51): Warning: missing </ul> before </div>
H2OFrame.html:118:1 (H2OFrame.Rd:77): Warning: missing </ul> before </div>
H2OModelMetrics-class.html:74:1 (H2OModelMetrics-class.Rd:53): Warning: missing </ul> before </div>
Logical-or.html:50:1 (Logical-or.Rd:13): Warning: missing </ul> before </div>
ModelAccessors.html:89:1 (ModelAccessors.Rd:62): Warning: missing </ul> before </div>
and-and.html:50:1 (and-and.Rd:12): Warning: missing </ul> before </div>
dot-check_for_ggplot2.html:46:1 (dot-check_for_ggplot2.Rd:10): Warning: missing </ul> before </div>
dot-collapse.html:46:1 (dot-collapse.Rd:10): Warning: missing </ul> before </div>
dot-get_first_of_family.html:50:1 (dot-get_first_of_family.Rd:12): Warning: missing </ul> before </div>
dot-h2o.__EXPORT_FILES.html:46:1 (dot-h2o.__EXPORT_FILES.Rd:10): Warning: missing </ul> before </div>
dot-h2o.__MODEL_BUILDERS.html:46:1 (dot-h2o.__MODEL_BUILDERS.Rd:10): Warning: missing </ul> before </div>
dot-h2o.__MODEL_METRICS.html:50:1 (dot-h2o.__MODEL_METRICS.Rd:12): Warning: missing </ul> before </div>
dot-h2o.__SEGMENT_MODELS_BUILDERS.html:46:1 (dot-h2o.__SEGMENT_MODELS_BUILDERS.Rd:10): Warning: missing </ul> before </div>
dot-h2o.locate.html:52:1 (dot-h2o.locate.Rd:13): Warning: missing </ul> before </div>
dot-h2o.perfect_auc.html:52:1 (dot-h2o.perfect_auc.Rd:13): Warning: missing </ul> before </div>
dot-verify_dataxy.html:58:1 (dot-verify_dataxy.Rd:16): Warning: missing </ul> before </div>
generate_col_ind.html:50:1 (generate_col_ind.Rd:12): Warning: missing </ul> before </div>
h2o.HGLMMetrics.html:46:1 (h2o.HGLMMetrics.Rd:10): Warning: missing </ul> before </div>
h2o.computeGram.html:68:1 (h2o.computeGram.Rd:24): Warning: missing </ul> before </div>
h2o.gains_lift_plot-H2OModel-method.html:55:1 (h2o.gains_lift_plot-H2OModel-method.Rd:14): Warning: missing </ul> before </div>
h2o.gains_lift_plot-H2OModelMetrics-method.html:51:1 (h2o.gains_lift_plot-H2OModelMetrics-method.Rd:12): Warning: missing </ul> before </div>
h2o.getAlphaBest.html:46:1 (h2o.getAlphaBest.Rd:10): Warning: missing </ul> before </div>
h2o.getGLMFullRegularizationPath.html:46:1 (h2o.getGLMFullRegularizationPath.Rd:10): Warning: missing </ul> before </div>
h2o.getLambdaBest.html:46:1 (h2o.getLambdaBest.Rd:10): Warning: missing </ul> before </div>
h2o.getLambdaMax.html:46:1 (h2o.getLambdaMax.Rd:10): Warning: missing </ul> before </div>
h2o.getLambdaMin.html:47:1 (h2o.getLambdaMin.Rd:11): Warning: missing </ul> before </div>
h2o.get_best_model_predictors.html:46:1 (h2o.get_best_model_predictors.Rd:10): Warning: missing </ul> before </div>
h2o.get_best_r2_values.html:46:1 (h2o.get_best_r2_values.Rd:10): Warning: missing </ul> before </div>
h2o.get_gam_knot_column_names.html:46:1 (h2o.get_gam_knot_column_names.Rd:10): Warning: missing </ul> before </div>
h2o.get_knot_locations.html:50:1 (h2o.get_knot_locations.Rd:12): Warning: missing </ul> before </div>
h2o.get_ntrees_actual.html:46:1 (h2o.get_ntrees_actual.Rd:10): Warning: missing </ul> before </div>
h2o.get_predictors_added_per_step.html:46:1 (h2o.get_predictors_added_per_step.Rd:10): Warning: missing </ul> before </div>
h2o.get_predictors_removed_per_step.html:46:1 (h2o.get_predictors_removed_per_step.Rd:10): Warning: missing </ul> before </div>
h2o.makeGLMModel.html:50:1 (h2o.makeGLMModel.Rd:12): Warning: missing </ul> before </div>
h2o.num_valid_substrings.html:50:1 (h2o.num_valid_substrings.Rd:12): Warning: missing </ul> before </div>
h2o.removeVecs.html:51:1 (h2o.removeVecs.Rd:12): Warning: missing </ul> before </div>
h2o.resume.html:49:1 (h2o.resume.Rd:12): Warning: missing </ul> before </div>
h2o.resumeGrid.html:56:1 (h2o.resumeGrid.Rd:16): Warning: missing </ul> before </div>
h2o.rule_importance.html:48:1 (h2o.rule_importance.Rd:11): Warning: missing </ul> before </div>
h2o.save_to_hive.html:75:1 (h2o.save_to_hive.Rd:27): Warning: missing </ul> before </div>
h2o.scoreHistoryGAM.html:46:1 (h2o.scoreHistoryGAM.Rd:10): Warning: missing </ul> before </div>
h2o.screeplot.html:50:1 (h2o.screeplot.Rd:12): Warning: missing </ul> before </div>
h2o.set_s3_credentials.html:54:1 (h2o.set_s3_credentials.Rd:14): Warning: missing </ul> before </div>
h2o.varsplits.html:62:1 (h2o.varsplits.Rd:18): Warning: missing </ul> before </div>
h2o.withinss.html:46:1 (h2o.withinss.Rd:10): Warning: missing </ul> before </div>
is.numeric.html:46:1 (is.numeric.Rd:10): Warning: missing </ul> before </div>
length-H2OTree-method.html:47:1 (length-H2OTree-method.Rd:10): Warning: missing </ul> before </div>
plot-methods.html:55:1 (plot-methods.Rd:14): Warning: missing </ul> before </div>
show-H2OAutoML-method.html:47:1 (show-H2OAutoML-method.Rd:10): Warning: missing </ul> before </div>
show-H2OParetoFront-method.html:47:1 (show-H2OParetoFront-method.Rd:10): Warning: missing </ul> before </div>
str.H2OFrame.html:55:1 (str.H2OFrame.Rd:14): Warning: missing </ul> before </div>
summary-H2OAutoML-method.html:47:1 (summary-H2OAutoML-method.Rd:10): Warning: missing </ul> before </div>
summary-H2OCoxPHModel-method.html:55:1 (summary-H2OCoxPHModel-method.Rd:14): Warning: missing </ul> before </div>
summary-H2OGrid-method.html:51:1 (summary-H2OGrid-method.Rd:12): Warning: missing </ul> before </div>
summary-H2OModel-method.html:51:1 (summary-H2OModel-method.Rd:12): Warning: missing </ul> before </div>
- checking for non-standard things in the check directory ... OK
- DONE
Status: 1 NOTE