- using R Under development (unstable) (2025-10-20 r88955)
- using platform: x86_64-pc-linux-gnu
- R was compiled by
gcc-15 (Debian 15.2.0-4) 15.2.0
GNU Fortran (Debian 15.2.0-4) 15.2.0
- running under: Debian GNU/Linux forky/sid
- using session charset: UTF-8
- checking for file ‘gratia/DESCRIPTION’ ... OK
- this is package ‘gratia’ version ‘0.11.1’
- package encoding: UTF-8
- checking CRAN incoming feasibility ... [2s/3s] OK
- checking package namespace information ... OK
- checking package dependencies ... OK
- checking if this is a source package ... OK
- checking if there is a namespace ... OK
- checking for executable files ... OK
- checking for hidden files and directories ... OK
- checking for portable file names ... OK
- checking for sufficient/correct file permissions ... OK
- checking whether package ‘gratia’ can be installed ... OK
See the install log for details.
- checking package directory ... OK
- checking for future file timestamps ... OK
- checking ‘build’ directory ... OK
- checking DESCRIPTION meta-information ... OK
- checking top-level files ... OK
- checking for left-over files ... OK
- checking index information ... OK
- checking package subdirectories ... OK
- checking code files for non-ASCII characters ... OK
- checking R files for syntax errors ... OK
- checking whether the package can be loaded ... [3s/3s] OK
- checking whether the package can be loaded with stated dependencies ... [2s/3s] OK
- checking whether the package can be unloaded cleanly ... [2s/4s] OK
- checking whether the namespace can be loaded with stated dependencies ... [2s/3s] OK
- checking whether the namespace can be unloaded cleanly ... [3s/3s] OK
- checking loading without being on the library search path ... [3s/3s] OK
- checking use of S3 registration ... OK
- checking dependencies in R code ... OK
- checking S3 generic/method consistency ... OK
- checking replacement functions ... OK
- checking foreign function calls ... OK
- checking R code for possible problems ... [31s/41s] OK
- checking Rd files ... [1s/1s] OK
- checking Rd metadata ... OK
- checking Rd line widths ... OK
- checking Rd cross-references ... OK
- checking for missing documentation entries ... OK
- checking for code/documentation mismatches ... OK
- checking Rd \usage sections ... OK
- checking Rd contents ... OK
- checking for unstated dependencies in examples ... OK
- checking contents of ‘data’ directory ... OK
- checking data for non-ASCII characters ... [0s/0s] OK
- checking LazyData ... OK
- checking data for ASCII and uncompressed saves ... OK
- checking installed files from ‘inst/doc’ ... OK
- checking files in ‘vignettes’ ... OK
- checking examples ... [50s/68s] OK
- checking differences from ‘gratia-Ex.Rout’ to ‘gratia-Ex.Rout.save’ ... OK
- checking for unstated dependencies in ‘tests’ ... OK
- checking tests ... [161s/217s] OK
Running ‘test-all.R’ [161s/216s]
- checking for unstated dependencies in vignettes ... OK
- checking package vignettes ... OK
- checking re-building of vignette outputs ... [14s/17s] OK
- checking PDF version of manual ... [11s/12s] OK
- checking HTML version of manual ... [5s/8s] NOTE
Found the following HTML validation problems:
add_confint.html:64:1 (add_confint.Rd:24): Warning: missing </ul> before </div>
coef.scam.html:56:1 (coef.scam.Rd:15): Warning: missing </ul> before </div>
data_combos.html:81:1 (data_combos.Rd:35): Warning: missing </ul> before </div>
dispersion.html:56:1 (dispersion.Rd:18): Warning: missing </ul> before </div>
draw.compare_smooths.html:62:1 (draw.compare_smooths.Rd:19): Warning: missing </ul> before </div>
draw.conditional_values.html:84:1 (draw.conditional_values.Rd:35): Warning: missing </ul> before </div>
draw.pairwise_concurvity.html:112:1 (draw.pairwise_concurvity.Rd:55): Warning: missing </ul> before </div>
draw.parametric_effects.html:134:1 (draw.parametric_effects.Rd:71): Warning: missing </ul> before </div>
draw_parametric_effect.html:140:1 (draw_parametric_effect.Rd:74): Warning: missing </ul> before </div>
eval_smooth.html:215:1 (eval_smooth.Rd:161): Warning: missing </ul> before </div>
evaluate_parametric_term.html:66:1 (evaluate_parametric_term.Rd:21): Warning: missing </ul> before </div>
factor_combos.html:64:1 (factor_combos.Rd:22): Warning: missing </ul> before </div>
family.gam.html:61:1 (family.gam.Rd:22): Warning: missing </ul> before </div>
family_type.html:57:1 (family_type.Rd:19): Warning: missing </ul> before </div>
fixef.html:44:1 (fixef.Rd:9): Warning: missing </ul> before </div>
gaussian_draws.html:119:1 (gaussian_draws.Rd:67): Warning: missing </ul> before </div>
get_smooths_by_id.html:65:1 (get_smooths_by_id.Rd:27): Warning: missing </ul> before </div>
mh_draws.html:96:1 (mh_draws.Rd:45): Warning: missing </ul> before </div>
n_smooths.html:59:1 (n_smooths.Rd:23): Warning: missing </ul> before </div>
null_deviance.html:53:1 (null_deviance.Rd:15): Warning: missing </ul> before </div>
observed_fitted_plot.html:91:1 (observed_fitted_plot.Rd:41): Warning: missing </ul> before </div>
parametric_effects.html:99:1 (parametric_effects.Rd:47): Warning: missing </ul> before </div>
parametric_terms.html:56:1 (parametric_terms.Rd:18): Warning: missing </ul> before </div>
post_draws.html:193:1 (post_draws.Rd:121): Warning: missing </ul> before </div>
quantile_residuals.html:66:1 (quantile_residuals.Rd:24): Warning: missing </ul> before </div>
reorder_fs_smooth_terms.html:46:1 (reorder_fs_smooth_terms.Rd:10): Warning: missing </ul> before </div>
reorder_tensor_smooth_terms.html:54:1 (reorder_tensor_smooth_terms.Rd:10): Warning: missing </ul> before </div>
residuals_hist_plot.html:103:1 (residuals_hist_plot.Rd:51): Warning: missing </ul> before </div>
residuals_linpred_plot.html:115:1 (residuals_linpred_plot.Rd:59): Warning: missing </ul> before </div>
rtw.html:58:1 (rtw.Rd:16): Warning: missing </ul> before </div>
scale_fill_partial_effect.html:72:1 (scale_fill_partial_effect.Rd:28): Warning: missing </ul> before </div>
shift_values.html:64:1 (shift_values.Rd:20): Warning: missing </ul> before </div>
smooth_terms.html:52:1 (smooth_terms.Rd:14): Warning: missing </ul> before </div>
smooth_type.html:139:1 (smooth_type.Rd:103): Warning: missing </ul> before </div>
smooths.html:53:1 (smooths.Rd:17): Warning: missing </ul> before </div>
spline_values.html:78:1 (spline_values.Rd:32): Warning: missing </ul> before </div>
spline_values2.html:83:1 (spline_values2.Rd:32): Warning: missing </ul> before </div>
too_far_to_na.html:65:1 (too_far_to_na.Rd:21): Warning: missing </ul> before </div>
typical_values.html:77:1 (typical_values.Rd:33): Warning: missing </ul> before </div>
which_smooths.html:67:1 (which_smooths.Rd:27): Warning: missing </ul> before </div>
- checking for non-standard things in the check directory ... OK
- DONE
Status: 1 NOTE