* using log directory ‘/home/hornik/tmp/R.check/r-devel-gcc/Work/PKGS/goft.Rcheck’ * using R Under development (unstable) (2025-07-15 r88411) * using platform: x86_64-pc-linux-gnu * R was compiled by gcc-14 (Debian 14.2.0-19) 14.2.0 GNU Fortran (Debian 14.2.0-19) 14.2.0 * running under: Debian GNU/Linux 13 (trixie) * using session charset: UTF-8 * checking for file ‘goft/DESCRIPTION’ ... OK * checking extension type ... Package * this is package ‘goft’ version ‘1.3.6’ * checking CRAN incoming feasibility ... [0s/1s] NOTE Maintainer: ‘Elizabeth Gonzalez-Estrada ’ No Authors@R field in DESCRIPTION. Please add one, modifying Authors@R: c(person(given = "Elizabeth", family = "Gonzalez-Estrada", role = c("aut", "cre"), email = "egonzalez@colpos.mx"), person(given = c("Jose", "A."), family = "Villasenor-Alva", role = "aut")) as necessary. Found the following URLs which should use \doi (with the DOI name only): File ‘cauchy.test.Rd’: https://doi.org/10.1080/00949655.2017.1404604 File ‘de.test.Rd’: https://doi.org/10.1016/j.spl.2016.07.003 File ‘ev.test.Rd’: https://doi.org/10.1080/00949655.2017.1404604 https://doi.org/10.1080/03610910903528293 File ‘gamma.fit.Rd’: http://dx.doi.org/10.1016/j.spl.2014.10.001 File ‘gamma.test.Rd’: http://dx.doi.org/10.1016/j.spl.2014.10.001 File ‘gp.fit.Rd’: http://dx.doi.org/10.1016/j.csda.2009.04.001 File ‘gp.test.Rd’: http://dx.doi.org/10.1016/j.csda.2009.04.001 File ‘ig.test.Rd’: http://dx.doi.org/10.1016/j.spl.2015.06.017 https://doi.org/10.1007/s13571-017-0148-8 File ‘mvShapiro.Test.Rd’: http://dx.doi.org/10.1080/03610920802474465 File ‘normal.Rd’: http://dx.doi.org/10.1080/03610918.2013.810261 File ‘sn.Rd’: https://doi.org/10.1080/00949655.2019.1658763 * checking package namespace information ... OK * checking package dependencies ... OK * checking if this is a source package ... OK * checking if there is a namespace ... OK * checking for executable files ... OK * checking for hidden files and directories ... OK * checking for portable file names ... OK * checking for sufficient/correct file permissions ... OK * checking serialization versions ... OK * checking whether package ‘goft’ can be installed ... OK See 'https://www.r-project.org/nosvn/R.check/r-devel-linux-x86_64-debian-gcc/goft-00install.html' for details. * checking package directory ... OK * checking for future file timestamps ... OK * checking DESCRIPTION meta-information ... OK * checking top-level files ... OK * checking for left-over files ... OK * checking index information ... OK * checking package subdirectories ... OK * checking code files for non-ASCII characters ... OK * checking R files for syntax errors ... OK * checking whether the package can be loaded ... [2s/2s] OK * checking whether the package can be loaded with stated dependencies ... [2s/2s] OK * checking whether the package can be unloaded cleanly ... [2s/2s] OK * checking whether the namespace can be loaded with stated dependencies ... [1s/2s] OK * checking whether the namespace can be unloaded cleanly ... [2s/2s] OK * checking loading without being on the library search path ... [2s/2s] OK * checking use of S3 registration ... OK * checking dependencies in R code ... OK * checking S3 generic/method consistency ... OK * checking replacement functions ... OK * checking foreign function calls ... OK * checking R code for possible problems ... [9s/13s] OK * checking Rd files ... [0s/1s] OK * checking Rd metadata ... OK * checking Rd line widths ... OK * checking Rd cross-references ... OK * checking for missing documentation entries ... OK * checking for code/documentation mismatches ... OK * checking Rd \usage sections ... OK * checking Rd contents ... OK * checking for unstated dependencies in examples ... OK * checking contents of ‘data’ directory ... OK * checking data for non-ASCII characters ... [0s/0s] OK * checking data for ASCII and uncompressed saves ... OK * checking examples ... [8s/10s] OK * checking PDF version of manual ... [5s/6s] OK * checking HTML version of manual ... [1s/2s] OK * checking for non-standard things in the check directory ... OK * DONE Status: 1 NOTE