- using R Under development (unstable) (2025-10-19 r88945)
- using platform: x86_64-pc-linux-gnu
- R was compiled by
gcc-15 (Debian 15.2.0-4) 15.2.0
GNU Fortran (Debian 15.2.0-4) 15.2.0
- running under: Debian GNU/Linux forky/sid
- using session charset: UTF-8
- checking for file ‘gofreg/DESCRIPTION’ ... OK
- this is package ‘gofreg’ version ‘1.0.0’
- package encoding: UTF-8
- checking CRAN incoming feasibility ... [1s/1s] OK
- checking package namespace information ... OK
- checking package dependencies ... OK
- checking if this is a source package ... OK
- checking if there is a namespace ... OK
- checking for executable files ... OK
- checking for hidden files and directories ... OK
- checking for portable file names ... OK
- checking for sufficient/correct file permissions ... OK
- checking serialization versions ... OK
- checking whether package ‘gofreg’ can be installed ... OK
See the install log for details.
- checking package directory ... OK
- checking for future file timestamps ... OK
- checking ‘build’ directory ... OK
- checking DESCRIPTION meta-information ... OK
- checking top-level files ... OK
- checking for left-over files ... OK
- checking index information ... OK
- checking package subdirectories ... OK
- checking code files for non-ASCII characters ... OK
- checking R files for syntax errors ... OK
- checking whether the package can be loaded ... [1s/2s] OK
- checking whether the package can be loaded with stated dependencies ... [1s/2s] OK
- checking whether the package can be unloaded cleanly ... [1s/1s] OK
- checking whether the namespace can be loaded with stated dependencies ... [1s/1s] OK
- checking whether the namespace can be unloaded cleanly ... [1s/1s] OK
- checking loading without being on the library search path ... [1s/2s] OK
- checking use of S3 registration ... OK
- checking dependencies in R code ... OK
- checking S3 generic/method consistency ... OK
- checking replacement functions ... OK
- checking foreign function calls ... OK
- checking R code for possible problems ... [7s/9s] OK
- checking Rd files ... [0s/1s] OK
- checking Rd metadata ... OK
- checking Rd line widths ... OK
- checking Rd cross-references ... OK
- checking for missing documentation entries ... OK
- checking for code/documentation mismatches ... OK
- checking Rd \usage sections ... OK
- checking Rd contents ... OK
- checking for unstated dependencies in examples ... OK
- checking installed files from ‘inst/doc’ ... OK
- checking files in ‘vignettes’ ... OK
- checking examples ... [7s/8s] OK
- checking for unstated dependencies in ‘tests’ ... OK
- checking tests ... [16s/18s] OK
Running ‘testthat.R’ [15s/17s]
- checking for unstated dependencies in vignettes ... OK
- checking package vignettes ... OK
- checking re-building of vignette outputs ... [42s/51s] OK
- checking PDF version of manual ... [6s/7s] OK
- checking HTML version of manual ... [2s/3s] NOTE
Found the following HTML validation problems:
CondKolmXY.html:120:1 (CondKolmXY.Rd:93): Warning: <h5> anchor "Usage" already defined
CondKolmXY.html:126:1 (CondKolmXY.Rd:97): Warning: <h5> anchor "Arguments" already defined
CondKolmY.html:120:1 (CondKolmY.Rd:93): Warning: <h5> anchor "Usage" already defined
CondKolmY.html:126:1 (CondKolmY.Rd:97): Warning: <h5> anchor "Arguments" already defined
CondKolmY_RCM.html:120:1 (CondKolmY_RCM.Rd:95): Warning: <h5> anchor "Usage" already defined
CondKolmY_RCM.html:126:1 (CondKolmY_RCM.Rd:99): Warning: <h5> anchor "Arguments" already defined
CondKolmbXY.html:120:1 (CondKolmbXY.Rd:94): Warning: <h5> anchor "Usage" already defined
CondKolmbXY.html:126:1 (CondKolmbXY.Rd:98): Warning: <h5> anchor "Arguments" already defined
ExpGLM.html:136:1 (ExpGLM.Rd:106): Warning: <h5> anchor "Usage" already defined
ExpGLM.html:142:1 (ExpGLM.Rd:110): Warning: <h5> anchor "Arguments" already defined
ExpGLM.html:160:1 (ExpGLM.Rd:122): Warning: <h5> anchor "Returns" already defined
ExpGLM.html:177:1 (ExpGLM.Rd:131): Warning: <h5> anchor "Usage" already defined
ExpGLM.html:183:1 (ExpGLM.Rd:135): Warning: <h5> anchor "Arguments" already defined
ExpGLM.html:202:1 (ExpGLM.Rd:148): Warning: <h5> anchor "Returns" already defined
ExpGLM.html:220:1 (ExpGLM.Rd:158): Warning: <h5> anchor "Usage" already defined
ExpGLM.html:226:1 (ExpGLM.Rd:162): Warning: <h5> anchor "Arguments" already defined
ExpGLM.html:245:1 (ExpGLM.Rd:175): Warning: <h5> anchor "Returns" already defined
ExpGLM.html:264:1 (ExpGLM.Rd:186): Warning: <h5> anchor "Usage" already defined
ExpGLM.html:270:1 (ExpGLM.Rd:190): Warning: <h5> anchor "Arguments" already defined
ExpGLM.html:286:1 (ExpGLM.Rd:200): Warning: <h5> anchor "Returns" already defined
ExpGLM.html:303:1 (ExpGLM.Rd:209): Warning: <h5> anchor "Usage" already defined
ExpGLM.html:309:1 (ExpGLM.Rd:213): Warning: <h5> anchor "Arguments" already defined
GLM.html:180:1 (GLM.Rd:98): Warning: missing </ul> before </div>
GLM.html:118:1 (GLM.Rd:64): Warning: <h5> anchor "Usage" already defined
GLM.html:124:1 (GLM.Rd:68): Warning: <h5> anchor "Arguments" already defined
GLM.html:140:1 (GLM.Rd:78): Warning: <h5> anchor "Returns" already defined
GLM.html:157:1 (GLM.Rd:87): Warning: <h5> anchor "Usage" already defined
GLM.html:163:1 (GLM.Rd:91): Warning: <h5> anchor "Arguments" already defined
GOFTest.html:127:1 (GOFTest.Rd:95): Warning: <h5> anchor "Usage" already defined
GOFTest.html:133:1 (GOFTest.Rd:99): Warning: <h5> anchor "Returns" already defined
GOFTest.html:151:1 (GOFTest.Rd:109): Warning: <h5> anchor "Usage" already defined
GOFTest.html:157:1 (GOFTest.Rd:113): Warning: <h5> anchor "Returns" already defined
GOFTest.html:175:1 (GOFTest.Rd:123): Warning: <h5> anchor "Usage" already defined
GOFTest.html:181:1 (GOFTest.Rd:127): Warning: <h5> anchor "Returns" already defined
GOFTest.html:200:1 (GOFTest.Rd:138): Warning: <h5> anchor "Usage" already defined
GOFTest.html:214:1 (GOFTest.Rd:150): Warning: <h5> anchor "Arguments" already defined
GOFTest.html:241:1 (GOFTest.Rd:171): Warning: <h5> anchor "Returns" already defined
GOFTest.html:258:1 (GOFTest.Rd:180): Warning: <h5> anchor "Usage" already defined
GOFTest.html:264:1 (GOFTest.Rd:184): Warning: <h5> anchor "Arguments" already defined
GammaGLM.html:135:1 (GammaGLM.Rd:105): Warning: <h5> anchor "Usage" already defined
GammaGLM.html:141:1 (GammaGLM.Rd:109): Warning: <h5> anchor "Arguments" already defined
GammaGLM.html:159:1 (GammaGLM.Rd:121): Warning: <h5> anchor "Returns" already defined
GammaGLM.html:176:1 (GammaGLM.Rd:130): Warning: <h5> anchor "Usage" already defined
GammaGLM.html:182:1 (GammaGLM.Rd:134): Warning: <h5> anchor "Arguments" already defined
GammaGLM.html:201:1 (GammaGLM.Rd:147): Warning: <h5> anchor "Returns" already defined
GammaGLM.html:219:1 (GammaGLM.Rd:157): Warning: <h5> anchor "Usage" already defined
GammaGLM.html:225:1 (GammaGLM.Rd:161): Warning: <h5> anchor "Arguments" already defined
GammaGLM.html:244:1 (GammaGLM.Rd:174): Warning: <h5> anchor "Returns" already defined
GammaGLM.html:263:1 (GammaGLM.Rd:185): Warning: <h5> anchor "Usage" already defined
GammaGLM.html:269:1 (GammaGLM.Rd:189): Warning: <h5> anchor "Arguments" already defined
GammaGLM.html:285:1 (GammaGLM.Rd:199): Warning: <h5> anchor "Returns" already defined
GammaGLM.html:302:1 (GammaGLM.Rd:208): Warning: <h5> anchor "Usage" already defined
GammaGLM.html:308:1 (GammaGLM.Rd:212): Warning: <h5> anchor "Arguments" already defined
MEP.html:119:1 (MEP.Rd:93): Warning: <h5> anchor "Usage" already defined
MEP.html:125:1 (MEP.Rd:97): Warning: <h5> anchor "Arguments" already defined
NegBinomGLM.html:136:1 (NegBinomGLM.Rd:106): Warning: <h5> anchor "Usage" already defined
NegBinomGLM.html:142:1 (NegBinomGLM.Rd:110): Warning: <h5> anchor "Arguments" already defined
NegBinomGLM.html:160:1 (NegBinomGLM.Rd:122): Warning: <h5> anchor "Returns" already defined
NegBinomGLM.html:177:1 (NegBinomGLM.Rd:131): Warning: <h5> anchor "Usage" already defined
NegBinomGLM.html:183:1 (NegBinomGLM.Rd:135): Warning: <h5> anchor "Arguments" already defined
NegBinomGLM.html:202:1 (NegBinomGLM.Rd:148): Warning: <h5> anchor "Returns" already defined
NegBinomGLM.html:220:1 (NegBinomGLM.Rd:158): Warning: <h5> anchor "Usage" already defined
NegBinomGLM.html:226:1 (NegBinomGLM.Rd:162): Warning: <h5> anchor "Arguments" already defined
NegBinomGLM.html:245:1 (NegBinomGLM.Rd:175): Warning: <h5> anchor "Returns" already defined
NegBinomGLM.html:264:1 (NegBinomGLM.Rd:186): Warning: <h5> anchor "Usage" already defined
NegBinomGLM.html:270:1 (NegBinomGLM.Rd:190): Warning: <h5> anchor "Arguments" already defined
NegBinomGLM.html:286:1 (NegBinomGLM.Rd:200): Warning: <h5> anchor "Returns" already defined
NegBinomGLM.html:303:1 (NegBinomGLM.Rd:209): Warning: <h5> anchor "Usage" already defined
NegBinomGLM.html:309:1 (NegBinomGLM.Rd:213): Warning: <h5> anchor "Arguments" already defined
NormalGLM.html:135:1 (NormalGLM.Rd:105): Warning: <h5> anchor "Usage" already defined
NormalGLM.html:141:1 (NormalGLM.Rd:109): Warning: <h5> anchor "Arguments" already defined
NormalGLM.html:159:1 (NormalGLM.Rd:121): Warning: <h5> anchor "Returns" already defined
NormalGLM.html:176:1 (NormalGLM.Rd:130): Warning: <h5> anchor "Usage" already defined
NormalGLM.html:182:1 (NormalGLM.Rd:134): Warning: <h5> anchor "Arguments" already defined
NormalGLM.html:201:1 (NormalGLM.Rd:147): Warning: <h5> anchor "Returns" already defined
NormalGLM.html:219:1 (NormalGLM.Rd:157): Warning: <h5> anchor "Usage" already defined
NormalGLM.html:225:1 (NormalGLM.Rd:161): Warning: <h5> anchor "Arguments" already defined
NormalGLM.html:244:1 (NormalGLM.Rd:174): Warning: <h5> anchor "Returns" already defined
NormalGLM.html:263:1 (NormalGLM.Rd:185): Warning: <h5> anchor "Usage" already defined
NormalGLM.html:269:1 (NormalGLM.Rd:189): Warning: <h5> anchor "Arguments" already defined
NormalGLM.html:285:1 (NormalGLM.Rd:199): Warning: <h5> anchor "Returns" already defined
NormalGLM.html:302:1 (NormalGLM.Rd:208): Warning: <h5> anchor "Usage" already defined
NormalGLM.html:308:1 (NormalGLM.Rd:212): Warning: <h5> anchor "Arguments" already defined
ParamRegrModel.html:427:1 (ParamRegrModel.Rd:239): Warning: missing </ul> before </div>
ParamRegrModel.html:131:1 (ParamRegrModel.Rd:61): Warning: <h5> anchor "Usage" already defined
ParamRegrModel.html:137:1 (ParamRegrModel.Rd:65): Warning: <h5> anchor "Returns" already defined
ParamRegrModel.html:155:1 (ParamRegrModel.Rd:75): Warning: <h5> anchor "Usage" already defined
ParamRegrModel.html:161:1 (ParamRegrModel.Rd:79): Warning: <h5> anchor "Arguments" already defined
ParamRegrModel.html:179:1 (ParamRegrModel.Rd:91): Warning: <h5> anchor "Returns" already defined
ParamRegrModel.html:197:1 (ParamRegrModel.Rd:101): Warning: <h5> anchor "Usage" already defined
ParamRegrModel.html:203:1 (ParamRegrModel.Rd:105): Warning: <h5> anchor "Arguments" already defined
ParamRegrModel.html:221:1 (ParamRegrModel.Rd:117): Warning: <h5> anchor "Returns" already defined
ParamRegrModel.html:238:1 (ParamRegrModel.Rd:126): Warning: <h5> anchor "Usage" already defined
ParamRegrModel.html:244:1 (ParamRegrModel.Rd:130): Warning: <h5> anchor "Arguments" already defined
ParamRegrModel.html:263:1 (ParamRegrModel.Rd:143): Warning: <h5> anchor "Returns" already defined
ParamRegrModel.html:281:1 (ParamRegrModel.Rd:153): Warning: <h5> anchor "Usage" already defined
ParamRegrModel.html:287:1 (ParamRegrModel.Rd:157): Warning: <h5> anchor "Arguments" already defined
ParamRegrModel.html:306:1 (ParamRegrModel.Rd:170): Warning: <h5> anchor "Returns" already defined
ParamRegrModel.html:325:1 (ParamRegrModel.Rd:181): Warning: <h5> anchor "Usage" already defined
ParamRegrModel.html:331:1 (ParamRegrModel.Rd:185): Warning: <h5> anchor "Arguments" already defined
ParamRegrModel.html:347:1 (ParamRegrModel.Rd:195): Warning: <h5> anchor "Returns" already defined
ParamRegrModel.html:365:1 (ParamRegrModel.Rd:205): Warning: <h5> anchor "Usage" already defined
ParamRegrModel.html:371:1 (ParamRegrModel.Rd:209): Warning: <h5> anchor "Arguments" already defined
ParamRegrModel.html:387:1 (ParamRegrModel.Rd:219): Warning: <h5> anchor "Returns" already defined
ParamRegrModel.html:404:1 (ParamRegrModel.Rd:228): Warning: <h5> anchor "Usage" already defined
ParamRegrModel.html:410:1 (ParamRegrModel.Rd:232): Warning: <h5> anchor "Arguments" already defined
SICM.html:142:1 (SICM.Rd:114): Warning: <h5> anchor "Usage" already defined
SICM.html:148:1 (SICM.Rd:118): Warning: <h5> anchor "Arguments" already defined
SICM.html:163:1 (SICM.Rd:127): Warning: <h5> anchor "Returns" already defined
SICM.html:180:1 (SICM.Rd:136): Warning: <h5> anchor "Usage" already defined
SICM.html:186:1 (SICM.Rd:140): Warning: <h5> anchor "Arguments" already defined
TestStatistic.html:286:1 (TestStatistic.Rd:153): Warning: missing </ul> before </div>
TestStatistic.html:98:1 (TestStatistic.Rd:45): Warning: <h5> anchor "Usage" already defined
TestStatistic.html:119:1 (TestStatistic.Rd:58): Warning: <h5> anchor "Returns" already defined
TestStatistic.html:137:1 (TestStatistic.Rd:68): Warning: <h5> anchor "Usage" already defined
TestStatistic.html:143:1 (TestStatistic.Rd:72): Warning: <h5> anchor "Returns" already defined
TestStatistic.html:161:1 (TestStatistic.Rd:82): Warning: <h5> anchor "Usage" already defined
TestStatistic.html:167:1 (TestStatistic.Rd:86): Warning: <h5> anchor "Returns" already defined
TestStatistic.html:185:1 (TestStatistic.Rd:96): Warning: <h5> anchor "Usage" already defined
TestStatistic.html:191:1 (TestStatistic.Rd:100): Warning: <h5> anchor "Arguments" already defined
TestStatistic.html:206:1 (TestStatistic.Rd:109): Warning: <h5> anchor "Returns" already defined
TestStatistic.html:224:1 (TestStatistic.Rd:119): Warning: <h5> anchor "Usage" already defined
TestStatistic.html:230:1 (TestStatistic.Rd:123): Warning: <h5> anchor "Arguments" already defined
TestStatistic.html:245:1 (TestStatistic.Rd:132): Warning: <h5> anchor "Returns" already defined
TestStatistic.html:263:1 (TestStatistic.Rd:142): Warning: <h5> anchor "Usage" already defined
TestStatistic.html:269:1 (TestStatistic.Rd:146): Warning: <h5> anchor "Arguments" already defined
WeibullGLM.html:135:1 (WeibullGLM.Rd:105): Warning: <h5> anchor "Usage" already defined
WeibullGLM.html:141:1 (WeibullGLM.Rd:109): Warning: <h5> anchor "Arguments" already defined
WeibullGLM.html:159:1 (WeibullGLM.Rd:121): Warning: <h5> anchor "Returns" already defined
WeibullGLM.html:176:1 (WeibullGLM.Rd:130): Warning: <h5> anchor "Usage" already defined
WeibullGLM.html:182:1 (WeibullGLM.Rd:134): Warning: <h5> anchor "Arguments" already defined
WeibullGLM.html:201:1 (WeibullGLM.Rd:147): Warning: <h5> anchor "Returns" already defined
WeibullGLM.html:219:1 (WeibullGLM.Rd:157): Warning: <h5> anchor "Usage" already defined
WeibullGLM.html:225:1 (WeibullGLM.Rd:161): Warning: <h5> anchor "Arguments" already defined
WeibullGLM.html:244:1 (WeibullGLM.Rd:174): Warning: <h5> anchor "Returns" already defined
WeibullGLM.html:263:1 (WeibullGLM.Rd:185): Warning: <h5> anchor "Usage" already defined
WeibullGLM.html:269:1 (WeibullGLM.Rd:189): Warning: <h5> anchor "Arguments" already defined
WeibullGLM.html:285:1 (WeibullGLM.Rd:199): Warning: <h5> anchor "Returns" already defined
WeibullGLM.html:302:1 (WeibullGLM.Rd:208): Warning: <h5> anchor "Usage" already defined
WeibullGLM.html:308:1 (WeibullGLM.Rd:212): Warning: <h5> anchor "Arguments" already defined
- checking for non-standard things in the check directory ... OK
- DONE
Status: 1 NOTE