- using R Under development (unstable) (2023-09-25 r85222)
- using platform: x86_64-pc-linux-gnu
- R was compiled by
gcc-13 (Debian 13.2.0-4) 13.2.0
GNU Fortran (Debian 13.2.0-4) 13.2.0
- running under: Debian GNU/Linux trixie/sid
- using session charset: UTF-8
- checking for file ‘ggpubr/DESCRIPTION’ ... OK
- checking extension type ... Package
- this is package ‘ggpubr’ version ‘0.6.0’
- package encoding: UTF-8
- checking package namespace information ... OK
- checking package dependencies ... OK
- checking if this is a source package ... OK
- checking if there is a namespace ... OK
- checking for executable files ... OK
- checking for hidden files and directories ... OK
- checking for portable file names ... OK
- checking for sufficient/correct file permissions ... OK
- checking serialization versions ... OK
- checking whether package ‘ggpubr’ can be installed ... OK
See the install log for details.
- checking package directory ... OK
- checking for future file timestamps ... OK
- checking DESCRIPTION meta-information ... OK
- checking top-level files ... OK
- checking for left-over files ... OK
- checking index information ... OK
- checking package subdirectories ... OK
- checking R files for non-ASCII characters ... OK
- checking R files for syntax errors ... OK
- checking whether the package can be loaded ... [1s/3s] OK
- checking whether the package can be loaded with stated dependencies ... [1s/2s] OK
- checking whether the package can be unloaded cleanly ... [1s/1s] OK
- checking whether the namespace can be loaded with stated dependencies ... [1s/2s] OK
- checking whether the namespace can be unloaded cleanly ... [1s/2s] OK
- checking loading without being on the library search path ... [2s/3s] OK
- checking use of S3 registration ... OK
- checking dependencies in R code ... OK
- checking S3 generic/method consistency ... OK
- checking replacement functions ... OK
- checking foreign function calls ... OK
- checking R code for possible problems ... [28s/43s] OK
- checking Rd files ... [1s/2s] OK
- checking Rd metadata ... OK
- checking Rd line widths ... OK
- checking Rd cross-references ... OK
- checking for missing documentation entries ... OK
- checking for code/documentation mismatches ... OK
- checking Rd \usage sections ... OK
- checking Rd contents ... OK
- checking for unstated dependencies in examples ... OK
- checking contents of ‘data’ directory ... OK
- checking data for non-ASCII characters ... [0s/1s] OK
- checking LazyData ... OK
- checking data for ASCII and uncompressed saves ... OK
- checking examples ... [134s/207s] OK
Examples with CPU (user + system) or elapsed time > 5s
user system elapsed
ggtexttable 5.608 0.036 8.531
ggbarplot 5.476 0.035 8.548
ggmaplot 5.393 0.071 8.275
ggsummarystats 5.360 0.004 8.002
stat_anova_test 5.300 0.011 7.953
geom_pwc 4.466 0.036 6.958
ggline 4.453 0.012 7.966
ggpar 4.084 0.032 6.252
ggviolin 4.075 0.031 6.198
ggscatter 3.832 0.067 6.076
diff_express 3.723 0.139 7.281
ggadjust_pvalue 3.710 0.070 5.474
ggboxplot 3.658 0.012 6.775
stat_friedman_test 3.368 0.008 5.319
stat_welch_anova_test 3.191 0.003 5.226
ggscatterhist 3.069 0.004 5.313
- checking for unstated dependencies in ‘tests’ ... OK
- checking tests ... [26s/38s] OK
Running ‘testthat.R’ [26s/37s]
- checking PDF version of manual ... [10s/20s] OK
- checking HTML version of manual ... [6s/14s] OK
- checking for non-standard things in the check directory ... OK
- DONE
Status: OK