- using R Under development (unstable) (2024-04-24 r86483)
- using platform: x86_64-pc-linux-gnu
- R was compiled by
gcc-13 (Debian 13.2.0-23) 13.2.0
GNU Fortran (Debian 13.2.0-23) 13.2.0
- running under: Debian GNU/Linux trixie/sid
- using session charset: UTF-8
- checking for file ‘funGp/DESCRIPTION’ ... OK
- checking extension type ... Package
- this is package ‘funGp’ version ‘0.3.2’
- package encoding: UTF-8
- checking package namespace information ... OK
- checking package dependencies ... OK
- checking if this is a source package ... OK
- checking if there is a namespace ... OK
- checking for executable files ... OK
- checking for hidden files and directories ... OK
- checking for portable file names ... OK
- checking for sufficient/correct file permissions ... OK
- checking whether package ‘funGp’ can be installed ... OK
See the install log for details.
- checking package directory ... OK
- checking for future file timestamps ... OK
- checking DESCRIPTION meta-information ... OK
- checking top-level files ... OK
- checking for left-over files ... OK
- checking index information ... OK
- checking package subdirectories ... OK
- checking code files for non-ASCII characters ... OK
- checking R files for syntax errors ... OK
- checking whether the package can be loaded ... [1s/2s] OK
- checking whether the package can be loaded with stated dependencies ... [1s/1s] OK
- checking whether the package can be unloaded cleanly ... [1s/1s] OK
- checking whether the namespace can be loaded with stated dependencies ... [1s/1s] OK
- checking whether the namespace can be unloaded cleanly ... [1s/2s] OK
- checking loading without being on the library search path ... [1s/1s] OK
- checking use of S3 registration ... OK
- checking dependencies in R code ... OK
- checking S3 generic/method consistency ... OK
- checking replacement functions ... OK
- checking foreign function calls ... OK
- checking R code for possible problems ... [22s/35s] OK
- checking Rd files ... [1s/1s] NOTE
checkRd: (-1) Xfgpm-class.Rd:12-15: Lost braces in \itemize; meant \describe ?
checkRd: (-1) Xfgpm-class.Rd:16-19: Lost braces in \itemize; meant \describe ?
checkRd: (-1) Xfgpm-class.Rd:67-70: Lost braces in \itemize; meant \describe ?
checkRd: (-1) black-boxes.Rd:57-59: Lost braces in \itemize; meant \describe ?
checkRd: (-1) black-boxes.Rd:61-63: Lost braces in \itemize; meant \describe ?
checkRd: (-1) black-boxes.Rd:65-68: Lost braces in \itemize; meant \describe ?
checkRd: (-1) black-boxes.Rd:70-76: Lost braces in \itemize; meant \describe ?
checkRd: (-1) black-boxes.Rd:78-84: Lost braces in \itemize; meant \describe ?
checkRd: (-1) black-boxes.Rd:86-89: Lost braces in \itemize; meant \describe ?
checkRd: (-1) black-boxes.Rd:91-97: Lost braces in \itemize; meant \describe ?
checkRd: (-1) fgpm-class.Rd:12-17: Lost braces in \itemize; meant \describe ?
checkRd: (-1) fgpm-class.Rd:18-22: Lost braces in \itemize; meant \describe ?
checkRd: (-1) fgpm-class.Rd:31: Lost braces; missing escapes or markup?
31 | {"scalar", "functional", "hybrid"}.}
| ^
checkRd: (-1) fgpm-class.Rd:78-81: Lost braces in \itemize; meant \describe ?
checkRd: (-1) funGp-package.Rd:20-25: Lost braces in \itemize; meant \describe ?
checkRd: (-1) funGp-package.Rd:26-30: Lost braces in \itemize; meant \describe ?
checkRd: (-1) funGp-package.Rd:37-39: Lost braces in \itemize; meant \describe ?
checkRd: (-1) funGp-package.Rd:40-43: Lost braces in \itemize; meant \describe ?
checkRd: (-1) funGp-package.Rd:44-48: Lost braces in \itemize; meant \describe ?
checkRd: (-1) funGp-package.Rd:49-54: Lost braces in \itemize; meant \describe ?
checkRd: (-1) funGp-package.Rd:61-64: Lost braces in \itemize; meant \describe ?
checkRd: (-1) funGp-package.Rd:65-68: Lost braces in \itemize; meant \describe ?
checkRd: (-1) funGp-package.Rd:69-72: Lost braces in \itemize; meant \describe ?
checkRd: (-1) kernel-class.Rd:14-15: Lost braces
14 | \item{\code{kerType}}{Object of class \code{"character"}. Kernel type. To be set from {"gauss", "matern5_2",
| ^
checkRd: (-1) kernel-class.Rd:17-18: Lost braces
17 | \item{\code{f_disType}}{Object of class \code{"character"}. Distance type. To be set from {"L2_bygroup",
| ^
checkRd: (-1) plot-fgpm-method.Rd:16: Lost braces in \itemize; meant \describe ?
checkRd: (-1) plot-fgpm-method.Rd:17-18: Lost braces in \itemize; meant \describe ?
checkRd: (-1) plot-fgpm-method.Rd:19: Lost braces in \itemize; meant \describe ?
checkRd: (-1) plot-fgpm-method.Rd:20-21: Lost braces in \itemize; meant \describe ?
checkRd: (-1) proj-Class.Rd:16: Lost braces; missing escapes or markup?
16 | \item{\code{basType}}{Object of class \code{"character"}. To be chosen from {"PCA", "B-splines"}.}
| ^
- checking Rd metadata ... OK
- checking Rd line widths ... OK
- checking Rd cross-references ... OK
- checking for missing documentation entries ... OK
- checking for code/documentation mismatches ... OK
- checking Rd \usage sections ... OK
- checking Rd contents ... OK
- checking for unstated dependencies in examples ... OK
- checking contents of ‘data’ directory ... OK
- checking data for non-ASCII characters ... [1s/2s] OK
- checking LazyData ... OK
- checking data for ASCII and uncompressed saves ... OK
- checking examples ... [3s/4s] OK
- checking PDF version of manual ... [6s/14s] OK
- checking HTML version of manual ... [2s/5s] OK
- checking for non-standard things in the check directory ... OK
- DONE
Status: 1 NOTE