* using log directory ‘/home/hornik/tmp/R.check/r-devel-gcc/Work/PKGS/fortunes.Rcheck’ * using R Under development (unstable) (2025-07-15 r88411) * using platform: x86_64-pc-linux-gnu * R was compiled by gcc-14 (Debian 14.2.0-19) 14.2.0 GNU Fortran (Debian 14.2.0-19) 14.2.0 * running under: Debian GNU/Linux 13 (trixie) * using session charset: UTF-8 * checking for file ‘fortunes/DESCRIPTION’ ... OK * this is package ‘fortunes’ version ‘1.5-4’ * checking CRAN incoming feasibility ... [0s/0s] NOTE Maintainer: ‘Achim Zeileis ’ No Authors@R field in DESCRIPTION. Please add one, modifying Authors@R: c(person(given = "Achim", family = "Zeileis", role = c("aut", "cre"), email = "achim.zeileis@r-project.org", comment = "R code"), person(given = c("the", "R", "community.", "Contributions", "(fortunes", "and/or", "code)", "by", "Torsten"), family = "Hothorn", role = "aut", comment = "fortunes and/or code"), person(given = "Peter", family = "Dalgaard", role = "aut"), person(given = "Uwe", family = "Ligges", role = "aut"), person(given = "Kevin", family = "Wright", role = "aut"), person(given = "Martin", family = "Maechler", role = "aut"), person(given = c("Kjetil", "Brinchmann"), family = "Halvorsen", role = "aut"), person(given = "Kurt", family = "Hornik", role = "aut"), person(given = "Duncan", family = "Murdoch", role = "aut"), person(given = "Andy", family = "Bunn", role = "aut"), person(given = "Ray", family = "Brownrigg", role = "aut"), person(given = "Roger", family = "Bivand", role = "aut"), person(given = "Spencer", family = "Graves", role = "aut"), person(given = "Jim", family = "Lemon", role = "aut"), person(given = "Christian", family = "Kleiber", role = "aut"), person(given = c("David", "L."), family = "Reiner", role = "aut"), person(given = "Berton", family = "Gunter", role = "aut"), person(given = "Roger", family = "Koenker", role = "aut"), person(given = "Charles", family = "Berry", role = "aut"), person(given = "Marc", family = "Schwartz", role = "aut"), person(given = "Michael", family = "Dewey", role = "aut"), person(given = "Ben", family = "Bolker", role = "aut"), person(given = "Peter", family = "Dunn", role = "aut"), person(given = "Sarah", family = "Goslee", role = "aut"), person(given = "Simon", family = "Blomberg", role = "aut"), person(given = "Bill", family = "Venables", role = "aut"), person(given = "Roland", family = "Rau", role = "aut"), person(given = "Thomas", family = "Petzoldt", role = "aut"), person(given = "Rolf", family = "Turner", role = "aut"), person(given = "Mark", family = "Leeds", role = "aut"), person(given = "Emmanuel", family = "Charpentier", role = "aut"), person(given = "Chris", family = "Evans", role = "aut"), person(given = "Paolo", family = "Sonego", role = "aut"), person(given = "Peter", family = "Ehlers", role = "aut"), person(given = "Detlef", family = "Steuer", role = "aut"), person(given = "Tal", family = "Galili", role = "aut"), person(given = "Greg", family = "Snow", role = "aut"), person(given = c("Brian", "D."), family = "Ripley", role = "aut"), person(given = "Michael", family = "Sumner", role = "aut"), person(given = "David", family = "Winsemius", role = "aut"), person(given = "Liviu", family = "Andronic", role = "aut"), person(given = "Brian", family = "Diggs", role = "aut"), person(given = "Matthieu", family = "Stigler", role = "aut"), person(given = "Michael", family = "Friendly", role = "aut"), person(given = "Dirk", family = "Eddelbuettel", role = "aut"), person(given = c("Richard", "M."), family = "Heiberger", role = "aut"), person(given = "Patrick", family = "Burns", role = "aut"), person(given = "Dieter", family = "Menne", role = "aut"), person(given = "Andrie", family = "de Vries", role = "aut"), person(given = "Barry", family = "Rowlingson", role = "aut"), person(given = "Renaud", family = "Lancelot", role = "aut"), person(given = c("R.", "Michael"), family = "Weylandt", role = "aut"), person(given = c("Jon", "Olav"), family = "Skoien", role = "aut"), person(given = "Francois", family = "Morneau", role = "aut"), person(given = "Antony", family = "Unwin", role = "aut"), person(given = "Joshua", family = "Wiley", role = "aut"), person(given = "Terry", family = "Therneau", role = "aut"), person(given = "Bryan", family = "Hanson", role = "aut"), person(given = "Henrik", family = "Singmann", role = "aut"), person(given = "Eduard", family = "Szoecs", role = "aut"), person(given = "Gregor", family = "Passolt", role = "aut"), person(given = c("John", "C."), family = "Nash.", role = "aut")) as necessary. * checking package namespace information ... OK * checking package dependencies ... OK * checking if this is a source package ... OK * checking if there is a namespace ... OK * checking for executable files ... OK * checking for hidden files and directories ... OK * checking for portable file names ... OK * checking for sufficient/correct file permissions ... OK * checking serialization versions ... OK * checking whether package ‘fortunes’ can be installed ... OK See 'https://www.r-project.org/nosvn/R.check/r-devel-linux-x86_64-debian-gcc/fortunes-00install.html' for details. * checking package directory ... OK * checking for future file timestamps ... OK * checking ‘build’ directory ... OK * checking DESCRIPTION meta-information ... OK * checking top-level files ... OK * checking for left-over files ... OK * checking index information ... OK * checking package subdirectories ... OK * checking code files for non-ASCII characters ... OK * checking R files for syntax errors ... OK * checking whether the package can be loaded ... [0s/0s] OK * checking whether the package can be loaded with stated dependencies ... [0s/0s] OK * checking whether the package can be unloaded cleanly ... [0s/0s] OK * checking whether the namespace can be loaded with stated dependencies ... [0s/0s] OK * checking whether the namespace can be unloaded cleanly ... [0s/0s] OK * checking loading without being on the library search path ... [0s/0s] OK * checking use of S3 registration ... OK * checking dependencies in R code ... OK * checking S3 generic/method consistency ... OK * checking replacement functions ... OK * checking foreign function calls ... OK * checking R code for possible problems ... [3s/3s] OK * checking Rd files ... [0s/0s] OK * checking Rd metadata ... OK * checking Rd line widths ... OK * checking Rd cross-references ... OK * checking for missing documentation entries ... OK * checking for code/documentation mismatches ... OK * checking Rd \usage sections ... OK * checking Rd contents ... OK * checking for unstated dependencies in examples ... OK * checking sizes of PDF files under ‘inst/doc’ ... OK * checking installed files from ‘inst/doc’ ... OK * checking files in ‘vignettes’ ... OK * checking examples ... [0s/1s] OK * checking for unstated dependencies in ‘tests’ ... OK * checking tests ... [1s/1s] OK Running ‘checks.R’ [1s/1s] * checking for unstated dependencies in vignettes ... OK * checking package vignettes ... OK * checking re-building of vignette outputs ... [2s/3s] OK * checking PDF version of manual ... [3s/5s] OK * checking HTML version of manual ... [0s/0s] OK * checking for non-standard things in the check directory ... OK * DONE Status: 1 NOTE