* using log directory ‘/home/hornik/tmp/R.check/r-devel-gcc/Work/PKGS/evmix.Rcheck’ * using R Under development (unstable) (2025-07-15 r88411) * using platform: x86_64-pc-linux-gnu * R was compiled by gcc-14 (Debian 14.2.0-19) 14.2.0 GNU Fortran (Debian 14.2.0-19) 14.2.0 * running under: Debian GNU/Linux 13 (trixie) * using session charset: UTF-8 * checking for file ‘evmix/DESCRIPTION’ ... OK * this is package ‘evmix’ version ‘2.12’ * package encoding: UTF-8 * checking CRAN incoming feasibility ... [2s/3s] NOTE Maintainer: ‘Carl Scarrott ’ No Authors@R field in DESCRIPTION. Please add one, modifying Authors@R: c(person(given = "Carl", family = "Scarrott", role = c("aut", "cre"), email = "carl.scarrott@canterbury.ac.nz"), person(given = "Yang", family = "Hu", role = "aut"), person(given = "Alfadino", family = "Akbar", role = "aut"), person(given = c("University", "of"), family = "Canterbury", role = "aut")) as necessary. * checking package namespace information ... OK * checking package dependencies ... OK * checking if this is a source package ... OK * checking if there is a namespace ... OK * checking for executable files ... OK * checking for hidden files and directories ... OK * checking for portable file names ... OK * checking for sufficient/correct file permissions ... OK * checking serialization versions ... OK * checking whether package ‘evmix’ can be installed ... OK See 'https://www.r-project.org/nosvn/R.check/r-devel-linux-x86_64-debian-gcc/evmix-00install.html' for details. * checking package directory ... OK * checking for future file timestamps ... OK * checking DESCRIPTION meta-information ... OK * checking top-level files ... OK * checking for left-over files ... OK * checking index information ... OK * checking package subdirectories ... OK * checking code files for non-ASCII characters ... OK * checking R files for syntax errors ... OK * checking whether the package can be loaded ... [0s/0s] OK * checking whether the package can be loaded with stated dependencies ... [0s/1s] OK * checking whether the package can be unloaded cleanly ... [0s/1s] OK * checking whether the namespace can be loaded with stated dependencies ... [0s/1s] OK * checking whether the namespace can be unloaded cleanly ... [0s/1s] OK * checking loading without being on the library search path ... [0s/1s] OK * checking use of S3 registration ... OK * checking dependencies in R code ... OK * checking S3 generic/method consistency ... OK * checking replacement functions ... OK * checking foreign function calls ... OK * checking R code for possible problems ... [48s/61s] OK * checking Rd files ... [2s/3s] NOTE checkRd: (-1) fmgammagpd.Rd:183: Lost braces; missing escapes or markup? 183 | \item {nlumgammagpd} and {proflumgammagpd} - \code{c(mgshape, mgscale, mgweight[1:(M-1)], sigmau, xi)} | ^ checkRd: (-1) fmgammagpdcon.Rd:181: Lost braces; missing escapes or markup? 181 | \item {nlumgammagpdcon} and {proflumgammagpdcon} - \code{c(mgshape, mgscale, mgweight[1:(M-1)], xi)} | ^ checkRd: (-1) kernels.Rd:87: Lost braces 87 | code{\link[evmix:kernels]{kd*}} and \code{\link[evmix:kernels]{kp*}} give the | ^ * checking Rd metadata ... OK * checking Rd line widths ... OK * checking Rd cross-references ... OK * checking for missing documentation entries ... OK * checking for code/documentation mismatches ... OK * checking Rd \usage sections ... OK * checking Rd contents ... OK * checking for unstated dependencies in examples ... OK * checking sizes of PDF files under ‘inst/doc’ ... OK * checking installed files from ‘inst/doc’ ... OK * checking examples ... [2s/2s] OK * checking PDF version of manual ... [16s/18s] OK * checking HTML version of manual ... [9s/14s] OK * checking for non-standard things in the check directory ... OK * DONE Status: 2 NOTEs