- using R Under development (unstable) (2025-10-20 r88955)
- using platform: x86_64-pc-linux-gnu
- R was compiled by
gcc-15 (Debian 15.2.0-4) 15.2.0
GNU Fortran (Debian 15.2.0-4) 15.2.0
- running under: Debian GNU/Linux forky/sid
- using session charset: UTF-8
- checking for file ‘esreg/DESCRIPTION’ ... OK
- checking extension type ... Package
- this is package ‘esreg’ version ‘0.6.2’
- package encoding: UTF-8
- checking CRAN incoming feasibility ... [0s/1s] OK
- checking package namespace information ... OK
- checking package dependencies ... OK
- checking if this is a source package ... OK
- checking if there is a namespace ... OK
- checking for executable files ... OK
- checking for hidden files and directories ... OK
- checking for portable file names ... OK
- checking for sufficient/correct file permissions ... OK
- checking serialization versions ... OK
- checking whether package ‘esreg’ can be installed ... OK
See the install log for details.
- used C++ compiler: ‘g++-15 (Debian 15.2.0-4) 15.2.0’
- checking package directory ... OK
- checking for future file timestamps ... OK
- checking DESCRIPTION meta-information ... OK
- checking top-level files ... OK
- checking for left-over files ... OK
- checking index information ... OK
- checking package subdirectories ... OK
- checking code files for non-ASCII characters ... OK
- checking R files for syntax errors ... OK
- checking whether the package can be loaded ... [0s/0s] OK
- checking whether the package can be loaded with stated dependencies ... [0s/0s] OK
- checking whether the package can be unloaded cleanly ... [0s/0s] OK
- checking whether the namespace can be loaded with stated dependencies ... [0s/0s] OK
- checking whether the namespace can be unloaded cleanly ... [0s/0s] OK
- checking loading without being on the library search path ... [0s/0s] OK
- checking use of S3 registration ... OK
- checking dependencies in R code ... OK
- checking S3 generic/method consistency ... OK
- checking replacement functions ... OK
- checking foreign function calls ... OK
- checking R code for possible problems ... [4s/6s] OK
- checking Rd files ... [0s/1s] OK
- checking Rd metadata ... OK
- checking Rd line widths ... OK
- checking Rd cross-references ... OK
- checking for missing documentation entries ... OK
- checking for code/documentation mismatches ... OK
- checking Rd \usage sections ... OK
- checking Rd contents ... OK
- checking for unstated dependencies in examples ... OK
- checking line endings in C/C++/Fortran sources/headers ... OK
- checking line endings in Makefiles ... OK
- checking compilation flags in Makevars ... OK
- checking for GNU extensions in Makefiles ... OK
- checking for portable use of $(BLAS_LIBS) and $(LAPACK_LIBS) ... OK
- checking use of PKG_*FLAGS in Makefiles ... OK
- checking use of SHLIB_OPENMP_*FLAGS in Makefiles ... OK
- checking pragmas in C/C++ headers and code ... OK
- checking compilation flags used ... OK
- checking compiled code ... OK
- checking examples ... [3s/4s] OK
- checking PDF version of manual ... [5s/7s] OK
- checking HTML version of manual ... [1s/1s] NOTE
Found the following HTML validation problems:
G1_fun.html:59:1 (G1_fun.Rd:16): Warning: missing </ul> before </div>
G1_prime_fun.html:59:1 (G1_prime_fun.Rd:16): Warning: missing </ul> before </div>
G1_prime_prime_fun.html:59:1 (G1_prime_prime_fun.Rd:16): Warning: missing </ul> before </div>
G2_curly_fun.html:68:1 (G2_curly_fun.Rd:19): Warning: missing </ul> before </div>
G2_fun.html:68:1 (G2_fun.Rd:19): Warning: missing </ul> before </div>
G2_prime_fun.html:68:1 (G2_prime_fun.Rd:19): Warning: missing </ul> before </div>
G2_prime_prime.html:68:1 (G2_prime_prime.Rd:19): Warning: missing </ul> before </div>
G_vec.html:55:1 (G_vec.Rd:15): Warning: missing </ul> before </div>
cdf_at_quantile.html:55:1 (cdf_at_quantile.Rd:14): Warning: missing </ul> before </div>
conditional_mean_sigma.html:50:1 (conditional_mean_sigma.Rd:12): Warning: missing </ul> before </div>
conditional_truncated_variance.html:66:1 (conditional_truncated_variance.Rd:14): Warning: missing </ul> before </div>
esr_rho_lp.html:70:1 (esr_rho_lp.Rd:22): Warning: missing </ul> before </div>
estfun.esreg.html:53:1 (estfun.esreg.Rd:12): Warning: missing </ul> before </div>
lambda_matrix.html:79:1 (lambda_matrix.Rd:25): Warning: missing </ul> before </div>
sigma_matrix.html:66:1 (sigma_matrix.Rd:19): Warning: missing </ul> before </div>
vcov.esreg.html:55:1 (vcov.esreg.Rd:14): Warning: missing </ul> before </div>
vcovA.html:107:1 (vcovA.Rd:38): Warning: missing </ul> before </div>
vcovB.html:61:1 (vcovB.Rd:17): Warning: missing </ul> before </div>
- checking for non-standard things in the check directory ... OK
- DONE
Status: 1 NOTE