- using R Under development (unstable) (2023-09-20 r85183)
- using platform: x86_64-pc-linux-gnu
- R was compiled by
gcc-13 (Debian 13.2.0-3) 13.2.0
GNU Fortran (Debian 13.2.0-3) 13.2.0
- running under: Debian GNU/Linux trixie/sid
- using session charset: UTF-8
- using option ‘--no-vignettes’
- checking for file ‘ergm/DESCRIPTION’ ... OK
- this is package ‘ergm’ version ‘4.5.0’
- package encoding: UTF-8
- checking package namespace information ... OK
- checking package dependencies ... OK
- checking if this is a source package ... OK
- checking if there is a namespace ... OK
- checking for executable files ... OK
- checking for hidden files and directories ... OK
- checking for portable file names ... OK
- checking for sufficient/correct file permissions ... OK
- checking whether package ‘ergm’ can be installed ... OK
See the install log for details.
- used C compiler: ‘gcc-13 (Debian 13.2.0-3) 13.2.0’
- checking package directory ... OK
- checking for future file timestamps ... OK
- checking ‘build’ directory ... OK
- checking DESCRIPTION meta-information ... OK
- checking top-level files ... OK
- checking for left-over files ... OK
- checking index information ... OK
- checking package subdirectories ... OK
- checking R files for non-ASCII characters ... OK
- checking R files for syntax errors ... OK
- checking whether the package can be loaded ... [3s/4s] OK
- checking whether the package can be loaded with stated dependencies ... [2s/4s] OK
- checking whether the package can be unloaded cleanly ... [3s/4s] OK
- checking whether the namespace can be loaded with stated dependencies ... [2s/5s] OK
- checking whether the namespace can be unloaded cleanly ... [3s/5s] OK
- checking loading without being on the library search path ... [3s/5s] OK
- checking whether startup messages can be suppressed ... [3s/5s] OK
- checking use of S3 registration ... OK
- checking dependencies in R code ... OK
- checking S3 generic/method consistency ... OK
- checking replacement functions ... OK
- checking foreign function calls ... OK
- checking R code for possible problems ... [65s/107s] OK
- checking Rd files ... [10s/16s] OK
- checking Rd metadata ... OK
- checking Rd line widths ... OK
- checking Rd cross-references ... OK
- checking for missing documentation entries ... OK
- checking for code/documentation mismatches ... OK
- checking Rd \usage sections ... NOTE
Documented arguments not in \usage in documentation object 'call.ErgmTerm':
‘A’
Objects in \usage without \alias in documentation object 'ergm-defunct':
‘sociality’
Documented arguments not in \usage in documentation object 'ergm-deprecated':
‘fname’ ‘varnames’ ‘vartypes’ ‘defaultvalues’ ‘required’
‘nw.bipartiteflag’ ‘requirement’ ‘extramessage’ ‘nw.directedflag’ ‘m’
‘response’ ‘new’ ‘from.new’ ‘model’ ‘proposal’ ‘eta0’ ‘control’
‘verbose’ ‘update.nws’ ‘Clist’ ‘prev.run’ ‘burnin’ ‘samplesize’
‘interval’ ‘maxedges’ ‘attrname’ ‘label’ ‘coord’ ‘jitter’ ‘thresh’
‘usearrows’ ‘mode’ ‘displayisolates’ ‘interactive’ ‘xlab’ ‘ylab’
‘xlim’ ‘ylim’ ‘pad’ ‘label.pad’ ‘displaylabels’ ‘boxed.labels’
‘label.pos’ ‘label.bg’ ‘vertex.sides’ ‘vertex.rot’ ‘arrowhead.cex’
‘label.cex’ ‘loop.cex’ ‘vertex.cex’ ‘edge.col’ ‘label.col’
‘vertex.col’ ‘label.border’ ‘vertex.border’ ‘edge.lty’ ‘label.lty’
‘vertex.lty’ ‘edge.lwd’ ‘label.lwd’ ‘edge.len’ ‘edge.curve’
‘edge.steps’ ‘loop.steps’ ‘object.scale’ ‘uselen’ ‘usecurve’
‘suppress.axes’ ‘vertices.last’ ‘layout.par’ ‘cex.main’ ‘cex.sub’
‘seed’ ‘latent.control’ ‘colornames’ ‘latent’ ‘preserve.eattr’
Documented arguments not in \usage in documentation object 'ergm_state':
‘nw’
Documented arguments not in \usage in documentation object 'nodal_attributes-API':
‘l’
Documented arguments not in \usage in documentation object 'summary.ergm_model':
‘response’
Functions with \usage entries need to have the appropriate \alias
entries, and all their arguments documented.
The \usage entries must correspond to syntactically valid R code.
See chapter ‘Writing R documentation files’ in the ‘Writing R
Extensions’ manual.
- checking Rd contents ... OK
- checking for unstated dependencies in examples ... OK
- checking contents of ‘data’ directory ... OK
- checking data for non-ASCII characters ... [1s/2s] OK
- checking data for ASCII and uncompressed saves ... OK
- checking line endings in C/C++/Fortran sources/headers ... OK
- checking line endings in Makefiles ... OK
- checking compilation flags in Makevars ... OK
- checking for GNU extensions in Makefiles ... OK
- checking for portable use of $(BLAS_LIBS) and $(LAPACK_LIBS) ... OK
- checking use of PKG_*FLAGS in Makefiles ... OK
- checking use of SHLIB_OPENMP_*FLAGS in Makefiles ... OK
- checking pragmas in C/C++ headers and code ... OK
- checking compilation flags used ... OK
- checking compiled code ... OK
- checking sizes of PDF files under ‘inst/doc’ ... OK
- checking installed files from ‘inst/doc’ ... OK
- checking files in ‘vignettes’ ... OK
- checking examples ... [10s/17s] OK
- checking for unstated dependencies in ‘tests’ ... OK
- checking tests ... [294s/284s] OK
Running ‘requireNamespaceTest.R’ [3s/5s]
Running ‘testthat.R’ [291s/278s]
- checking for unstated dependencies in vignettes ... OK
- checking package vignettes in ‘inst/doc’ ... OK
- checking running R code from vignettes ... SKIPPED
- checking re-building of vignette outputs ... SKIPPED
- checking PDF version of manual ... [30s/53s] OK
- checking HTML version of manual ... [19s/39s] OK
- checking for non-standard things in the check directory ... OK
- DONE
Status: 1 NOTE