* using log directory ‘/home/hornik/tmp/R.check/r-devel-gcc/Work/PKGS/ercv.Rcheck’ * using R Under development (unstable) (2025-07-14 r88410) * using platform: x86_64-pc-linux-gnu * R was compiled by gcc-14 (Debian 14.2.0-19) 14.2.0 GNU Fortran (Debian 14.2.0-19) 14.2.0 * running under: Debian GNU/Linux 13 (trixie) * using session charset: UTF-8 * checking for file ‘ercv/DESCRIPTION’ ... OK * checking extension type ... Package * this is package ‘ercv’ version ‘1.0.1’ * package encoding: UTF-8 * checking CRAN incoming feasibility ... [0s/0s] NOTE Maintainer: ‘Isabel Serra ’ No Authors@R field in DESCRIPTION. Please add one, modifying Authors@R: c(person(given = c("Joan", "del"), family = "Castillo", role = "aut"), person(given = c("David", "Moriña"), family = "Soler", role = "aut"), person(given = "Isabel", family = "Serra", role = c("aut", "cre"), email = "iserra@crm.cat")) as necessary. * checking package namespace information ... OK * checking package dependencies ... OK * checking if this is a source package ... OK * checking if there is a namespace ... OK * checking for executable files ... OK * checking for hidden files and directories ... OK * checking for portable file names ... OK * checking for sufficient/correct file permissions ... OK * checking whether package ‘ercv’ can be installed ... OK See 'https://www.r-project.org/nosvn/R.check/r-devel-linux-x86_64-debian-gcc/ercv-00install.html' for details. * checking package directory ... OK * checking for future file timestamps ... OK * checking DESCRIPTION meta-information ... OK * checking top-level files ... OK * checking for left-over files ... OK * checking index information ... OK * checking package subdirectories ... OK * checking code files for non-ASCII characters ... OK * checking R files for syntax errors ... OK * checking whether the package can be loaded ... [0s/0s] OK * checking whether the package can be loaded with stated dependencies ... [0s/0s] OK * checking whether the package can be unloaded cleanly ... [0s/0s] OK * checking whether the namespace can be loaded with stated dependencies ... [0s/0s] OK * checking whether the namespace can be unloaded cleanly ... [0s/0s] OK * checking loading without being on the library search path ... [0s/0s] OK * checking use of S3 registration ... OK * checking dependencies in R code ... OK * checking S3 generic/method consistency ... OK * checking replacement functions ... OK * checking foreign function calls ... OK * checking R code for possible problems ... [4s/5s] OK * checking Rd files ... [0s/1s] NOTE checkRd: (-1) Tm.Rd:46-48: Lost braces in \itemize; \value handles \item{}{} directly checkRd: (-1) Tm.Rd:49-51: Lost braces in \itemize; \value handles \item{}{} directly checkRd: (-1) Tm.Rd:52-54: Lost braces in \itemize; \value handles \item{}{} directly checkRd: (-1) Tm.Rd:55-57: Lost braces in \itemize; \value handles \item{}{} directly checkRd: (-1) Tm.Rd:58-60: Lost braces in \itemize; \value handles \item{}{} directly checkRd: (-1) fitpot.Rd:36-39: Lost braces in \itemize; \value handles \item{}{} directly checkRd: (-1) fitpot.Rd:40-42: Lost braces in \itemize; \value handles \item{}{} directly checkRd: (-1) fitpot.Rd:43-46: Lost braces in \itemize; \value handles \item{}{} directly checkRd: (-1) fitpot.Rd:47-49: Lost braces in \itemize; \value handles \item{}{} directly checkRd: (-1) thrselect.Rd:54-56: Lost braces in \itemize; \value handles \item{}{} directly checkRd: (-1) thrselect.Rd:57-59: Lost braces in \itemize; \value handles \item{}{} directly checkRd: (-1) thrselect.Rd:60-62: Lost braces in \itemize; \value handles \item{}{} directly checkRd: (-1) thrselect.Rd:63-65: Lost braces in \itemize; \value handles \item{}{} directly checkRd: (-1) thrselect.Rd:66-68: Lost braces in \itemize; \value handles \item{}{} directly checkRd: (-1) thrselect.Rd:69-71: Lost braces in \itemize; \value handles \item{}{} directly checkRd: (-1) thrselect.Rd:72-74: Lost braces in \itemize; \value handles \item{}{} directly checkRd: (-1) thrselect.Rd:75-77: Lost braces in \itemize; \value handles \item{}{} directly * checking Rd metadata ... OK * checking Rd line widths ... OK * checking Rd cross-references ... OK * checking for missing documentation entries ... OK * checking for code/documentation mismatches ... OK * checking Rd \usage sections ... OK * checking Rd contents ... OK * checking for unstated dependencies in examples ... OK * checking contents of ‘data’ directory ... OK * checking data for non-ASCII characters ... [0s/0s] OK * checking LazyData ... OK * checking data for ASCII and uncompressed saves ... OK * checking examples ... [4s/5s] OK * checking PDF version of manual ... [4s/6s] OK * checking HTML version of manual ... [1s/1s] OK * checking for non-standard things in the check directory ... OK * DONE Status: 2 NOTEs