- using R Under development (unstable) (2025-10-19 r88945)
- using platform: x86_64-pc-linux-gnu
- R was compiled by
gcc-15 (Debian 15.2.0-4) 15.2.0
GNU Fortran (Debian 15.2.0-4) 15.2.0
- running under: Debian GNU/Linux forky/sid
- using session charset: UTF-8
- checking for file ‘emuR/DESCRIPTION’ ... OK
- this is package ‘emuR’ version ‘2.5.2’
- package encoding: UTF-8
- checking CRAN incoming feasibility ... [2s/3s] OK
- checking package namespace information ... OK
- checking package dependencies ... OK
- checking if this is a source package ... OK
- checking if there is a namespace ... OK
- checking for executable files ... OK
- checking for hidden files and directories ... OK
- checking for portable file names ... OK
- checking for sufficient/correct file permissions ... OK
- checking whether package ‘emuR’ can be installed ... OK
See the install log for details.
- checking package directory ... OK
- checking for future file timestamps ... OK
- checking DESCRIPTION meta-information ... OK
- checking top-level files ... OK
- checking for left-over files ... OK
- checking index information ... OK
- checking package subdirectories ... OK
- checking code files for non-ASCII characters ... OK
- checking R files for syntax errors ... OK
- checking whether the package can be loaded ... [1s/1s] OK
- checking whether the package can be loaded with stated dependencies ... [1s/1s] OK
- checking whether the package can be unloaded cleanly ... [1s/1s] OK
- checking whether the namespace can be loaded with stated dependencies ... [1s/1s] OK
- checking whether the namespace can be unloaded cleanly ... [1s/1s] OK
- checking loading without being on the library search path ... [1s/1s] OK
- checking whether startup messages can be suppressed ... [1s/1s] OK
- checking use of S3 registration ... OK
- checking dependencies in R code ... OK
- checking S3 generic/method consistency ... OK
- checking replacement functions ... OK
- checking foreign function calls ... OK
- checking R code for possible problems ... [30s/38s] OK
- checking Rd files ... [1s/2s] OK
- checking Rd metadata ... OK
- checking Rd line widths ... OK
- checking Rd cross-references ... OK
- checking for missing documentation entries ... OK
- checking for code/documentation mismatches ... OK
- checking Rd \usage sections ... OK
- checking Rd contents ... OK
- checking for unstated dependencies in examples ... OK
- checking contents of ‘data’ directory ... OK
- checking data for non-ASCII characters ... [0s/0s] OK
- checking LazyData ... OK
- checking data for ASCII and uncompressed saves ... OK
- checking examples ... [5s/6s] OK
- checking for unstated dependencies in ‘tests’ ... OK
- checking tests ... [69s/107s] OK
Running ‘testthat.R’ [69s/107s]
- checking PDF version of manual ... [11s/14s] OK
- checking HTML version of manual ... [5s/9s] NOTE
Found the following HTML validation problems:
bind.trackdata.html:47:1 (bind.trackdata.Rd:10): Warning: missing </ul> before </div>
create_itemsInLevel.html:239:1 (create_itemsInLevel.Rd:160): Warning: missing </ul> before </div>
create_links.html:75:1 (create_links.Rd:24): Warning: missing </ul> before </div>
dimnames.trackdata.html:47:1 (dimnames.trackdata.Rd:10): Warning: missing </ul> before </div>
dur.html:46:1 (dur.Rd:10): Warning: missing </ul> before </div>
export_seglistToTxtCollection.html:58:1 (export_seglistToTxtCollection.Rd:15): Warning: missing </ul> before </div>
make.emuRsegs.html:58:1 (make.emuRsegs.Rd:16): Warning: missing </ul> before </div>
polygonplot.html:93:1 (polygonplot.Rd:39): Warning: missing </ul> before </div>
print.emuRsegs.html:51:1 (print.emuRsegs.Rd:12): Warning: missing </ul> before </div>
print.emuRtrackdata.html:51:1 (print.emuRtrackdata.Rd:12): Warning: missing </ul> before </div>
sort.emuRsegs.html:55:1 (sort.emuRsegs.Rd:14): Warning: missing </ul> before </div>
summary.emuDBhandle.html:53:1 (summary.emuDBhandle.Rd:12): Warning: missing </ul> before </div>
summary.emusegs.html:51:1 (summary.emusegs.Rd:12): Warning: missing </ul> before </div>
summary.trackdata.html:51:1 (summary.trackdata.Rd:12): Warning: missing </ul> before </div>
update_itemsInLevel.html:105:1 (update_itemsInLevel.Rd:30): Warning: missing </ul> before </div>
- checking for non-standard things in the check directory ... OK
- DONE
Status: 1 NOTE