- using R Under development (unstable) (2025-10-20 r88955)
- using platform: x86_64-pc-linux-gnu
- R was compiled by
gcc-15 (Debian 15.2.0-4) 15.2.0
GNU Fortran (Debian 15.2.0-4) 15.2.0
- running under: Debian GNU/Linux forky/sid
- using session charset: UTF-8
- checking for file ‘easybio/DESCRIPTION’ ... OK
- this is package ‘easybio’ version ‘1.2.3’
- package encoding: UTF-8
- checking CRAN incoming feasibility ... [1s/1s] OK
- checking package namespace information ... OK
- checking package dependencies ... OK
- checking if this is a source package ... OK
- checking if there is a namespace ... OK
- checking for executable files ... OK
- checking for hidden files and directories ... OK
- checking for portable file names ... OK
- checking for sufficient/correct file permissions ... OK
- checking whether package ‘easybio’ can be installed ... OK
See the install log for details.
- checking package directory ... OK
- checking for future file timestamps ... OK
- checking ‘build’ directory ... OK
- checking DESCRIPTION meta-information ... OK
- checking top-level files ... OK
- checking for left-over files ... OK
- checking index information ... OK
- checking package subdirectories ... OK
- checking code files for non-ASCII characters ... OK
- checking R files for syntax errors ... OK
- checking whether the package can be loaded ... [1s/2s] OK
- checking whether the package can be loaded with stated dependencies ... [1s/1s] OK
- checking whether the package can be unloaded cleanly ... [1s/1s] OK
- checking whether the namespace can be loaded with stated dependencies ... [1s/1s] OK
- checking whether the namespace can be unloaded cleanly ... [1s/2s] OK
- checking loading without being on the library search path ... [1s/2s] OK
- checking whether startup messages can be suppressed ... [1s/2s] OK
- checking use of S3 registration ... OK
- checking dependencies in R code ... OK
- checking S3 generic/method consistency ... OK
- checking replacement functions ... OK
- checking foreign function calls ... OK
- checking R code for possible problems ... [9s/11s] OK
- checking Rd files ... [0s/1s] OK
- checking Rd metadata ... OK
- checking Rd line widths ... OK
- checking Rd cross-references ... OK
- checking for missing documentation entries ... OK
- checking for code/documentation mismatches ... OK
- checking Rd \usage sections ... OK
- checking Rd contents ... OK
- checking for unstated dependencies in examples ... OK
- checking contents of ‘data’ directory ... OK
- checking data for non-ASCII characters ... [0s/1s] OK
- checking LazyData ... OK
- checking data for ASCII and uncompressed saves ... OK
- checking R/sysdata.rda ... OK
- checking installed files from ‘inst/doc’ ... OK
- checking files in ‘vignettes’ ... OK
- checking examples ... [3s/3s] OK
- checking for unstated dependencies in ‘tests’ ... OK
- checking tests ... [2s/2s] OK
Running ‘testthat.R’ [2s/2s]
- checking for unstated dependencies in vignettes ... OK
- checking package vignettes ... OK
- checking re-building of vignette outputs ... [20s/23s] OK
- checking PDF version of manual ... [5s/7s] OK
- checking HTML version of manual ... [1s/2s] NOTE
Found the following HTML validation problems:
Artist.html:158:1 (Artist.Rd:88): Warning: <h5> anchor "Usage" already defined
Artist.html:164:1 (Artist.Rd:92): Warning: <h5> anchor "Returns" already defined
Artist.html:181:1 (Artist.Rd:101): Warning: <h5> anchor "Usage" already defined
Artist.html:187:1 (Artist.Rd:105): Warning: <h5> anchor "Arguments" already defined
Artist.html:204:1 (Artist.Rd:116): Warning: <h5> anchor "Returns" already defined
Artist.html:221:1 (Artist.Rd:125): Warning: <h5> anchor "Usage" already defined
Artist.html:227:1 (Artist.Rd:129): Warning: <h5> anchor "Arguments" already defined
Artist.html:244:1 (Artist.Rd:140): Warning: <h5> anchor "Returns" already defined
Artist.html:261:1 (Artist.Rd:149): Warning: <h5> anchor "Usage" already defined
Artist.html:274:1 (Artist.Rd:160): Warning: <h5> anchor "Arguments" already defined
Artist.html:297:1 (Artist.Rd:177): Warning: <h5> anchor "Returns" already defined
Artist.html:314:1 (Artist.Rd:186): Warning: <h5> anchor "Usage" already defined
Artist.html:326:1 (Artist.Rd:196): Warning: <h5> anchor "Arguments" already defined
Artist.html:347:1 (Artist.Rd:211): Warning: <h5> anchor "Returns" already defined
Artist.html:367:1 (Artist.Rd:223): Warning: <h5> anchor "Usage" already defined
Artist.html:373:1 (Artist.Rd:227): Warning: <h5> anchor "Arguments" already defined
Artist.html:394:1 (Artist.Rd:242): Warning: <h5> anchor "Returns" already defined
Artist.html:414:1 (Artist.Rd:254): Warning: <h5> anchor "Usage" already defined
Artist.html:420:1 (Artist.Rd:258): Warning: <h5> anchor "Arguments" already defined
Artist.html:443:1 (Artist.Rd:275): Warning: <h5> anchor "Returns" already defined
Artist.html:463:1 (Artist.Rd:287): Warning: <h5> anchor "Usage" already defined
Artist.html:469:1 (Artist.Rd:291): Warning: <h5> anchor "Arguments" already defined
Artist.html:490:1 (Artist.Rd:306): Warning: <h5> anchor "Returns" already defined
Artist.html:510:1 (Artist.Rd:318): Warning: <h5> anchor "Usage" already defined
Artist.html:516:1 (Artist.Rd:322): Warning: <h5> anchor "Arguments" already defined
Artist.html:535:1 (Artist.Rd:335): Warning: <h5> anchor "Returns" already defined
Artist.html:555:1 (Artist.Rd:347): Warning: <h5> anchor "Usage" already defined
Artist.html:561:1 (Artist.Rd:351): Warning: <h5> anchor "Arguments" already defined
Artist.html:580:1 (Artist.Rd:364): Warning: <h5> anchor "Returns" already defined
Artist.html:600:1 (Artist.Rd:376): Warning: <h5> anchor "Usage" already defined
Artist.html:606:1 (Artist.Rd:380): Warning: <h5> anchor "Arguments" already defined
Artist.html:627:1 (Artist.Rd:395): Warning: <h5> anchor "Returns" already defined
Artist.html:647:1 (Artist.Rd:407): Warning: <h5> anchor "Usage" already defined
Artist.html:653:1 (Artist.Rd:411): Warning: <h5> anchor "Arguments" already defined
Artist.html:674:1 (Artist.Rd:426): Warning: <h5> anchor "Returns" already defined
Artist.html:693:1 (Artist.Rd:437): Warning: <h5> anchor "Usage" already defined
Artist.html:699:1 (Artist.Rd:441): Warning: <h5> anchor "Arguments" already defined
Artist.html:718:1 (Artist.Rd:454): Warning: <h5> anchor "Returns" already defined
Artist.html:735:1 (Artist.Rd:463): Warning: <h5> anchor "Usage" already defined
Artist.html:741:1 (Artist.Rd:467): Warning: <h5> anchor "Arguments" already defined
- checking for non-standard things in the check directory ... OK
- DONE
Status: 1 NOTE