• using R Under development (unstable) (2025-07-03 r88378)
  • using platform: x86_64-pc-linux-gnu
  • R was compiled by     gcc-14 (Debian 14.2.0-19) 14.2.0     GNU Fortran (Debian 14.2.0-19) 14.2.0
  • running under: Debian GNU/Linux 13 (trixie)
  • using session charset: UTF-8
  • checking for file ‘easyPubMed/DESCRIPTION’ ... OK
  • checking extension type ... Package
  • this is package ‘easyPubMed’ version ‘2.13’
  • package encoding: UTF-8
  • checking CRAN incoming feasibility ... [0s/0s] NOTE Maintainer: ‘Damiano Fantini <damiano.fantini@gmail.com>’ No Authors@R field in DESCRIPTION. Please add one, modifying   Authors@R: person(given = "Damiano",                     family = "Fantini",                     role = c("aut", "cre"),                     email = "damiano.fantini@gmail.com") as necessary.
  • checking package namespace information ... OK
  • checking package dependencies ... OK
  • checking if this is a source package ... OK
  • checking if there is a namespace ... OK
  • checking for executable files ... OK
  • checking for hidden files and directories ... OK
  • checking for portable file names ... OK
  • checking for sufficient/correct file permissions ... OK
  • checking serialization versions ... OK
  • checking whether package ‘easyPubMed’ can be installed ... OK See the install log for details.
  • checking package directory ... OK
  • checking for future file timestamps ... OK
  • checking ‘build’ directory ... OK
  • checking DESCRIPTION meta-information ... OK
  • checking top-level files ... OK
  • checking for left-over files ... OK
  • checking index information ... OK
  • checking package subdirectories ... OK
  • checking code files for non-ASCII characters ... OK
  • checking R files for syntax errors ... OK
  • checking whether the package can be loaded ... [0s/0s] OK
  • checking whether the package can be loaded with stated dependencies ... [0s/0s] OK
  • checking whether the package can be unloaded cleanly ... [0s/0s] OK
  • checking whether the namespace can be loaded with stated dependencies ... [0s/0s] OK
  • checking whether the namespace can be unloaded cleanly ... [0s/0s] OK
  • checking loading without being on the library search path ... [0s/0s] OK
  • checking use of S3 registration ... OK
  • checking dependencies in R code ... OK
  • checking S3 generic/method consistency ... OK
  • checking replacement functions ... OK
  • checking foreign function calls ... OK
  • checking R code for possible problems ... [3s/4s] OK
  • checking Rd files ... [0s/0s] OK
  • checking Rd metadata ... OK
  • checking Rd line widths ... OK
  • checking Rd cross-references ... OK
  • checking for missing documentation entries ... OK
  • checking for code/documentation mismatches ... OK
  • checking Rd \usage sections ... OK
  • checking Rd contents ... OK
  • checking for unstated dependencies in examples ... OK
  • checking contents of ‘data’ directory ... OK
  • checking data for non-ASCII characters ... [0s/0s] OK
  • checking LazyData ... OK
  • checking data for ASCII and uncompressed saves ... OK
  • checking installed files from ‘inst/doc’ ... OK
  • checking files in ‘vignettes’ ... OK
  • checking examples ... [5s/489s] OK Examples with CPU (user + system) or elapsed time > 5s                     user system elapsed easyPubMed-package 0.995 0.064 121.785 fetch_pubmed_data 0.993 0.048 122.824 get_pubmed_ids 1.011 0.026 120.983 articles_to_list 0.883 0.096 122.205
  • checking for unstated dependencies in vignettes ... OK
  • checking package vignettes ... OK
  • checking re-building of vignette outputs ...