- using R Under development (unstable) (2025-10-19 r88945)
- using platform: x86_64-pc-linux-gnu
- R was compiled by
gcc-15 (Debian 15.2.0-4) 15.2.0
GNU Fortran (Debian 15.2.0-4) 15.2.0
- running under: Debian GNU/Linux forky/sid
- using session charset: UTF-8
- checking for file ‘eCerto/DESCRIPTION’ ... OK
- checking extension type ... Package
- this is package ‘eCerto’ version ‘0.8.5’
- package encoding: UTF-8
- checking CRAN incoming feasibility ... [1s/1s] OK
- checking package namespace information ... OK
- checking package dependencies ... OK
- checking if this is a source package ... OK
- checking if there is a namespace ... OK
- checking for executable files ... OK
- checking for hidden files and directories ... OK
- checking for portable file names ... OK
- checking for sufficient/correct file permissions ... OK
- checking whether package ‘eCerto’ can be installed ... OK
See the install log for details.
- checking package directory ... OK
- checking for future file timestamps ... OK
- checking DESCRIPTION meta-information ... OK
- checking top-level files ... OK
- checking for left-over files ... OK
- checking index information ... OK
- checking package subdirectories ... OK
- checking code files for non-ASCII characters ... OK
- checking R files for syntax errors ... OK
- checking whether the package can be loaded ... [1s/1s] OK
- checking whether the package can be loaded with stated dependencies ... [1s/1s] OK
- checking whether the package can be unloaded cleanly ... [1s/1s] OK
- checking whether the namespace can be loaded with stated dependencies ... [1s/1s] OK
- checking whether the namespace can be unloaded cleanly ... [1s/1s] OK
- checking loading without being on the library search path ... [1s/1s] OK
- checking use of S3 registration ... OK
- checking dependencies in R code ... OK
- checking S3 generic/method consistency ... OK
- checking replacement functions ... OK
- checking foreign function calls ... OK
- checking R code for possible problems ... [19s/25s] OK
- checking Rd files ... [0s/0s] OK
- checking Rd metadata ... OK
- checking Rd line widths ... OK
- checking Rd cross-references ... OK
- checking for missing documentation entries ... OK
- checking for code/documentation mismatches ... OK
- checking Rd \usage sections ... OK
- checking Rd contents ... OK
- checking for unstated dependencies in examples ... OK
- checking contents of ‘data’ directory ... OK
- checking data for non-ASCII characters ... [0s/0s] OK
- checking LazyData ... OK
- checking data for ASCII and uncompressed saves ... OK
- checking examples ... [1s/1s] OK
- checking for unstated dependencies in ‘tests’ ... OK
- checking tests ... [10s/14s] OK
Running ‘testthat.R’ [10s/14s]
- checking PDF version of manual ... [4s/6s] OK
- checking HTML version of manual ... [0s/1s] NOTE
Found the following HTML validation problems:
eCerto_R6Class.html:174:1 (eCerto_R6Class.Rd:133): Warning: <h5> anchor "Usage" already defined
eCerto_R6Class.html:180:1 (eCerto_R6Class.Rd:137): Warning: <h5> anchor "Arguments" already defined
eCerto_R6Class.html:193:1 (eCerto_R6Class.Rd:144): Warning: <h5> anchor "Returns" already defined
eCerto_R6Class.html:210:1 (eCerto_R6Class.Rd:153): Warning: <h5> anchor "Usage" already defined
eCerto_R6Class.html:216:1 (eCerto_R6Class.Rd:157): Warning: <h5> anchor "Arguments" already defined
eCerto_R6Class.html:231:1 (eCerto_R6Class.Rd:166): Warning: <h5> anchor "Returns" already defined
eCerto_R6Class.html:248:1 (eCerto_R6Class.Rd:175): Warning: <h5> anchor "Usage" already defined
eCerto_R6Class.html:254:1 (eCerto_R6Class.Rd:179): Warning: <h5> anchor "Arguments" already defined
eCerto_R6Class.html:271:1 (eCerto_R6Class.Rd:190): Warning: <h5> anchor "Returns" already defined
eCerto_R6Class.html:288:1 (eCerto_R6Class.Rd:199): Warning: <h5> anchor "Usage" already defined
eCerto_R6Class.html:294:1 (eCerto_R6Class.Rd:203): Warning: <h5> anchor "Arguments" already defined
eCerto_R6Class.html:307:1 (eCerto_R6Class.Rd:210): Warning: <h5> anchor "Returns" already defined
eCerto_R6Class.html:324:1 (eCerto_R6Class.Rd:219): Warning: <h5> anchor "Usage" already defined
eCerto_R6Class.html:330:1 (eCerto_R6Class.Rd:223): Warning: <h5> anchor "Returns" already defined
eCerto_R6Class.html:347:1 (eCerto_R6Class.Rd:232): Warning: <h5> anchor "Usage" already defined
eCerto_R6Class.html:353:1 (eCerto_R6Class.Rd:236): Warning: <h5> anchor "Returns" already defined
eCerto_R6Class.html:370:1 (eCerto_R6Class.Rd:245): Warning: <h5> anchor "Usage" already defined
eCerto_R6Class.html:378:1 (eCerto_R6Class.Rd:251): Warning: <h5> anchor "Arguments" already defined
eCerto_R6Class.html:391:1 (eCerto_R6Class.Rd:258): Warning: <h5> anchor "Returns" already defined
eCerto_R6Class.html:408:1 (eCerto_R6Class.Rd:267): Warning: <h5> anchor "Usage" already defined
eCerto_R6Class.html:414:1 (eCerto_R6Class.Rd:271): Warning: <h5> anchor "Returns" already defined
eCerto_R6Class.html:431:1 (eCerto_R6Class.Rd:280): Warning: <h5> anchor "Usage" already defined
eCerto_R6Class.html:437:1 (eCerto_R6Class.Rd:284): Warning: <h5> anchor "Arguments" already defined
eCerto_R6Class.html:450:1 (eCerto_R6Class.Rd:291): Warning: <h5> anchor "Returns" already defined
eCerto_R6Class.html:467:1 (eCerto_R6Class.Rd:300): Warning: <h5> anchor "Usage" already defined
eCerto_R6Class.html:473:1 (eCerto_R6Class.Rd:304): Warning: <h5> anchor "Arguments" already defined
run_app.html:81:1 (run_app.Rd:37): Warning: missing </ul> before </div>
- checking for non-standard things in the check directory ... OK
- DONE
Status: 1 NOTE