- using R Under development (unstable) (2025-10-19 r88945)
- using platform: x86_64-pc-linux-gnu
- R was compiled by
gcc-15 (Debian 15.2.0-4) 15.2.0
GNU Fortran (Debian 15.2.0-4) 15.2.0
- running under: Debian GNU/Linux forky/sid
- using session charset: UTF-8
- checking for file ‘csdb/DESCRIPTION’ ... OK
- this is package ‘csdb’ version ‘2025.7.30’
- package encoding: UTF-8
- checking CRAN incoming feasibility ... [1s/1s] OK
- checking package namespace information ... OK
- checking package dependencies ... OK
- checking if this is a source package ... OK
- checking if there is a namespace ... OK
- checking for executable files ... OK
- checking for hidden files and directories ... OK
- checking for portable file names ... OK
- checking for sufficient/correct file permissions ... OK
- checking whether package ‘csdb’ can be installed ... OK
See the install log for details.
- checking package directory ... OK
- checking for future file timestamps ... OK
- checking ‘build’ directory ... OK
- checking DESCRIPTION meta-information ... OK
- checking top-level files ... OK
- checking for left-over files ... OK
- checking index information ... OK
- checking package subdirectories ... OK
- checking code files for non-ASCII characters ... OK
- checking R files for syntax errors ... OK
- checking whether the package can be loaded ... [2s/2s] OK
- checking whether the package can be loaded with stated dependencies ... [2s/3s] OK
- checking whether the package can be unloaded cleanly ... [1s/2s] OK
- checking whether the namespace can be loaded with stated dependencies ... [1s/2s] OK
- checking whether the namespace can be unloaded cleanly ... [2s/2s] OK
- checking loading without being on the library search path ... [2s/3s] OK
- checking whether startup messages can be suppressed ... [2s/2s] OK
- checking use of S3 registration ... OK
- checking dependencies in R code ... OK
- checking S3 generic/method consistency ... OK
- checking replacement functions ... OK
- checking foreign function calls ... OK
- checking R code for possible problems ... [10s/11s] OK
- checking Rd files ... [0s/0s] OK
- checking Rd metadata ... OK
- checking Rd line widths ... OK
- checking Rd cross-references ... OK
- checking for missing documentation entries ... OK
- checking for code/documentation mismatches ... OK
- checking Rd \usage sections ... OK
- checking Rd contents ... OK
- checking for unstated dependencies in examples ... OK
- checking contents of ‘data’ directory ... OK
- checking data for non-ASCII characters ... [0s/0s] OK
- checking LazyData ... OK
- checking data for ASCII and uncompressed saves ... OK
- checking installed files from ‘inst/doc’ ... OK
- checking files in ‘vignettes’ ... OK
- checking examples ... [2s/3s] OK
- checking for unstated dependencies in vignettes ... OK
- checking package vignettes ... OK
- checking re-building of vignette outputs ... [1s/2s] OK
- checking PDF version of manual ... [5s/6s] OK
- checking HTML version of manual ... [1s/1s] NOTE
Found the following HTML validation problems:
DBConnection_v9.html:188:1 (DBConnection_v9.Rd:146): Warning: <h5> anchor "Usage" already defined
DBConnection_v9.html:194:1 (DBConnection_v9.Rd:150): Warning: <h5> anchor "Returns" already defined
DBConnection_v9.html:211:1 (DBConnection_v9.Rd:159): Warning: <h5> anchor "Usage" already defined
DBConnection_v9.html:217:1 (DBConnection_v9.Rd:163): Warning: <h5> anchor "Arguments" already defined
DBConnection_v9.html:240:1 (DBConnection_v9.Rd:176): Warning: <h5> anchor "Usage" already defined
DBConnection_v9.html:246:1 (DBConnection_v9.Rd:180): Warning: <h5> anchor "Arguments" already defined
DBConnection_v9.html:269:1 (DBConnection_v9.Rd:193): Warning: <h5> anchor "Usage" already defined
DBConnection_v9.html:285:1 (DBConnection_v9.Rd:203): Warning: <h5> anchor "Usage" already defined
DBConnection_v9.html:291:1 (DBConnection_v9.Rd:207): Warning: <h5> anchor "Arguments" already defined
DBTable_v9.html:265:1 (DBTable_v9.Rd:203): Warning: <h5> anchor "Usage" already defined
DBTable_v9.html:271:1 (DBTable_v9.Rd:207): Warning: <h5> anchor "Arguments" already defined
DBTable_v9.html:294:1 (DBTable_v9.Rd:220): Warning: <h5> anchor "Usage" already defined
DBTable_v9.html:310:1 (DBTable_v9.Rd:230): Warning: <h5> anchor "Usage" already defined
DBTable_v9.html:326:1 (DBTable_v9.Rd:240): Warning: <h5> anchor "Usage" already defined
DBTable_v9.html:342:1 (DBTable_v9.Rd:250): Warning: <h5> anchor "Usage" already defined
DBTable_v9.html:358:1 (DBTable_v9.Rd:260): Warning: <h5> anchor "Usage" already defined
DBTable_v9.html:374:1 (DBTable_v9.Rd:270): Warning: <h5> anchor "Usage" already defined
DBTable_v9.html:384:1 (DBTable_v9.Rd:278): Warning: <h5> anchor "Arguments" already defined
DBTable_v9.html:412:1 (DBTable_v9.Rd:296): Warning: <h5> anchor "Usage" already defined
DBTable_v9.html:422:1 (DBTable_v9.Rd:304): Warning: <h5> anchor "Arguments" already defined
DBTable_v9.html:449:1 (DBTable_v9.Rd:321): Warning: <h5> anchor "Usage" already defined
DBTable_v9.html:465:1 (DBTable_v9.Rd:331): Warning: <h5> anchor "Usage" already defined
DBTable_v9.html:471:1 (DBTable_v9.Rd:335): Warning: <h5> anchor "Arguments" already defined
DBTable_v9.html:494:1 (DBTable_v9.Rd:348): Warning: <h5> anchor "Usage" already defined
DBTable_v9.html:500:1 (DBTable_v9.Rd:352): Warning: <h5> anchor "Arguments" already defined
DBTable_v9.html:523:1 (DBTable_v9.Rd:365): Warning: <h5> anchor "Usage" already defined
DBTable_v9.html:533:1 (DBTable_v9.Rd:373): Warning: <h5> anchor "Arguments" already defined
DBTable_v9.html:560:1 (DBTable_v9.Rd:390): Warning: <h5> anchor "Usage" already defined
DBTable_v9.html:570:1 (DBTable_v9.Rd:398): Warning: <h5> anchor "Arguments" already defined
DBTable_v9.html:597:1 (DBTable_v9.Rd:415): Warning: <h5> anchor "Usage" already defined
DBTable_v9.html:613:1 (DBTable_v9.Rd:425): Warning: <h5> anchor "Usage" already defined
DBTable_v9.html:629:1 (DBTable_v9.Rd:435): Warning: <h5> anchor "Usage" already defined
DBTable_v9.html:645:1 (DBTable_v9.Rd:445): Warning: <h5> anchor "Usage" already defined
DBTable_v9.html:662:1 (DBTable_v9.Rd:456): Warning: <h5> anchor "Usage" already defined
DBTable_v9.html:678:1 (DBTable_v9.Rd:466): Warning: <h5> anchor "Usage" already defined
DBTable_v9.html:684:1 (DBTable_v9.Rd:470): Warning: <h5> anchor "Arguments" already defined
DBTable_v9.html:707:1 (DBTable_v9.Rd:483): Warning: <h5> anchor "Usage" already defined
DBTable_v9.html:723:1 (DBTable_v9.Rd:493): Warning: <h5> anchor "Usage" already defined
DBTable_v9.html:729:1 (DBTable_v9.Rd:497): Warning: <h5> anchor "Arguments" already defined
- checking for non-standard things in the check directory ... OK
- DONE
Status: 1 NOTE