- using R Under development (unstable) (2025-10-19 r88945)
- using platform: x86_64-pc-linux-gnu
- R was compiled by
gcc-15 (Debian 15.2.0-4) 15.2.0
GNU Fortran (Debian 15.2.0-4) 15.2.0
- running under: Debian GNU/Linux forky/sid
- using session charset: UTF-8
- checking for file ‘crosstalk/DESCRIPTION’ ... OK
- checking extension type ... Package
- this is package ‘crosstalk’ version ‘1.2.2’
- package encoding: UTF-8
- checking CRAN incoming feasibility ... [1s/1s] OK
- checking package namespace information ... OK
- checking package dependencies ... OK
- checking if this is a source package ... OK
- checking if there is a namespace ... OK
- checking for executable files ... OK
- checking for hidden files and directories ... OK
- checking for portable file names ... OK
- checking for sufficient/correct file permissions ... OK
- checking serialization versions ... OK
- checking whether package ‘crosstalk’ can be installed ... OK
See the install log for details.
- checking package directory ... OK
- checking for future file timestamps ... OK
- checking DESCRIPTION meta-information ... OK
- checking top-level files ... OK
- checking for left-over files ... OK
- checking index information ... OK
- checking package subdirectories ... OK
- checking code files for non-ASCII characters ... OK
- checking R files for syntax errors ... OK
- checking whether the package can be loaded ... [0s/0s] OK
- checking whether the package can be loaded with stated dependencies ... [0s/0s] OK
- checking whether the package can be unloaded cleanly ... [0s/1s] OK
- checking whether the namespace can be loaded with stated dependencies ... [0s/0s] OK
- checking whether the namespace can be unloaded cleanly ... [0s/0s] OK
- checking loading without being on the library search path ... [0s/0s] OK
- checking use of S3 registration ... OK
- checking dependencies in R code ... OK
- checking S3 generic/method consistency ... OK
- checking replacement functions ... OK
- checking foreign function calls ... OK
- checking R code for possible problems ... [4s/5s] OK
- checking Rd files ... [0s/0s] OK
- checking Rd metadata ... OK
- checking Rd line widths ... OK
- checking Rd cross-references ... OK
- checking for missing documentation entries ... OK
- checking for code/documentation mismatches ... OK
- checking Rd \usage sections ... OK
- checking Rd contents ... OK
- checking for unstated dependencies in examples ... OK
- checking examples ... [1s/1s] OK
- checking for unstated dependencies in ‘tests’ ... OK
- checking tests ... [2s/2s] OK
Running ‘testthat.R’ [1s/2s]
- checking PDF version of manual ... [4s/5s] OK
- checking HTML version of manual ... [0s/1s] NOTE
Found the following HTML validation problems:
ClientValue.html:109:1 (ClientValue.Rd:79): Warning: <h5> anchor "Usage" already defined
ClientValue.html:128:1 (ClientValue.Rd:92): Warning: <h5> anchor "Usage" already defined
ClientValue.html:134:1 (ClientValue.Rd:96): Warning: <h5> anchor "Arguments" already defined
ClientValue.html:158:1 (ClientValue.Rd:110): Warning: <h5> anchor "Usage" already defined
ClientValue.html:164:1 (ClientValue.Rd:114): Warning: <h5> anchor "Arguments" already defined
SharedData.html:324:1 (SharedData.Rd:202): Warning: missing </ul> before </div>
SharedData.html:132:1 (SharedData.Rd:76): Warning: <h5> anchor "Usage" already defined
SharedData.html:149:1 (SharedData.Rd:87): Warning: <h5> anchor "Usage" already defined
SharedData.html:165:1 (SharedData.Rd:97): Warning: <h5> anchor "Usage" already defined
SharedData.html:187:1 (SharedData.Rd:113): Warning: <h5> anchor "Usage" already defined
SharedData.html:193:1 (SharedData.Rd:117): Warning: <h5> anchor "Arguments" already defined
SharedData.html:234:1 (SharedData.Rd:148): Warning: <h5> anchor "Usage" already defined
SharedData.html:240:1 (SharedData.Rd:152): Warning: <h5> anchor "Arguments" already defined
SharedData.html:272:1 (SharedData.Rd:174): Warning: <h5> anchor "Usage" already defined
SharedData.html:278:1 (SharedData.Rd:178): Warning: <h5> anchor "Arguments" already defined
SharedData.html:301:1 (SharedData.Rd:191): Warning: <h5> anchor "Usage" already defined
SharedData.html:307:1 (SharedData.Rd:195): Warning: <h5> anchor "Arguments" already defined
maintain_selection.html:56:1 (maintain_selection.Rd:15): Warning: missing </ul> before </div>
- checking for non-standard things in the check directory ... OK
- DONE
Status: 1 NOTE