* using log directory ‘/home/hornik/tmp/R.check/r-devel-gcc/Work/PKGS/covTestR.Rcheck’ * using R Under development (unstable) (2025-07-15 r88411) * using platform: x86_64-pc-linux-gnu * R was compiled by gcc-14 (Debian 14.2.0-19) 14.2.0 GNU Fortran (Debian 14.2.0-19) 14.2.0 * running under: Debian GNU/Linux 13 (trixie) * using session charset: UTF-8 * checking for file ‘covTestR/DESCRIPTION’ ... OK * checking extension type ... Package * this is package ‘covTestR’ version ‘0.1.4’ * checking CRAN incoming feasibility ... [0s/0s] NOTE Maintainer: ‘Ben Barnard ’ Found the following URLs which should use \doi (with the DOI name only): File ‘covTestR-package.Rd’: http://doi.org/10.1016/j.csda.2007.03.004 http://doi.org/10.1016/j.jmva.2010.07.004 File ‘homogeneityStatistics.Rd’: http://doi.org/10.1080/15598608.2017.1308895 http://doi.org/10.3923/jas.2013.270.277 http://doi.org/10.1016/j.jspi.2015.10.007 http://doi.org/10.1016/S0378-3758(00)00209-3 http://doi.org/10.1016/j.csda.2007.03.004 http://doi.org/10.1016/j.jmva.2014.06.003 http://doi.org/10.1016/j.jmva.2009.12.010 File ‘structureStatistics.Rd’: http://doi.org/10.1080/00949655.2014.948441 http://doi.org/10.1198/jasa.2010.tm09560 http://doi.org/10.1016/j.jspi.2011.07.019 http://doi.org/10.1214/aos/1031689018 http://doi.org/10.14490/jjss.35.251 http://doi.org/10.1016/j.jmva.2011.03.003 * checking package namespace information ... OK * checking package dependencies ... OK * checking if this is a source package ... OK * checking if there is a namespace ... OK * checking for executable files ... OK * checking for hidden files and directories ... OK * checking for portable file names ... OK * checking for sufficient/correct file permissions ... OK * checking serialization versions ... OK * checking whether package ‘covTestR’ can be installed ... OK See 'https://www.r-project.org/nosvn/R.check/r-devel-linux-x86_64-debian-gcc/covTestR-00install.html' for details. * used C++ compiler: ‘g++-14 (Debian 14.2.0-19) 14.2.0’ * checking C++ specification ... NOTE Specified C++11: please drop specification unless essential * checking package directory ... OK * checking for future file timestamps ... OK * checking DESCRIPTION meta-information ... OK * checking top-level files ... OK * checking for left-over files ... OK * checking index information ... OK * checking package subdirectories ... OK * checking code files for non-ASCII characters ... OK * checking R files for syntax errors ... OK * checking whether the package can be loaded ... [0s/1s] OK * checking whether the package can be loaded with stated dependencies ... [0s/1s] OK * checking whether the package can be unloaded cleanly ... [0s/1s] OK * checking whether the namespace can be loaded with stated dependencies ... [0s/1s] OK * checking whether the namespace can be unloaded cleanly ... [1s/1s] OK * checking loading without being on the library search path ... [1s/1s] OK * checking use of S3 registration ... OK * checking dependencies in R code ... OK * checking S3 generic/method consistency ... OK * checking replacement functions ... OK * checking foreign function calls ... OK * checking R code for possible problems ... [6s/8s] OK * checking Rd files ... [0s/0s] OK * checking Rd metadata ... OK * checking Rd line widths ... OK * checking Rd cross-references ... OK * checking for missing documentation entries ... OK * checking for code/documentation mismatches ... OK * checking Rd \usage sections ... OK * checking Rd contents ... OK * checking for unstated dependencies in examples ... OK * checking LazyData ... INFO 'LazyData' is specified without a 'data' directory * checking line endings in C/C++/Fortran sources/headers ... OK * checking line endings in Makefiles ... OK * checking compilation flags in Makevars ... OK * checking for GNU extensions in Makefiles ... OK * checking for portable use of $(BLAS_LIBS) and $(LAPACK_LIBS) ... OK * checking use of PKG_*FLAGS in Makefiles ... OK * checking use of SHLIB_OPENMP_*FLAGS in Makefiles ... OK * checking pragmas in C/C++ headers and code ... OK * checking compilation flags used ... OK * checking compiled code ... OK * checking examples ... [1s/1s] OK * checking PDF version of manual ... [3s/5s] OK * checking HTML version of manual ... [0s/1s] OK * checking for non-standard things in the check directory ... OK * DONE Status: 2 NOTEs