- using R Under development (unstable) (2022-08-17 r82724)
- using platform: x86_64-pc-linux-gnu (64-bit)
- using session charset: UTF-8
- checking for file ‘container/DESCRIPTION’ ... OK
- checking extension type ... Package
- this is package ‘container’ version ‘1.0.2’
- package encoding: UTF-8
- checking package namespace information ... OK
- checking package dependencies ... OK
- checking if this is a source package ... OK
- checking if there is a namespace ... OK
- checking for executable files ... OK
- checking for hidden files and directories ... OK
- checking for portable file names ... OK
- checking for sufficient/correct file permissions ... OK
- checking whether package ‘container’ can be installed ... OK
- checking package directory ... OK
- checking for future file timestamps ... OK
- checking ‘build’ directory ... OK
- checking DESCRIPTION meta-information ... OK
- checking top-level files ... OK
- checking for left-over files ... OK
- checking index information ... OK
- checking package subdirectories ... OK
- checking R files for non-ASCII characters ... OK
- checking R files for syntax errors ... OK
- checking whether the package can be loaded ... OK
- checking whether the package can be loaded with stated dependencies ... OK
- checking whether the package can be unloaded cleanly ... OK
- checking whether the namespace can be loaded with stated dependencies ... OK
- checking whether the namespace can be unloaded cleanly ... OK
- checking loading without being on the library search path ... OK
- checking use of S3 registration ... OK
- checking dependencies in R code ... OK
- checking S3 generic/method consistency ... OK
- checking replacement functions ... OK
- checking foreign function calls ... OK
- checking R code for possible problems ... [7s/12s] OK
- checking Rd files ... [1s/2s] OK
- checking Rd metadata ... OK
- checking Rd line widths ... OK
- checking Rd cross-references ... OK
- checking for missing documentation entries ... OK
- checking for code/documentation mismatches ... OK
- checking Rd \usage sections ... OK
- checking Rd contents ... OK
- checking for unstated dependencies in examples ... OK
- checking installed files from ‘inst/doc’ ... OK
- checking files in ‘vignettes’ ... OK
- checking examples ... [4s/5s] OK
- checking for unstated dependencies in ‘tests’ ... OK
- checking tests ... [15s/22s] OK
Running ‘tinytest.R’ [14s/22s]
- checking for unstated dependencies in vignettes ... OK
- checking package vignettes in ‘inst/doc’ ... OK
- checking re-building of vignette outputs ... [15s/26s] OK
- checking PDF version of manual ... [7s/16s] OK
- checking HTML version of manual ... [2s/5s] NOTE
Found the following HTML validation problems:
Container.html:146:6: Warning: missing </span> before <p>
Container.html:146:90: Warning: inserting implicit <span>
Deque.html:78:6: Warning: missing </span> before <p>
Deque.html:78:90: Warning: inserting implicit <span>
Deque.html:81:6: Warning: missing </span> before <p>
Deque.html:81:90: Warning: inserting implicit <span>
Deque.html:84:6: Warning: missing </span> before <p>
Deque.html:84:89: Warning: inserting implicit <span>
Deque.html:87:6: Warning: missing </span> before <p>
Deque.html:87:90: Warning: inserting implicit <span>
Deque.html:90:6: Warning: missing </span> before <p>
Deque.html:90:92: Warning: inserting implicit <span>
Deque.html:93:6: Warning: missing </span> before <p>
Deque.html:93:92: Warning: inserting implicit <span>
Deque.html:96:6: Warning: missing </span> before <p>
Deque.html:96:93: Warning: inserting implicit <span>
Deque.html:99:6: Warning: missing </span> before <p>
Deque.html:99:96: Warning: inserting implicit <span>
Deque.html:102:6: Warning: missing </span> before <p>
Deque.html:102:94: Warning: inserting implicit <span>
Deque.html:105:6: Warning: missing </span> before <p>
Deque.html:105:97: Warning: inserting implicit <span>
Deque.html:108:6: Warning: missing </span> before <p>
Deque.html:108:92: Warning: inserting implicit <span>
Deque.html:111:6: Warning: missing </span> before <p>
Deque.html:111:102: Warning: inserting implicit <span>
Deque.html:114:6: Warning: missing </span> before <p>
Deque.html:114:90: Warning: inserting implicit <span>
Deque.html:117:6: Warning: missing </span> before <p>
Deque.html:117:95: Warning: inserting implicit <span>
Deque.html:120:6: Warning: missing </span> before <p>
Deque.html:120:97: Warning: inserting implicit <span>
Deque.html:123:6: Warning: missing </span> before <p>
Deque.html:123:95: Warning: inserting implicit <span>
Deque.html:126:6: Warning: missing </span> before <p>
Deque.html:126:93: Warning: inserting implicit <span>
Deque.html:129:6: Warning: missing </span> before <p>
Deque.html:129:92: Warning: inserting implicit <span>
Deque.html:132:6: Warning: missing </span> before <p>
Deque.html:132:94: Warning: inserting implicit <span>
Deque.html:135:6: Warning: missing </span> before <p>
Deque.html:135:95: Warning: inserting implicit <span>
Deque.html:138:6: Warning: missing </span> before <p>
Deque.html:138:90: Warning: inserting implicit <span>
Deque.html:141:6: Warning: missing </span> before <p>
Deque.html:141:92: Warning: inserting implicit <span>
Deque.html:144:6: Warning: missing </span> before <p>
Deque.html:144:93: Warning: inserting implicit <span>
Deque.html:147:6: Warning: missing </span> before <p>
Deque.html:147:93: Warning: inserting implicit <span>
Deque.html:150:6: Warning: missing </span> before <p>
Deque.html:150:94: Warning: inserting implicit <span>
Deque.html:153:6: Warning: missing </span> before <p>
Deque.html:153:97: Warning: inserting implicit <span>
Deque.html:156:6: Warning: missing </span> before <p>
Deque.html:156:91: Warning: inserting implicit <span>
Deque.html:159:6: Warning: missing </span> before <p>
Deque.html:159:91: Warning: inserting implicit <span>
Deque.html:162:6: Warning: missing </span> before <p>
Deque.html:162:93: Warning: inserting implicit <span>
Deque.html:165:6: Warning: missing </span> before <p>
Deque.html:165:93: Warning: inserting implicit <span>
Dict.html:94:6: Warning: missing </span> before <p>
Dict.html:94:90: Warning: inserting implicit <span>
Dict.html:97:6: Warning: missing </span> before <p>
Dict.html:97:89: Warning: inserting implicit <span>
Dict.html:100:6: Warning: missing </span> before <p>
Dict.html:100:90: Warning: inserting implicit <span>
Dict.html:103:6: Warning: missing </span> before <p>
Dict.html:103:92: Warning: inserting implicit <span>
Dict.html:106:6: Warning: missing </span> before <p>
Dict.html:106:92: Warning: inserting implicit <span>
Dict.html:109:6: Warning: missing </span> before <p>
Dict.html:109:93: Warning: inserting implicit <span>
Dict.html:112:6: Warning: missing </span> before <p>
Dict.html:112:96: Warning: inserting implicit <span>
Dict.html:115:6: Warning: missing </span> before <p>
Dict.html:115:94: Warning: inserting implicit <span>
Dict.html:118:6: Warning: missing </span> before <p>
Dict.html:118:92: Warning: inserting implicit <span>
Dict.html:121:6: Warning: missing </span> before <p>
Dict.html:121:102: Warning: inserting implicit <span>
Dict.html:124:6: Warning: missing </span> before <p>
Dict.html:124:90: Warning: inserting implicit <span>
Dict.html:127:6: Warning: missing </span> before <p>
Dict.html:127:95: Warning: inserting implicit <span>
Dict.html:130:6: Warning: missing </span> before <p>
Dict.html:130:95: Warning: inserting implicit <span>
Dict.html:133:6: Warning: missing </span> before <p>
Dict.html:133:93: Warning: inserting implicit <span>
Dict.html:136:6: Warning: missing </span> before <p>
Dict.html:136:92: Warning: inserting implicit <span>
Dict.html:139:6: Warning: missing </span> before <p>
Dict.html:139:94: Warning: inserting implicit <span>
Dict.html:142:6: Warning: missing </span> before <p>
Dict.html:142:95: Warning: inserting implicit <span>
Dict.html:145:6: Warning: missing </span> before <p>
Dict.html:145:90: Warning: inserting implicit <span>
Dict.html:148:6: Warning: missing </span> before <p>
Dict.html:148:92: Warning: inserting implicit <span>
Dict.html:151:6: Warning: missing </span> before <p>
Dict.html:151:93: Warning: inserting implicit <span>
Dict.html:154:6: Warning: missing </span> before <p>
Dict.html:154:97: Warning: inserting implicit <span>
Dict.html:157:6: Warning: missing </span> before <p>
Dict.html:157:91: Warning: inserting implicit <span>
Dict.html:160:6: Warning: missing </span> before <p>
Dict.html:160:91: Warning: inserting implicit <span>
OrderedSet.html:84:6: Warning: missing </span> before <p>
OrderedSet.html:84:90: Warning: inserting implicit <span>
OrderedSet.html:87:6: Warning: missing </span> before <p>
OrderedSet.html:87:89: Warning: inserting implicit <span>
OrderedSet.html:90:6: Warning: missing </span> before <p>
OrderedSet.html:90:90: Warning: inserting implicit <span>
OrderedSet.html:93:6: Warning: missing </span> before <p>
OrderedSet.html:93:92: Warning: inserting implicit <span>
OrderedSet.html:96:6: Warning: missing </span> before <p>
OrderedSet.html:96:92: Warning: inserting implicit <span>
OrderedSet.html:99:6: Warning: missing </span> before <p>
OrderedSet.html:99:93: Warning: inserting implicit <span>
OrderedSet.html:102:6: Warning: missing </span> before <p>
OrderedSet.html:102:96: Warning: inserting implicit <span>
OrderedSet.html:105:6: Warning: missing </span> before <p>
OrderedSet.html:105:94: Warning: inserting implicit <span>
OrderedSet.html:108:6: Warning: missing </span> before <p>
OrderedSet.html:108:97: Warning: inserting implicit <span>
OrderedSet.html:111:6: Warning: missing </span> before <p>
OrderedSet.html:111:92: Warning: inserting implicit <span>
OrderedSet.html:114:6: Warning: missing </span> before <p>
OrderedSet.html:114:102: Warning: inserting implicit <span>
OrderedSet.html:117:6: Warning: missing </span> before <p>
OrderedSet.html:117:90: Warning: inserting implicit <span>
OrderedSet.html:120:6: Warning: missing </span> before <p>
OrderedSet.html:120:95: Warning: inserting implicit <span>
OrderedSet.html:123:6: Warning: missing </span> before <p>
OrderedSet.html:123:95: Warning: inserting implicit <span>
OrderedSet.html:126:6: Warning: missing </span> before <p>
OrderedSet.html:126:93: Warning: inserting implicit <span>
OrderedSet.html:129:6: Warning: missing </span> before <p>
OrderedSet.html:129:92: Warning: inserting implicit <span>
OrderedSet.html:132:6: Warning: missing </span> before <p>
OrderedSet.html:132:94: Warning: inserting implicit <span>
OrderedSet.html:135:6: Warning: missing </span> before <p>
OrderedSet.html:135:95: Warning: inserting implicit <span>
OrderedSet.html:138:6: Warning: missing </span> before <p>
OrderedSet.html:138:90: Warning: inserting implicit <span>
OrderedSet.html:141:6: Warning: missing </span> before <p>
OrderedSet.html:141:92: Warning: inserting implicit <span>
OrderedSet.html:144:6: Warning: missing </span> before <p>
OrderedSet.html:144:93: Warning: inserting implicit <span>
OrderedSet.html:147:6: Warning: missing </span> before <p>
OrderedSet.html:147:93: Warning: inserting implicit <span>
OrderedSet.html:150:6: Warning: missing </span> before <p>
OrderedSet.html:150:94: Warning: inserting implicit <span>
OrderedSet.html:153:6: Warning: missing </span> before <p>
OrderedSet.html:153:97: Warning: inserting implicit <span>
OrderedSet.html:156:6: Warning: missing </span> before <p>
OrderedSet.html:156:91: Warning: inserting implicit <span>
OrderedSet.html:159:6: Warning: missing </span> before <p>
OrderedSet.html:159:91: Warning: inserting implicit <span>
OrderedSet.html:162:6: Warning: missing </span> before <p>
OrderedSet.html:162:93: Warning: inserting implicit <span>
OrderedSet.html:165:6: Warning: missing </span> before <p>
OrderedSet.html:165:85: Warning: inserting implicit <span>
OrderedSet.html:168:6: Warning: missing </span> before <p>
OrderedSet.html:168:90: Warning: inserting implicit <span>
OrderedSet.html:171:6: Warning: missing </span> before <p>
OrderedSet.html:171:89: Warning: inserting implicit <span>
OrderedSet.html:174:6: Warning: missing </span> before <p>
OrderedSet.html:174:97: Warning: inserting implicit <span>
OrderedSet.html:177:6: Warning: missing </span> before <p>
OrderedSet.html:177:90: Warning: inserting implicit <span>
OrderedSet.html:180:6: Warning: missing </span> before <p>
OrderedSet.html:180:86: Warning: inserting implicit <span>
OrderedSet.html:183:6: Warning: missing </span> before <p>
OrderedSet.html:183:87: Warning: inserting implicit <span>
Set.html:80:6: Warning: missing </span> before <p>
Set.html:80:90: Warning: inserting implicit <span>
Set.html:83:6: Warning: missing </span> before <p>
Set.html:83:89: Warning: inserting implicit <span>
Set.html:86:6: Warning: missing </span> before <p>
Set.html:86:90: Warning: inserting implicit <span>
Set.html:89:6: Warning: missing </span> before <p>
Set.html:89:92: Warning: inserting implicit <span>
Set.html:92:6: Warning: missing </span> before <p>
Set.html:92:92: Warning: inserting implicit <span>
Set.html:95:6: Warning: missing </span> before <p>
Set.html:95:93: Warning: inserting implicit <span>
Set.html:98:6: Warning: missing </span> before <p>
Set.html:98:96: Warning: inserting implicit <span>
Set.html:101:6: Warning: missing </span> before <p>
Set.html:101:94: Warning: inserting implicit <span>
Set.html:104:6: Warning: missing </span> before <p>
Set.html:104:97: Warning: inserting implicit <span>
Set.html:107:6: Warning: missing </span> before <p>
Set.html:107:92: Warning: inserting implicit <span>
Set.html:110:6: Warning: missing </span> before <p>
Set.html:110:102: Warning: inserting implicit <span>
Set.html:113:6: Warning: missing </span> before <p>
Set.html:113:90: Warning: inserting implicit <span>
Set.html:116:6: Warning: missing </span> before <p>
Set.html:116:95: Warning: inserting implicit <span>
Set.html:119:6: Warning: missing </span> before <p>
Set.html:119:95: Warning: inserting implicit <span>
Set.html:122:6: Warning: missing </span> before <p>
Set.html:122:93: Warning: inserting implicit <span>
Set.html:125:6: Warning: missing </span> before <p>
Set.html:125:92: Warning: inserting implicit <span>
Set.html:128:6: Warning: missing </span> before <p>
Set.html:128:94: Warning: inserting implicit <span>
Set.html:131:6: Warning: missing </span> before <p>
Set.html:131:95: Warning: inserting implicit <span>
Set.html:134:6: Warning: missing </span> before <p>
Set.html:134:90: Warning: inserting implicit <span>
Set.html:137:6: Warning: missing </span> before <p>
Set.html:137:92: Warning: inserting implicit <span>
Set.html:140:6: Warning: missing </span> before <p>
Set.html:140:93: Warning: inserting implicit <span>
Set.html:143:6: Warning: missing </span> before <p>
Set.html:143:93: Warning: inserting implicit <span>
Set.html:146:6: Warning: missing </span> before <p>
Set.html:146:94: Warning: inserting implicit <span>
Set.html:149:6: Warning: missing </span> before <p>
Set.html:149:97: Warning: inserting implicit <span>
Set.html:152:6: Warning: missing </span> before <p>
Set.html:152:91: Warning: inserting implicit <span>
Set.html:155:6: Warning: missing </span> before <p>
Set.html:155:91: Warning: inserting implicit <span>
Set.html:158:6: Warning: missing </span> before <p>
Set.html:158:93: Warning: inserting implicit <span>
- checking for non-standard things in the check directory ... OK
- DONE
Status: 1 NOTE