- using R Under development (unstable) (2025-10-19 r88945)
- using platform: x86_64-pc-linux-gnu
- R was compiled by
gcc-15 (Debian 15.2.0-4) 15.2.0
GNU Fortran (Debian 15.2.0-4) 15.2.0
- running under: Debian GNU/Linux forky/sid
- using session charset: UTF-8
- checking for file ‘coin/DESCRIPTION’ ... OK
- this is package ‘coin’ version ‘1.4-3’
- package encoding: UTF-8
- checking CRAN incoming feasibility ... [1s/1s] OK
- checking package namespace information ... OK
- checking package dependencies ... OK
- checking if this is a source package ... OK
- checking if there is a namespace ... OK
- checking for executable files ... OK
- checking for hidden files and directories ... OK
- checking for portable file names ... OK
- checking for sufficient/correct file permissions ... OK
- checking whether package ‘coin’ can be installed ... OK
See the install log for details.
- used C compiler: ‘gcc-15 (Debian 15.2.0-4) 15.2.0’
- checking package directory ... OK
- checking for future file timestamps ... OK
- checking ‘build’ directory ... OK
- checking DESCRIPTION meta-information ... OK
- checking top-level files ... NOTE
Found the following validation problem for the NEWS.Rd HTML conversion:
NEWS.html:71:1 (inst/NEWS.Rd:31): Warning: <h4> anchor "Bug-fixes" already defined
NEWS.html:83:1 (inst/NEWS.Rd:37): Warning: <h4> anchor "User-visible-changes" already defined
NEWS.html:94:1 (inst/NEWS.Rd:42): Warning: <h4> anchor "Other-changes" already defined
NEWS.html:109:1 (inst/NEWS.Rd:50): Warning: <h4> anchor "Bug-fixes" already defined
NEWS.html:148:1 (inst/NEWS.Rd:74): Warning: <h4> anchor "Bug-fixes" already defined
NEWS.html:165:1 (inst/NEWS.Rd:84): Warning: <h4> anchor "User-visible-changes" already defined
NEWS.html:184:1 (inst/NEWS.Rd:95): Warning: <h4> anchor "Other-changes" already defined
NEWS.html:223:1 (inst/NEWS.Rd:120): Warning: <h4> anchor "Bug-fixes" already defined
NEWS.html:235:1 (inst/NEWS.Rd:126): Warning: <h4> anchor "User-visible-changes" already defined
NEWS.html:255:1 (inst/NEWS.Rd:138): Warning: <h4> anchor "New-features" already defined
NEWS.html:283:1 (inst/NEWS.Rd:157): Warning: <h4> anchor "Bug-fixes" already defined
NEWS.html:312:1 (inst/NEWS.Rd:177): Warning: <h4> anchor "User-visible-changes" already defined
NEWS.html:359:1 (inst/NEWS.Rd:210): Warning: <h4> anchor "Other-changes" already defined
NEWS.html:379:1 (inst/NEWS.Rd:222): Warning: <h4> anchor "Deprecated-and-defunct" already defined
NEWS.html:400:1 (inst/NEWS.Rd:235): Warning: <h4> anchor "Other-changes" already defined
NEWS.html:415:1 (inst/NEWS.Rd:243): Warning: <h4> anchor "Bug-fixes" already defined
NEWS.html:431:1 (inst/NEWS.Rd:252): Warning: <h4> anchor "New-features" already defined
NEWS.html:448:1 (inst/NEWS.Rd:262): Warning: <h4> anchor "Bug-fixes" already defined
NEWS.html:476:1 (inst/NEWS.Rd:280): Warning: <h4> anchor "User-visible-changes" already defined
NEWS.html:492:1 (inst/NEWS.Rd:289): Warning: <h4> anchor "Deprecated-and-defunct" already defined
NEWS.html:515:1 (inst/NEWS.Rd:303): Warning: <h4> anchor "Bug-fixes" already defined
NEWS.html:549:1 (inst/NEWS.Rd:327): Warning: <h4> anchor "User-visible-changes" already defined
NEWS.html:560:1 (inst/NEWS.Rd:332): Warning: <h4> anchor "Other-changes" already defined
NEWS.html:575:1 (inst/NEWS.Rd:340): Warning: <h4> anchor "Bug-fixes" already defined
NEWS.html:591:1 (inst/NEWS.Rd:349): Warning: <h4> anchor "User-visible-changes" already defined
NEWS.html:606:1 (inst/NEWS.Rd:357): Warning: <h4> anchor "Bug-fixes" already defined
NEWS.html:618:1 (inst/NEWS.Rd:363): Warning: <h4> anchor "User-visible-changes" already defined
NEWS.html:633:1 (inst/NEWS.Rd:371): Warning: <h4> anchor "New-features" already defined
NEWS.html:815:1 (inst/NEWS.Rd:512): Warning: <h4> anchor "Bug-fixes" already defined
NEWS.html:977:1 (inst/NEWS.Rd:636): Warning: <h4> anchor "User-visible-changes" already defined
NEWS.html:1102:1 (inst/NEWS.Rd:731): Warning: <h4> anchor "Other-changes" already defined
NEWS.html:1115:1 (inst/NEWS.Rd:738): Warning: <h4> anchor "Deprecated-and-defunct" already defined
- checking for left-over files ... OK
- checking index information ... OK
- checking package subdirectories ... OK
- checking code files for non-ASCII characters ... OK
- checking R files for syntax errors ... OK
- checking whether the package can be loaded ... [2s/2s] OK
- checking whether the package can be loaded with stated dependencies ... [2s/2s] OK
- checking whether the package can be unloaded cleanly ... [2s/2s] OK
- checking whether the namespace can be loaded with stated dependencies ... [2s/2s] OK
- checking whether the namespace can be unloaded cleanly ... [2s/2s] OK
- checking loading without being on the library search path ... [1s/2s] OK
- checking whether startup messages can be suppressed ... [2s/2s] OK
- checking use of S3 registration ... OK
- checking dependencies in R code ... OK
- checking S3 generic/method consistency ... OK
- checking replacement functions ... OK
- checking foreign function calls ... OK
- checking R code for possible problems ... [14s/16s] OK
- checking Rd files ... [1s/2s] OK
- checking Rd metadata ... OK
- checking Rd line widths ... OK
- checking Rd cross-references ... OK
- checking for missing documentation entries ... OK
- checking for code/documentation mismatches ... OK
- checking Rd \usage sections ... OK
- checking Rd contents ... OK
- checking for unstated dependencies in examples ... OK
- checking contents of ‘data’ directory ... OK
- checking data for non-ASCII characters ... [0s/0s] OK
- checking LazyData ... OK
- checking data for ASCII and uncompressed saves ... OK
- checking line endings in shell scripts ... OK
- checking line endings in C/C++/Fortran sources/headers ... OK
- checking line endings in Makefiles ... OK
- checking compilation flags in Makevars ... OK
- checking for GNU extensions in Makefiles ... OK
- checking for portable use of $(BLAS_LIBS) and $(LAPACK_LIBS) ... OK
- checking use of PKG_*FLAGS in Makefiles ... OK
- checking use of SHLIB_OPENMP_*FLAGS in Makefiles ... OK
- checking pragmas in C/C++ headers and code ... OK
- checking compilation flags used ... OK
- checking compiled code ... OK
- checking sizes of PDF files under ‘inst/doc’ ... OK
- checking installed files from ‘inst/doc’ ... OK
- checking files in ‘vignettes’ ... OK
- checking examples ... [12s/15s] OK
- checking differences from ‘coin-Ex.Rout’ to ‘coin-Ex.Rout.save’ ... OK
- checking for unstated dependencies in ‘tests’ ... OK
- checking tests ... [37s/45s] OK
Running ‘bugfixes.R’ [3s/4s]
Comparing ‘bugfixes.Rout’ to ‘bugfixes.Rout.save’ ... OK
Running ‘comparisons.R’ [3s/4s]
Comparing ‘comparisons.Rout’ to ‘comparisons.Rout.save’ ... OK
Running ‘regtest_2sample.R’ [3s/4s]
Comparing ‘regtest_2sample.Rout’ to ‘regtest_2sample.Rout.save’ ... OK
Running ‘regtest_Ksample.R’ [2s/2s]
Comparing ‘regtest_Ksample.Rout’ to ‘regtest_Ksample.Rout.save’ ... OK
Running ‘regtest_MTP.R’ [3s/3s]
Comparing ‘regtest_MTP.Rout’ to ‘regtest_MTP.Rout.save’ ... OK
Running ‘regtest_contingency.R’ [3s/3s]
Comparing ‘regtest_contingency.Rout’ to ‘regtest_contingency.Rout.save’ ... OK
Running ‘regtest_correlation.R’ [2s/2s]
Comparing ‘regtest_correlation.Rout’ to ‘regtest_correlation.Rout.save’ ... OK
Running ‘regtest_distribution.R’ [5s/6s]
Comparing ‘regtest_distribution.Rout’ to ‘regtest_distribution.Rout.save’ ... OK
Running ‘regtest_helpers.R’ [2s/3s]
Comparing ‘regtest_helpers.Rout’ to ‘regtest_helpers.Rout.save’ ... OK
Running ‘regtest_midpvalue.R’ [3s/3s]
Comparing ‘regtest_midpvalue.Rout’ to ‘regtest_midpvalue.Rout.save’ ... OK
Running ‘regtest_names.R’ [3s/4s]
Comparing ‘regtest_names.Rout’ to ‘regtest_names.Rout.save’ ... OK
Running ‘regtest_size.R’ [2s/3s]
Comparing ‘regtest_size.Rout’ to ‘regtest_size.Rout.save’ ... OK
Running ‘regtest_trafo.R’ [2s/2s]
Comparing ‘regtest_trafo.Rout’ to ‘regtest_trafo.Rout.save’ ... OK
- checking for unstated dependencies in vignettes ... OK
- checking package vignettes ... OK
- checking running R code from vignettes ... [27s/34s] OK
‘Implementation.Rnw’ using ‘UTF-8’... [3s/3s] OK
‘LegoCondInf.Rnw’ using ‘UTF-8’... [3s/4s] OK
‘MAXtest.Rnw’ using ‘UTF-8’... [18s/22s] OK
‘coin.Rnw’ using ‘UTF-8’... [2s/2s] OK
- checking re-building of vignette outputs ... [64s/78s] OK
- checking PDF version of manual ... [10s/13s] OK
- checking HTML version of manual ... [4s/5s] OK
- checking for non-standard things in the check directory ... OK
- DONE
Status: 1 NOTE