- using R Under development (unstable) (2025-10-20 r88955)
- using platform: x86_64-pc-linux-gnu
- R was compiled by
gcc-15 (Debian 15.2.0-4) 15.2.0
GNU Fortran (Debian 15.2.0-4) 15.2.0
- running under: Debian GNU/Linux forky/sid
- using session charset: UTF-8
- checking for file ‘clinPK/DESCRIPTION’ ... OK
- checking extension type ... Package
- this is package ‘clinPK’ version ‘0.13.0’
- package encoding: UTF-8
- checking CRAN incoming feasibility ... [1s/1s] OK
- checking package namespace information ... OK
- checking package dependencies ... OK
- checking if this is a source package ... OK
- checking if there is a namespace ... OK
- checking for executable files ... OK
- checking for hidden files and directories ... OK
- checking for portable file names ... OK
- checking for sufficient/correct file permissions ... OK
- checking serialization versions ... OK
- checking whether package ‘clinPK’ can be installed ... OK
See the install log for details.
- checking package directory ... OK
- checking for future file timestamps ... OK
- checking DESCRIPTION meta-information ... OK
- checking top-level files ... OK
- checking for left-over files ... OK
- checking index information ... OK
- checking package subdirectories ... OK
- checking code files for non-ASCII characters ... OK
- checking R files for syntax errors ... OK
- checking whether the package can be loaded ... [0s/0s] OK
- checking whether the package can be loaded with stated dependencies ... [0s/0s] OK
- checking whether the package can be unloaded cleanly ... [0s/0s] OK
- checking whether the namespace can be loaded with stated dependencies ... [0s/0s] OK
- checking whether the namespace can be unloaded cleanly ... [0s/0s] OK
- checking loading without being on the library search path ... [0s/0s] OK
- checking use of S3 registration ... OK
- checking dependencies in R code ... OK
- checking S3 generic/method consistency ... OK
- checking replacement functions ... OK
- checking foreign function calls ... OK
- checking R code for possible problems ... [8s/9s] OK
- checking Rd files ... [1s/1s] OK
- checking Rd metadata ... OK
- checking Rd line widths ... OK
- checking Rd cross-references ... OK
- checking for missing documentation entries ... OK
- checking for code/documentation mismatches ... OK
- checking Rd \usage sections ... OK
- checking Rd contents ... OK
- checking for unstated dependencies in examples ... OK
- checking examples ... [1s/1s] OK
- checking for unstated dependencies in ‘tests’ ... OK
- checking tests ... [6s/6s] OK
Running ‘testthat.R’ [5s/6s]
- checking PDF version of manual ... [6s/7s] OK
- checking HTML version of manual ... [2s/4s] NOTE
Found the following HTML validation problems:
as.num.html:46:1 (as.num.Rd:10): Warning: missing </ul> before </div>
calc_baseline_scr.html:75:1 (calc_baseline_scr.Rd:29): Warning: missing </ul> before </div>
find_factor.html:54:1 (find_factor.Rd:14): Warning: missing </ul> before </div>
grapes-greater-than-equals-grapes.html:52:1 (grapes-greater-than-equals-grapes.Rd:13): Warning: missing </ul> before </div>
grapes-less-than-equals-grapes.html:52:1 (grapes-less-than-equals-grapes.Rd:13): Warning: missing </ul> before </div>
is.nil.html:46:1 (is.nil.Rd:10): Warning: missing </ul> before </div>
kdigo_stage.html:70:1 (kdigo_stage.Rd:21): Warning: missing </ul> before </div>
nca_linear.html:46:1 (nca_linear.Rd:10): Warning: missing </ul> before </div>
nca_trapezoid.html:46:1 (nca_trapezoid.Rd:10): Warning: missing </ul> before </div>
pct_for_age_generic.html:69:1 (pct_for_age_generic.Rd:24): Warning: missing </ul> before </div>
pk_1cmt_inf_dose_for_range.html:83:1 (pk_1cmt_inf_dose_for_range.Rd:33): Warning: missing </ul> before </div>
pk_2cmt_inf.html:88:1 (pk_2cmt_inf.Rd:36): Warning: missing </ul> before </div>
print.nca_output.html:51:1 (print.nca_output.Rd:12): Warning: missing </ul> before </div>
- checking for non-standard things in the check directory ... OK
- DONE
Status: 1 NOTE