- using R Under development (unstable) (2025-10-19 r88945)
- using platform: x86_64-pc-linux-gnu
- R was compiled by
gcc-15 (Debian 15.2.0-4) 15.2.0
GNU Fortran (Debian 15.2.0-4) 15.2.0
- running under: Debian GNU/Linux forky/sid
- using session charset: UTF-8
- checking for file ‘cholera/DESCRIPTION’ ... OK
- checking extension type ... Package
- this is package ‘cholera’ version ‘0.9.1’
- package encoding: UTF-8
- checking CRAN incoming feasibility ... [1s/2s] OK
- checking package namespace information ... OK
- checking package dependencies ... OK
- checking if this is a source package ... OK
- checking if there is a namespace ... OK
- checking for executable files ... OK
- checking for hidden files and directories ... OK
- checking for portable file names ... OK
- checking for sufficient/correct file permissions ... OK
- checking whether package ‘cholera’ can be installed ... OK
See the install log for details.
- checking package directory ... OK
- checking for future file timestamps ... OK
- checking ‘build’ directory ... OK
- checking DESCRIPTION meta-information ... OK
- checking top-level files ... OK
- checking for left-over files ... OK
- checking index information ... OK
- checking package subdirectories ... OK
- checking code files for non-ASCII characters ... OK
- checking R files for syntax errors ... OK
- checking whether the package can be loaded ... [5s/6s] OK
- checking whether the package can be loaded with stated dependencies ... [5s/6s] OK
- checking whether the package can be unloaded cleanly ... [5s/6s] OK
- checking whether the namespace can be loaded with stated dependencies ... [5s/6s] OK
- checking whether the namespace can be unloaded cleanly ... [5s/6s] OK
- checking loading without being on the library search path ... [5s/6s] OK
- checking use of S3 registration ... OK
- checking dependencies in R code ... OK
- checking S3 generic/method consistency ... OK
- checking replacement functions ... OK
- checking foreign function calls ... OK
- checking R code for possible problems ... [47s/59s] OK
- checking Rd files ... [1s/1s] OK
- checking Rd metadata ... OK
- checking Rd line widths ... OK
- checking Rd cross-references ... OK
- checking for missing documentation entries ... OK
- checking for code/documentation mismatches ... OK
- checking Rd \usage sections ... OK
- checking Rd contents ... OK
- checking for unstated dependencies in examples ... OK
- checking contents of ‘data’ directory ... OK
- checking data for non-ASCII characters ... [1s/1s] OK
- checking LazyData ... OK
- checking data for ASCII and uncompressed saves ... OK
- checking installed files from ‘inst/doc’ ... OK
- checking files in ‘vignettes’ ... OK
- checking examples ... [7s/9s] OK
- checking for unstated dependencies in vignettes ... OK
- checking package vignettes ... OK
- checking re-building of vignette outputs ... [5s/7s] OK
- checking PDF version of manual ... [7s/8s] OK
- checking HTML version of manual ... [2s/4s] NOTE
Found the following HTML validation problems:
addEuclideanPath.html:115:1 (addEuclideanPath.Rd:47): Warning: missing </ul> before </div>
addPump.html:75:1 (addPump.Rd:25): Warning: missing </ul> before </div>
addRoads.html:50:1 (addRoads.Rd:12): Warning: missing </ul> before </div>
addWalkingPath.html:119:1 (addWalkingPath.Rd:49): Warning: missing </ul> before </div>
euclideanPath.html:93:1 (euclideanPath.Rd:35): Warning: missing </ul> before </div>
isoVertices.html:59:1 (isoVertices.Rd:17): Warning: missing </ul> before </div>
mapRange.html:46:1 (mapRange.Rd:10): Warning: missing </ul> before </div>
neighborhoodSnow.html:46:1 (neighborhoodSnow.Rd:10): Warning: missing </ul> before </div>
neighborhoodWalking.html:67:1 (neighborhoodWalking.Rd:21): Warning: missing </ul> before </div>
plot.euclideanLatlong.html:73:1 (plot.euclideanLatlong.Rd:24): Warning: missing </ul> before </div>
plot.profile_perspective.html:51:1 (plot.profile_perspective.Rd:12): Warning: missing </ul> before </div>
plot.snow.html:81:1 (plot.snow.Rd:28): Warning: missing </ul> before </div>
plot.voronoi_latlong.html:64:1 (plot.voronoi_latlong.Rd:19): Warning: missing </ul> before </div>
tanakaContourPlot.html:46:1 (tanakaContourPlot.Rd:10): Warning: missing </ul> before </div>
walkingPath.html:93:1 (walkingPath.Rd:35): Warning: missing </ul> before </div>
- checking for non-standard things in the check directory ... OK
- DONE
Status: 1 NOTE