- using R Under development (unstable) (2025-06-30 r88369)
- using platform: x86_64-pc-linux-gnu
- R was compiled by
gcc-14 (Debian 14.2.0-19) 14.2.0
GNU Fortran (Debian 14.2.0-19) 14.2.0
- running under: Debian GNU/Linux 13 (trixie)
- using session charset: UTF-8
- checking for file ‘changepoints/DESCRIPTION’ ... OK
- checking extension type ... Package
- this is package ‘changepoints’ version ‘1.1.0’
- package encoding: UTF-8
- checking CRAN incoming feasibility ... [1s/2s] NOTE
Maintainer: ‘Haotian Xu <haotian.xu@uclouvain.be>’
The Description field contains
<arXiv:2006.03283>; 2) univariate polynomials:
<doi:10.1214/20-AOS1953>, <arXiv:2101.05477>, <arXiv:2110.06450>; 6)
high-dimensional linear regression models: <arXiv:2010.10410>,
<arXiv:2207.12453>; 7) high-dimensional vector autoregressive models:
<arXiv:1909.06359>; 8) high-dimensional self exciting point processes:
<arXiv:2006.03572>; 9) dependent dynamic nonparametric random dot
product graphs: <arXiv:1911.07494>; 10) univariate mean against
adversarial attacks: <arXiv:2105.10417>.
Please refer to arXiv e-prints via their arXiv DOI <doi:10.48550/arXiv.YYMM.NNNNN>.
- checking package namespace information ... OK
- checking package dependencies ... OK
- checking if this is a source package ... OK
- checking if there is a namespace ... OK
- checking for executable files ... OK
- checking for hidden files and directories ... OK
- checking for portable file names ... OK
- checking for sufficient/correct file permissions ... OK
- checking whether package ‘changepoints’ can be installed ... OK
See the install log for details.
- used C++ compiler: ‘g++-14 (Debian 14.2.0-19) 14.2.0’
- checking package directory ... OK
- checking for future file timestamps ... OK
- checking ‘build’ directory ... OK
- checking DESCRIPTION meta-information ... OK
- checking top-level files ... OK
- checking for left-over files ... OK
- checking index information ... OK
- checking package subdirectories ... OK
- checking code files for non-ASCII characters ... OK
- checking R files for syntax errors ... OK
- checking whether the package can be loaded ... [2s/2s] OK
- checking whether the package can be loaded with stated dependencies ... [1s/2s] OK
- checking whether the package can be unloaded cleanly ... [1s/2s] OK
- checking whether the namespace can be loaded with stated dependencies ... [1s/2s] OK
- checking whether the namespace can be unloaded cleanly ... [2s/2s] OK
- checking loading without being on the library search path ... [2s/2s] OK
- checking use of S3 registration ... OK
- checking dependencies in R code ... OK
- checking S3 generic/method consistency ... OK
- checking replacement functions ... OK
- checking foreign function calls ... OK
- checking R code for possible problems ... [14s/18s] OK
- checking Rd files ... [0s/1s] NOTE
checkRd: (-1) Hausdorff.dist.Rd:10: Lost braces; missing escapes or markup?
10 | \item{vec1}{A \code{integer} vector forms a subset of {1, 2, ..., n}.}
| ^
checkRd: (-1) Hausdorff.dist.Rd:12: Lost braces; missing escapes or markup?
12 | \item{vec2}{A \code{integer} vector forms a subset of {1, 2, ..., n}.}
| ^
checkRd: (-1) online.univar.multi.Rd:47-57: Lost braces
47 | online.univar.one2 = function(y_vec, gamma, tau_gamma, ...){
| ^
checkRd: (-1) online.univar.multi.Rd:50-55: Lost braces
50 | while(FLAG == 0 & t <= length(y_vec)){
| ^
checkRd: (-1) online.univar.multi.Rd:71-89: Lost braces
71 | online.univar.one3 = function(y_vec, tau_vec, ...){
| ^
checkRd: (-1) online.univar.multi.Rd:72-74: Lost braces
72 | if(length(y_vec) != length(tau_vec)){
| ^
checkRd: (-1) online.univar.multi.Rd:77-87: Lost braces
77 | while(FLAG == 0 & t <= length(y_vec)){
| ^
checkRd: (-1) online.univar.multi.Rd:81-86: Lost braces
81 | while(j < J & FLAG == 0){
| ^
- checking Rd metadata ... OK
- checking Rd line widths ... OK
- checking Rd cross-references ... OK
- checking for missing documentation entries ... OK
- checking for code/documentation mismatches ... OK
- checking Rd \usage sections ... OK
- checking Rd contents ... OK
- checking for unstated dependencies in examples ... OK
- checking line endings in C/C++/Fortran sources/headers ... OK
- checking line endings in Makefiles ... OK
- checking compilation flags in Makevars ... OK
- checking for GNU extensions in Makefiles ... OK
- checking for portable use of $(BLAS_LIBS) and $(LAPACK_LIBS) ... OK
- checking use of PKG_*FLAGS in Makefiles ... OK
- checking use of SHLIB_OPENMP_*FLAGS in Makefiles ... OK
- checking pragmas in C/C++ headers and code ... OK
- checking compilation flags used ... OK
- checking compiled code ... OK
- checking installed files from ‘inst/doc’ ... OK
- checking files in ‘vignettes’ ... OK
- checking examples ... [50s/59s] OK
- checking for unstated dependencies in vignettes ... OK
- checking package vignettes ... OK
- checking re-building of vignette outputs ... [94s/115s] OK
- checking PDF version of manual ... [5s/7s] OK
- checking HTML version of manual ... [2s/3s] OK
- checking for non-standard things in the check directory ... OK
- DONE
Status: 2 NOTEs