- using R Under development (unstable) (2023-12-09 r85665)
- using platform: x86_64-pc-linux-gnu
- R was compiled by
gcc-13 (Debian 13.2.0-7) 13.2.0
GNU Fortran (Debian 13.2.0-7) 13.2.0
- running under: Debian GNU/Linux trixie/sid
- using session charset: UTF-8
- checking for file ‘bdpar/DESCRIPTION’ ... OK
- checking extension type ... Package
- this is package ‘bdpar’ version ‘3.0.3’
- package encoding: UTF-8
- checking package namespace information ... OK
- checking package dependencies ... OK
- checking if this is a source package ... OK
- checking if there is a namespace ... OK
- checking for executable files ... OK
- checking for hidden files and directories ... OK
- checking for portable file names ... OK
- checking for sufficient/correct file permissions ... OK
- checking whether package ‘bdpar’ can be installed ... OK
See the install log for details.
- checking package directory ... OK
- checking for future file timestamps ... OK
- checking ‘build’ directory ... OK
- checking DESCRIPTION meta-information ... OK
- checking top-level files ... OK
- checking for left-over files ... OK
- checking index information ... OK
- checking package subdirectories ... OK
- checking R files for non-ASCII characters ... OK
- checking R files for syntax errors ... OK
- checking whether the package can be loaded ... [0s/1s] OK
- checking whether the package can be loaded with stated dependencies ... [0s/1s] OK
- checking whether the package can be unloaded cleanly ... [0s/1s] OK
- checking whether the namespace can be loaded with stated dependencies ... [0s/1s] OK
- checking whether the namespace can be unloaded cleanly ... [0s/1s] OK
- checking loading without being on the library search path ... [0s/1s] OK
- checking whether startup messages can be suppressed ... [0s/1s] OK
- checking use of S3 registration ... OK
- checking dependencies in R code ... OK
- checking S3 generic/method consistency ... OK
- checking replacement functions ... OK
- checking foreign function calls ... OK
- checking R code for possible problems ... [6s/11s] OK
- checking Rd files ... [2s/2s] NOTE
checkRd: (-1) Bdpar.Rd:24-27: Lost braces in \itemize; meant \describe ?
checkRd: (-1) Bdpar.Rd:28-30: Lost braces in \itemize; meant \describe ?
checkRd: (-1) bdpar.Options.Rd:117-134: Lost braces in \itemize; meant \describe ?
checkRd: (-1) bdpar.Options.Rd:120-122: Lost braces in \itemize; meant \describe ?
checkRd: (-1) bdpar.Options.Rd:123-125: Lost braces in \itemize; meant \describe ?
checkRd: (-1) bdpar.Options.Rd:126-132: Lost braces in \itemize; meant \describe ?
checkRd: (-1) bdpar.Options.Rd:128-130: Lost braces in \itemize; meant \describe ?
checkRd: (-1) bdpar.Options.Rd:136-153: Lost braces in \itemize; meant \describe ?
checkRd: (-1) bdpar.Options.Rd:139-141: Lost braces in \itemize; meant \describe ?
checkRd: (-1) bdpar.Options.Rd:142-151: Lost braces in \itemize; meant \describe ?
checkRd: (-1) bdpar.Options.Rd:144-146: Lost braces in \itemize; meant \describe ?
checkRd: (-1) bdpar.Options.Rd:147-149: Lost braces in \itemize; meant \describe ?
checkRd: (-1) bdpar.Options.Rd:155-172: Lost braces in \itemize; meant \describe ?
checkRd: (-1) bdpar.Options.Rd:158-160: Lost braces in \itemize; meant \describe ?
checkRd: (-1) bdpar.Options.Rd:161-170: Lost braces in \itemize; meant \describe ?
checkRd: (-1) bdpar.Options.Rd:163-165: Lost braces in \itemize; meant \describe ?
checkRd: (-1) bdpar.Options.Rd:166-168: Lost braces in \itemize; meant \describe ?
checkRd: (-1) bdpar.Options.Rd:174-188: Lost braces in \itemize; meant \describe ?
checkRd: (-1) bdpar.Options.Rd:177-179: Lost braces in \itemize; meant \describe ?
checkRd: (-1) bdpar.Options.Rd:180-186: Lost braces in \itemize; meant \describe ?
checkRd: (-1) bdpar.Options.Rd:182-184: Lost braces in \itemize; meant \describe ?
checkRd: (-1) bdpar.Options.Rd:190-200: Lost braces in \itemize; meant \describe ?
checkRd: (-1) bdpar.Options.Rd:193-195: Lost braces in \itemize; meant \describe ?
checkRd: (-1) bdpar.Options.Rd:196-198: Lost braces in \itemize; meant \describe ?
checkRd: (-1) bdpar.Options.Rd:202-209: Lost braces in \itemize; meant \describe ?
checkRd: (-1) bdpar.Options.Rd:205-207: Lost braces in \itemize; meant \describe ?
checkRd: (-1) bdpar.Options.Rd:211-228: Lost braces in \itemize; meant \describe ?
checkRd: (-1) bdpar.Options.Rd:214-216: Lost braces in \itemize; meant \describe ?
checkRd: (-1) bdpar.Options.Rd:217-219: Lost braces in \itemize; meant \describe ?
checkRd: (-1) bdpar.Options.Rd:220-226: Lost braces in \itemize; meant \describe ?
checkRd: (-1) bdpar.Options.Rd:222-224: Lost braces in \itemize; meant \describe ?
checkRd: (-1) bdpar.Options.Rd:230-238: Lost braces in \itemize; meant \describe ?
checkRd: (-1) bdpar.Options.Rd:234-236: Lost braces in \itemize; meant \describe ?
checkRd: (-1) bdpar.Options.Rd:240-263: Lost braces in \itemize; meant \describe ?
checkRd: (-1) bdpar.Options.Rd:244-246: Lost braces in \itemize; meant \describe ?
checkRd: (-1) bdpar.Options.Rd:247-261: Lost braces in \itemize; meant \describe ?
checkRd: (-1) bdpar.Options.Rd:249-251: Lost braces in \itemize; meant \describe ?
checkRd: (-1) bdpar.Options.Rd:252-255: Lost braces in \itemize; meant \describe ?
checkRd: (-1) bdpar.Options.Rd:256-259: Lost braces in \itemize; meant \describe ?
checkRd: (-1) bdpar.Options.Rd:265-272: Lost braces in \itemize; meant \describe ?
checkRd: (-1) bdpar.Options.Rd:268-270: Lost braces in \itemize; meant \describe ?
checkRd: (-1) bdpar.Options.Rd:274-281: Lost braces in \itemize; meant \describe ?
checkRd: (-1) bdpar.Options.Rd:277-279: Lost braces in \itemize; meant \describe ?
- checking Rd metadata ... OK
- checking Rd line widths ... OK
- checking Rd cross-references ... OK
- checking for missing documentation entries ... OK
- checking for code/documentation mismatches ... OK
- checking Rd \usage sections ... OK
- checking Rd contents ... OK
- checking for unstated dependencies in examples ... OK
- checking contents of ‘data’ directory ... OK
- checking data for non-ASCII characters ... [0s/1s] OK
- checking data for ASCII and uncompressed saves ... OK
- checking installed files from ‘inst/doc’ ... OK
- checking files in ‘vignettes’ ... OK
- checking examples ... [1s/1s] OK
- checking for unstated dependencies in ‘tests’ ... OK
- checking tests ... [16s/29s] OK
Running ‘test_all.R’ [16s/28s]
- checking for unstated dependencies in vignettes ... OK
- checking package vignettes in ‘inst/doc’ ... OK
- checking re-building of vignette outputs ... [6s/10s] OK
- checking PDF version of manual ... [10s/18s] OK
- checking HTML version of manual ... [6s/11s] OK
- checking for non-standard things in the check directory ... OK
- DONE
Status: 1 NOTE