- using R Under development (unstable) (2022-08-15 r82721)
- using platform: x86_64-pc-linux-gnu (64-bit)
- using session charset: UTF-8
- checking for file ‘bbotk/DESCRIPTION’ ... OK
- this is package ‘bbotk’ version ‘0.5.3’
- package encoding: UTF-8
- checking package namespace information ... OK
- checking package dependencies ... OK
- checking if this is a source package ... OK
- checking if there is a namespace ... OK
- checking for executable files ... OK
- checking for hidden files and directories ... OK
- checking for portable file names ... OK
- checking for sufficient/correct file permissions ... OK
- checking serialization versions ... OK
- checking whether package ‘bbotk’ can be installed ... OK
- checking package directory ... OK
- checking for future file timestamps ... OK
- checking ‘build’ directory ... OK
- checking DESCRIPTION meta-information ... OK
- checking top-level files ... OK
- checking for left-over files ... OK
- checking index information ... OK
- checking package subdirectories ... OK
- checking R files for non-ASCII characters ... OK
- checking R files for syntax errors ... OK
- checking whether the package can be loaded ... OK
- checking whether the package can be loaded with stated dependencies ... OK
- checking whether the package can be unloaded cleanly ... OK
- checking whether the namespace can be loaded with stated dependencies ... OK
- checking whether the namespace can be unloaded cleanly ... OK
- checking loading without being on the library search path ... OK
- checking use of S3 registration ... OK
- checking dependencies in R code ... OK
- checking S3 generic/method consistency ... OK
- checking replacement functions ... OK
- checking foreign function calls ... OK
- checking R code for possible problems ... [27s/48s] OK
- checking Rd files ... [1s/2s] OK
- checking Rd metadata ... OK
- checking Rd line widths ... OK
- checking Rd cross-references ... OK
- checking for missing documentation entries ... OK
- checking for code/documentation mismatches ... OK
- checking Rd \usage sections ... OK
- checking Rd contents ... OK
- checking for unstated dependencies in examples ... OK
- checking line endings in C/C++/Fortran sources/headers ... OK
- checking pragmas in C/C++ headers and code ... OK
- checking compilation flags used ... OK
- checking compiled code ... OK
- checking installed files from ‘inst/doc’ ... OK
- checking files in ‘vignettes’ ... OK
- checking examples ... [8s/12s] OK
Examples with CPU (user + system) or elapsed time > 5s
user system elapsed
mlr_optimizers_irace 3.891 0.066 5.61
- checking for unstated dependencies in ‘tests’ ... OK
- checking tests ... [44s/78s] OK
Running ‘testthat.R’ [44s/78s]
- checking for unstated dependencies in vignettes ... OK
- checking package vignettes in ‘inst/doc’ ... OK
- checking re-building of vignette outputs ... [4s/6s] OK
- checking PDF version of manual ... [7s/15s] OK
- checking HTML version of manual ... [3s/7s] NOTE
Found the following HTML validation problems:
ArchiveBest.html:79:6: Warning: missing </span> before <p>
ArchiveBest.html:79:86: Warning: inserting implicit <span>
ArchiveBest.html:82:6: Warning: missing </span> before <p>
ArchiveBest.html:82:87: Warning: inserting implicit <span>
ArchiveBest.html:85:6: Warning: missing </span> before <p>
ArchiveBest.html:85:94: Warning: inserting implicit <span>
ArchiveBest.html:88:6: Warning: missing </span> before <p>
ArchiveBest.html:88:86: Warning: inserting implicit <span>
ArchiveBest.html:79:6: Warning: trimming empty <span>
ArchiveBest.html:82:6: Warning: trimming empty <span>
ArchiveBest.html:85:6: Warning: trimming empty <span>
ArchiveBest.html:88:6: Warning: trimming empty <span>
Codomain.html:84:6: Warning: missing </span> before <p>
Codomain.html:84:87: Warning: inserting implicit <span>
Codomain.html:87:6: Warning: missing </span> before <p>
Codomain.html:87:91: Warning: inserting implicit <span>
Codomain.html:90:6: Warning: missing </span> before <p>
Codomain.html:90:90: Warning: inserting implicit <span>
Codomain.html:93:6: Warning: missing </span> before <p>
Codomain.html:93:93: Warning: inserting implicit <span>
Codomain.html:96:6: Warning: missing </span> before <p>
Codomain.html:96:89: Warning: inserting implicit <span>
Codomain.html:99:6: Warning: missing </span> before <p>
Codomain.html:99:92: Warning: inserting implicit <span>
Codomain.html:102:6: Warning: missing </span> before <p>
Codomain.html:102:90: Warning: inserting implicit <span>
Codomain.html:105:6: Warning: missing </span> before <p>
Codomain.html:105:94: Warning: inserting implicit <span>
Codomain.html:108:6: Warning: missing </span> before <p>
Codomain.html:108:87: Warning: inserting implicit <span>
Codomain.html:111:6: Warning: missing </span> before <p>
Codomain.html:111:89: Warning: inserting implicit <span>
Codomain.html:114:6: Warning: missing </span> before <p>
Codomain.html:114:96: Warning: inserting implicit <span>
Codomain.html:117:6: Warning: missing </span> before <p>
Codomain.html:117:90: Warning: inserting implicit <span>
Codomain.html:120:6: Warning: missing </span> before <p>
Codomain.html:120:88: Warning: inserting implicit <span>
Codomain.html:123:6: Warning: missing </span> before <p>
Codomain.html:123:91: Warning: inserting implicit <span>
Codomain.html:84:6: Warning: trimming empty <span>
Codomain.html:87:6: Warning: trimming empty <span>
Codomain.html:90:6: Warning: trimming empty <span>
Codomain.html:93:6: Warning: trimming empty <span>
Codomain.html:96:6: Warning: trimming empty <span>
Codomain.html:99:6: Warning: trimming empty <span>
Codomain.html:102:6: Warning: trimming empty <span>
Codomain.html:105:6: Warning: trimming empty <span>
Codomain.html:108:6: Warning: trimming empty <span>
Codomain.html:111:6: Warning: trimming empty <span>
Codomain.html:114:6: Warning: trimming empty <span>
Codomain.html:117:6: Warning: trimming empty <span>
Codomain.html:120:6: Warning: trimming empty <span>
Codomain.html:123:6: Warning: trimming empty <span>
ObjectiveRFun.html:70:6: Warning: missing </span> before <p>
ObjectiveRFun.html:70:90: Warning: inserting implicit <span>
ObjectiveRFun.html:73:6: Warning: missing </span> before <p>
ObjectiveRFun.html:73:92: Warning: inserting implicit <span>
ObjectiveRFun.html:76:6: Warning: missing </span> before <p>
ObjectiveRFun.html:76:89: Warning: inserting implicit <span>
ObjectiveRFun.html:79:6: Warning: missing </span> before <p>
ObjectiveRFun.html:79:88: Warning: inserting implicit <span>
ObjectiveRFun.html:70:6: Warning: trimming empty <span>
ObjectiveRFun.html:73:6: Warning: trimming empty <span>
ObjectiveRFun.html:76:6: Warning: trimming empty <span>
ObjectiveRFun.html:79:6: Warning: trimming empty <span>
ObjectiveRFunDt.html:72:6: Warning: missing </span> before <p>
ObjectiveRFunDt.html:72:87: Warning: inserting implicit <span>
ObjectiveRFunDt.html:75:6: Warning: missing </span> before <p>
ObjectiveRFunDt.html:75:89: Warning: inserting implicit <span>
ObjectiveRFunDt.html:78:6: Warning: missing </span> before <p>
ObjectiveRFunDt.html:78:88: Warning: inserting implicit <span>
ObjectiveRFunDt.html:72:6: Warning: trimming empty <span>
ObjectiveRFunDt.html:75:6: Warning: trimming empty <span>
ObjectiveRFunDt.html:78:6: Warning: trimming empty <span>
OptimInstanceMultiCrit.html:86:6: Warning: missing </span> before <p>
OptimInstanceMultiCrit.html:86:92: Warning: inserting implicit <span>
OptimInstanceMultiCrit.html:89:6: Warning: missing </span> before <p>
OptimInstanceMultiCrit.html:89:97: Warning: inserting implicit <span>
OptimInstanceMultiCrit.html:92:6: Warning: missing </span> before <p>
OptimInstanceMultiCrit.html:92:93: Warning: inserting implicit <span>
OptimInstanceMultiCrit.html:95:6: Warning: missing </span> before <p>
OptimInstanceMultiCrit.html:95:105: Warning: inserting implicit <span>
OptimInstanceMultiCrit.html:98:6: Warning: missing </span> before <p>
OptimInstanceMultiCrit.html:98:92: Warning: inserting implicit <span>
OptimInstanceMultiCrit.html:86:6: Warning: trimming empty <span>
OptimInstanceMultiCrit.html:89:6: Warning: trimming empty <span>
OptimInstanceMultiCrit.html:92:6: Warning: trimming empty <span>
OptimInstanceMultiCrit.html:95:6: Warning: trimming empty <span>
OptimInstanceMultiCrit.html:98:6: Warning: trimming empty <span>
OptimInstanceSingleCrit.html:70:6: Warning: missing </span> before <p>
OptimInstanceSingleCrit.html:70:92: Warning: inserting implicit <span>
OptimInstanceSingleCrit.html:73:6: Warning: missing </span> before <p>
OptimInstanceSingleCrit.html:73:97: Warning: inserting implicit <span>
OptimInstanceSingleCrit.html:76:6: Warning: missing </span> before <p>
OptimInstanceSingleCrit.html:76:93: Warning: inserting implicit <span>
OptimInstanceSingleCrit.html:79:6: Warning: missing </span> before <p>
OptimInstanceSingleCrit.html:79:105: Warning: inserting implicit <span>
OptimInstanceSingleCrit.html:82:6: Warning: missing </span> before <p>
OptimInstanceSingleCrit.html:82:92: Warning: inserting implicit <span>
OptimInstanceSingleCrit.html:70:6: Warning: trimming empty <span>
OptimInstanceSingleCrit.html:73:6: Warning: trimming empty <span>
OptimInstanceSingleCrit.html:76:6: Warning: trimming empty <span>
OptimInstanceSingleCrit.html:79:6: Warning: trimming empty <span>
OptimInstanceSingleCrit.html:82:6: Warning: trimming empty <span>
mlr_optimizers_cmaes.html:92:6: Warning: missing </span> before <p>
mlr_optimizers_cmaes.html:92:89: Warning: inserting implicit <span>
mlr_optimizers_cmaes.html:95:6: Warning: missing </span> before <p>
mlr_optimizers_cmaes.html:95:87: Warning: inserting implicit <span>
mlr_optimizers_cmaes.html:98:6: Warning: missing </span> before <p>
mlr_optimizers_cmaes.html:98:91: Warning: inserting implicit <span>
mlr_optimizers_cmaes.html:101:6: Warning: missing </span> before <p>
mlr_optimizers_cmaes.html:101:88: Warning: inserting implicit <span>
mlr_optimizers_cmaes.html:92:6: Warning: trimming empty <span>
mlr_optimizers_cmaes.html:95:6: Warning: trimming empty <span>
mlr_optimizers_cmaes.html:98:6: Warning: trimming empty <span>
mlr_optimizers_cmaes.html:101:6: Warning: trimming empty <span>
mlr_optimizers_design_points.html:92:6: Warning: missing </span> before <p>
mlr_optimizers_design_points.html:92:89: Warning: inserting implicit <span>
mlr_optimizers_design_points.html:95:6: Warning: missing </span> before <p>
mlr_optimizers_design_points.html:95:87: Warning: inserting implicit <span>
mlr_optimizers_design_points.html:98:6: Warning: missing </span> before <p>
mlr_optimizers_design_points.html:98:91: Warning: inserting implicit <span>
mlr_optimizers_design_points.html:101:6: Warning: missing </span> before <p>
mlr_optimizers_design_points.html:101:88: Warning: inserting implicit <span>
mlr_optimizers_design_points.html:92:6: Warning: trimming empty <span>
mlr_optimizers_design_points.html:95:6: Warning: trimming empty <span>
mlr_optimizers_design_points.html:98:6: Warning: trimming empty <span>
mlr_optimizers_design_points.html:101:6: Warning: trimming empty <span>
mlr_optimizers_gensa.html:94:6: Warning: missing </span> before <p>
mlr_optimizers_gensa.html:94:89: Warning: inserting implicit <span>
mlr_optimizers_gensa.html:97:6: Warning: missing </span> before <p>
mlr_optimizers_gensa.html:97:87: Warning: inserting implicit <span>
mlr_optimizers_gensa.html:100:6: Warning: missing </span> before <p>
mlr_optimizers_gensa.html:100:91: Warning: inserting implicit <span>
mlr_optimizers_gensa.html:103:6: Warning: missing </span> before <p>
mlr_optimizers_gensa.html:103:88: Warning: inserting implicit <span>
mlr_optimizers_gensa.html:94:6: Warning: trimming empty <span>
mlr_optimizers_gensa.html:97:6: Warning: trimming empty <span>
mlr_optimizers_gensa.html:100:6: Warning: trimming empty <span>
mlr_optimizers_gensa.html:103:6: Warning: trimming empty <span>
mlr_optimizers_grid_search.html:97:6: Warning: missing </span> before <p>
mlr_optimizers_grid_search.html:97:89: Warning: inserting implicit <span>
mlr_optimizers_grid_search.html:100:6: Warning: missing </span> before <p>
mlr_optimizers_grid_search.html:100:87: Warning: inserting implicit <span>
mlr_optimizers_grid_search.html:103:6: Warning: missing </span> before <p>
mlr_optimizers_grid_search.html:103:91: Warning: inserting implicit <span>
mlr_optimizers_grid_search.html:106:6: Warning: missing </span> before <p>
mlr_optimizers_grid_search.html:106:88: Warning: inserting implicit <span>
mlr_optimizers_grid_search.html:97:6: Warning: trimming empty <span>
mlr_optimizers_grid_search.html:100:6: Warning: trimming empty <span>
mlr_optimizers_grid_search.html:103:6: Warning: trimming empty <span>
mlr_optimizers_grid_search.html:106:6: Warning: trimming empty <span>
mlr_optimizers_irace.html:141:6: Warning: missing </span> before <p>
mlr_optimizers_irace.html:141:89: Warning: inserting implicit <span>
mlr_optimizers_irace.html:144:6: Warning: missing </span> before <p>
mlr_optimizers_irace.html:144:87: Warning: inserting implicit <span>
mlr_optimizers_irace.html:147:6: Warning: missing </span> before <p>
mlr_optimizers_irace.html:147:91: Warning: inserting implicit <span>
mlr_optimizers_irace.html:150:6: Warning: missing </span> before <p>
mlr_optimizers_irace.html:150:88: Warning: inserting implicit <span>
mlr_optimizers_irace.html:141:6: Warning: trimming empty <span>
mlr_optimizers_irace.html:144:6: Warning: trimming empty <span>
mlr_optimizers_irace.html:147:6: Warning: trimming empty <span>
mlr_optimizers_irace.html:150:6: Warning: trimming empty <span>
mlr_optimizers_nloptr.html:97:6: Warning: missing </span> before <p>
mlr_optimizers_nloptr.html:97:89: Warning: inserting implicit <span>
mlr_optimizers_nloptr.html:100:6: Warning: missing </span> before <p>
mlr_optimizers_nloptr.html:100:87: Warning: inserting implicit <span>
mlr_optimizers_nloptr.html:103:6: Warning: missing </span> before <p>
mlr_optimizers_nloptr.html:103:91: Warning: inserting implicit <span>
mlr_optimizers_nloptr.html:106:6: Warning: missing </span> before <p>
mlr_optimizers_nloptr.html:106:88: Warning: inserting implicit <span>
mlr_optimizers_nloptr.html:97:6: Warning: trimming empty <span>
mlr_optimizers_nloptr.html:100:6: Warning: trimming empty <span>
mlr_optimizers_nloptr.html:103:6: Warning: trimming empty <span>
mlr_optimizers_nloptr.html:106:6: Warning: trimming empty <span>
mlr_optimizers_random_search.html:87:6: Warning: missing </span> before <p>
mlr_optimizers_random_search.html:87:89: Warning: inserting implicit <span>
mlr_optimizers_random_search.html:90:6: Warning: missing </span> before <p>
mlr_optimizers_random_search.html:90:87: Warning: inserting implicit <span>
mlr_optimizers_random_search.html:93:6: Warning: missing </span> before <p>
mlr_optimizers_random_search.html:93:91: Warning: inserting implicit <span>
mlr_optimizers_random_search.html:96:6: Warning: missing </span> before <p>
mlr_optimizers_random_search.html:96:88: Warning: inserting implicit <span>
mlr_optimizers_random_search.html:87:6: Warning: trimming empty <span>
mlr_optimizers_random_search.html:90:6: Warning: trimming empty <span>
mlr_optimizers_random_search.html:93:6: Warning: trimming empty <span>
mlr_optimizers_random_search.html:96:6: Warning: trimming empty <span>
mlr_terminators_clock_time.html:77:6: Warning: missing </span> before <p>
mlr_terminators_clock_time.html:77:90: Warning: inserting implicit <span>
mlr_terminators_clock_time.html:80:6: Warning: missing </span> before <p>
mlr_terminators_clock_time.html:80:89: Warning: inserting implicit <span>
mlr_terminators_clock_time.html:83:6: Warning: missing </span> before <p>
mlr_terminators_clock_time.html:83:98: Warning: inserting implicit <span>
mlr_terminators_clock_time.html:86:6: Warning: missing </span> before <p>
mlr_terminators_clock_time.html:86:90: Warning: inserting implicit <span>
mlr_terminators_clock_time.html:77:6: Warning: trimming empty <span>
mlr_terminators_clock_time.html:80:6: Warning: trimming empty <span>
mlr_terminators_clock_time.html:83:6: Warning: trimming empty <span>
mlr_terminators_clock_time.html:86:6: Warning: trimming empty <span>
mlr_terminators_combo.html:101:6: Warning: missing </span> before <p>
mlr_terminators_combo.html:101:90: Warning: inserting implicit <span>
mlr_terminators_combo.html:104:6: Warning: missing </span> before <p>
mlr_terminators_combo.html:104:90: Warning: inserting implicit <span>
mlr_terminators_combo.html:101:6: Warning: trimming empty <span>
mlr_terminators_combo.html:104:6: Warning: trimming empty <span>
mlr_terminators_evals.html:89:6: Warning: missing </span> before <p>
mlr_terminators_evals.html:89:90: Warning: inserting implicit <span>
mlr_terminators_evals.html:92:6: Warning: missing </span> before <p>
mlr_terminators_evals.html:92:89: Warning: inserting implicit <span>
mlr_terminators_evals.html:95:6: Warning: missing </span> before <p>
mlr_terminators_evals.html:95:98: Warning: inserting implicit <span>
mlr_terminators_evals.html:98:6: Warning: missing </span> before <p>
mlr_terminators_evals.html:98:90: Warning: inserting implicit <span>
mlr_terminators_evals.html:89:6: Warning: trimming empty <span>
mlr_terminators_evals.html:92:6: Warning: trimming empty <span>
mlr_terminators_evals.html:95:6: Warning: trimming empty <span>
mlr_terminators_evals.html:98:6: Warning: trimming empty <span>
mlr_terminators_none.html:66:6: Warning: missing </span> before <p>
mlr_terminators_none.html:66:90: Warning: inserting implicit <span>
mlr_terminators_none.html:69:6: Warning: missing </span> before <p>
mlr_terminators_none.html:69:89: Warning: inserting implicit <span>
mlr_terminators_none.html:72:6: Warning: missing </span> before <p>
mlr_terminators_none.html:72:98: Warning: inserting implicit <span>
mlr_terminators_none.html:75:6: Warning: missing </span> before <p>
mlr_terminators_none.html:75:90: Warning: inserting implicit <span>
mlr_terminators_none.html:66:6: Warning: trimming empty <span>
mlr_terminators_none.html:69:6: Warning: trimming empty <span>
mlr_terminators_none.html:72:6: Warning: trimming empty <span>
mlr_terminators_none.html:75:6: Warning: trimming empty <span>
mlr_terminators_perf_reached.html:79:6: Warning: missing </span> before <p>
mlr_terminators_perf_reached.html:79:90: Warning: inserting implicit <span>
mlr_terminators_perf_reached.html:82:6: Warning: missing </span> before <p>
mlr_terminators_perf_reached.html:82:89: Warning: inserting implicit <span>
mlr_terminators_perf_reached.html:85:6: Warning: missing </span> before <p>
mlr_terminators_perf_reached.html:85:98: Warning: inserting implicit <span>
mlr_terminators_perf_reached.html:88:6: Warning: missing </span> before <p>
mlr_terminators_perf_reached.html:88:90: Warning: inserting implicit <span>
mlr_terminators_perf_reached.html:79:6: Warning: trimming empty <span>
mlr_terminators_perf_reached.html:82:6: Warning: trimming empty <span>
mlr_terminators_perf_reached.html:85:6: Warning: trimming empty <span>
mlr_terminators_perf_reached.html:88:6: Warning: trimming empty <span>
mlr_terminators_run_time.html:77:6: Warning: missing </span> before <p>
mlr_terminators_run_time.html:77:90: Warning: inserting implicit <span>
mlr_terminators_run_time.html:80:6: Warning: missing </span> before <p>
mlr_terminators_run_time.html:80:89: Warning: inserting implicit <span>
mlr_terminators_run_time.html:83:6: Warning: missing </span> before <p>
mlr_terminators_run_time.html:83:98: Warning: inserting implicit <span>
mlr_terminators_run_time.html:86:6: Warning: missing </span> before <p>
mlr_terminators_run_time.html:86:90: Warning: inserting implicit <span>
mlr_terminators_run_time.html:77:6: Warning: trimming empty <span>
mlr_terminators_run_time.html:80:6: Warning: trimming empty <span>
mlr_terminators_run_time.html:83:6: Warning: trimming empty <span>
mlr_terminators_run_time.html:86:6: Warning: trimming empty <span>
mlr_terminators_stagnation.html:83:6: Warning: missing </span> before <p>
mlr_terminators_stagnation.html:83:90: Warning: inserting implicit <span>
mlr_terminators_stagnation.html:86:6: Warning: missing </span> before <p>
mlr_terminators_stagnation.html:86:89: Warning: inserting implicit <span>
mlr_terminators_stagnation.html:89:6: Warning: missing </span> before <p>
mlr_terminators_stagnation.html:89:98: Warning: inserting implicit <span>
mlr_terminators_stagnation.html:92:6: Warning: missing </span> before <p>
mlr_terminators_stagnation.html:92:90: Warning: inserting implicit <span>
mlr_terminators_stagnation.html:83:6: Warning: trimming empty <span>
mlr_terminators_stagnation.html:86:6: Warning: trimming empty <span>
mlr_terminators_stagnation.html:89:6: Warning: trimming empty <span>
mlr_terminators_stagnation.html:92:6: Warning: trimming empty <span>
mlr_terminators_stagnation_batch.html:83:6: Warning: missing </span> before <p>
mlr_terminators_stagnation_batch.html:83:90: Warning: inserting implicit <span>
mlr_terminators_stagnation_batch.html:86:6: Warning: missing </span> before <p>
mlr_terminators_stagnation_batch.html:86:89: Warning: inserting implicit <span>
mlr_terminators_stagnation_batch.html:89:6: Warning: missing </span> before <p>
mlr_terminators_stagnation_batch.html:89:98: Warning: inserting implicit <span>
mlr_terminators_stagnation_batch.html:92:6: Warning: missing </span> before <p>
mlr_terminators_stagnation_batch.html:92:90: Warning: inserting implicit <span>
mlr_terminators_stagnation_batch.html:83:6: Warning: trimming empty <span>
mlr_terminators_stagnation_batch.html:86:6: Warning: trimming empty <span>
mlr_terminators_stagnation_batch.html:89:6: Warning: trimming empty <span>
mlr_terminators_stagnation_batch.html:92:6: Warning: trimming empty <span>
- checking for non-standard things in the check directory ... OK
- DONE
Status: 1 NOTE