- using R Under development (unstable) (2024-04-17 r86441)
- using platform: x86_64-pc-linux-gnu
- R was compiled by
gcc-13 (Debian 13.2.0-13) 13.2.0
GNU Fortran (Debian 13.2.0-13) 13.2.0
- running under: Debian GNU/Linux trixie/sid
- using session charset: UTF-8
- checking for file ‘bayesplot/DESCRIPTION’ ... OK
- checking extension type ... Package
- this is package ‘bayesplot’ version ‘1.11.1’
- package encoding: UTF-8
- checking package namespace information ... OK
- checking package dependencies ... OK
- checking if this is a source package ... OK
- checking if there is a namespace ... OK
- checking for executable files ... OK
- checking for hidden files and directories ... OK
- checking for portable file names ... OK
- checking for sufficient/correct file permissions ... OK
- checking serialization versions ... OK
- checking whether package ‘bayesplot’ can be installed ... OK
See the install log for details.
- checking package directory ... OK
- checking for future file timestamps ... OK
- checking ‘build’ directory ... OK
- checking DESCRIPTION meta-information ... OK
- checking top-level files ... OK
- checking for left-over files ... OK
- checking index information ... OK
- checking package subdirectories ... OK
- checking code files for non-ASCII characters ... OK
- checking R files for syntax errors ... OK
- checking whether the package can be loaded ... [1s/2s] OK
- checking whether the package can be loaded with stated dependencies ... [1s/2s] OK
- checking whether the package can be unloaded cleanly ... [1s/2s] OK
- checking whether the namespace can be loaded with stated dependencies ... [1s/1s] OK
- checking whether the namespace can be unloaded cleanly ... [1s/2s] OK
- checking loading without being on the library search path ... [1s/3s] OK
- checking whether startup messages can be suppressed ... [1s/2s] OK
- checking use of S3 registration ... OK
- checking dependencies in R code ... OK
- checking S3 generic/method consistency ... OK
- checking replacement functions ... OK
- checking foreign function calls ... OK
- checking R code for possible problems ... [22s/38s] OK
- checking Rd files ... [1s/1s] OK
- checking Rd metadata ... OK
- checking Rd line widths ... OK
- checking Rd cross-references ... OK
- checking for missing documentation entries ... OK
- checking for code/documentation mismatches ... OK
- checking Rd \usage sections ... OK
- checking Rd contents ... OK
- checking for unstated dependencies in examples ... OK
- checking R/sysdata.rda ... OK
- checking installed files from ‘inst/doc’ ... OK
- checking files in ‘vignettes’ ... OK
- checking examples ... [117s/193s] OK
Examples with CPU (user + system) or elapsed time > 5s
user system elapsed
bayesplot-colors 10.440 0.063 16.879
PPC-intervals 9.235 0.079 15.236
PPD-intervals 8.531 0.058 13.997
MCMC-intervals 8.188 0.066 12.415
MCMC-traces 7.263 0.099 11.796
PPC-test-statistics 6.674 0.020 10.239
bayesplot-helpers 6.546 0.015 10.333
bayesplot_theme_get 5.163 0.071 9.557
MCMC-diagnostics 5.043 0.049 8.273
pp_check 4.479 0.082 8.856
bayesplot-package 4.462 0.028 8.541
MCMC-combos 4.317 0.087 6.520
PPC-discrete 4.161 0.020 6.097
MCMC-distributions 3.940 0.052 7.100
PPC-distributions 3.726 0.031 6.503
theme_default 3.698 0.008 5.969
tidy-params 3.558 0.012 6.340
MCMC-scatterplots 3.234 0.060 5.894
- checking for unstated dependencies in ‘tests’ ... OK
- checking tests ... [292s/462s] OK
Running ‘testthat.R’ [292s/462s]
- checking for unstated dependencies in vignettes ... OK
- checking package vignettes ... OK
- checking re-building of vignette outputs ... [10s/30s] OK
- checking PDF version of manual ... [9s/19s] OK
- checking HTML version of manual ... [5s/10s] OK
- checking for non-standard things in the check directory ... OK
- DONE
Status: OK