- using R Under development (unstable) (2025-10-20 r88955)
- using platform: x86_64-pc-linux-gnu
- R was compiled by
gcc-15 (Debian 15.2.0-4) 15.2.0
GNU Fortran (Debian 15.2.0-4) 15.2.0
- running under: Debian GNU/Linux forky/sid
- using session charset: UTF-8
- checking for file ‘autoBagging/DESCRIPTION’ ... OK
- checking extension type ... Package
- this is package ‘autoBagging’ version ‘0.1.0’
- package encoding: UTF-8
- checking CRAN incoming feasibility ... [1s/1s] NOTE
Maintainer: ‘Vitor Cerqueira <cerqueira.vitormanuel@gmail.com>’
The Description field contains
arXiv:1706.09367.
Please refer to arXiv e-prints via their arXiv DOI <doi:10.48550/arXiv.YYMM.NNNNN>.
- checking package namespace information ... OK
- checking package dependencies ... OK
- checking if this is a source package ... OK
- checking if there is a namespace ... OK
- checking for executable files ... OK
- checking for hidden files and directories ... OK
- checking for portable file names ... OK
- checking for sufficient/correct file permissions ... OK
- checking serialization versions ... OK
- checking whether package ‘autoBagging’ can be installed ... OK
See the install log for details.
- checking package directory ... OK
- checking for future file timestamps ... OK
- checking DESCRIPTION meta-information ... OK
- checking top-level files ... OK
- checking for left-over files ... OK
- checking index information ... OK
- checking package subdirectories ... OK
- checking code files for non-ASCII characters ... OK
- checking R files for syntax errors ... OK
- checking whether the package can be loaded ... [2s/2s] OK
- checking whether the package can be loaded with stated dependencies ... [2s/2s] OK
- checking whether the package can be unloaded cleanly ... [2s/2s] OK
- checking whether the namespace can be loaded with stated dependencies ... [2s/3s] OK
- checking whether the namespace can be unloaded cleanly ... [2s/2s] OK
- checking loading without being on the library search path ... [2s/2s] OK
- checking use of S3 registration ... OK
- checking dependencies in R code ... OK
- checking S3 generic/method consistency ... OK
- checking replacement functions ... OK
- checking foreign function calls ... OK
- checking R code for possible problems ... [13s/17s] OK
- checking Rd files ... [0s/0s] OK
- checking Rd metadata ... OK
- checking Rd line widths ... OK
- checking Rd cross-references ... OK
- checking for missing documentation entries ... OK
- checking for code/documentation mismatches ... OK
- checking Rd \usage sections ... OK
- checking Rd contents ... OK
- checking for unstated dependencies in examples ... OK
- checking contents of ‘data’ directory ... OK
- checking data for non-ASCII characters ... [0s/1s] OK
- checking data for ASCII and uncompressed saves ... OK
- checking examples ... [3s/3s] OK
- checking for unstated dependencies in ‘tests’ ... OK
- checking tests ... [2s/3s] OK
Running ‘testthat.R’ [2s/2s]
- checking PDF version of manual ... [6s/8s] OK
- checking HTML version of manual ... [1s/1s] NOTE
Found the following HTML validation problems:
KNORA.E.html:62:1 (KNORA.E.Rd:18): Warning: missing </ul> before </div>
OLA.html:62:1 (OLA.Rd:18): Warning: missing </ul> before </div>
abmodel.html:59:1 (abmodel.Rd:17): Warning: missing </ul> before </div>
bb.html:58:1 (bb.Rd:16): Warning: missing </ul> before </div>
classmajority.landmarker.html:50:1 (classmajority.landmarker.Rd:12): Warning: missing </ul> before </div>
classmajority.landmarker.correlation.html:50:1 (classmajority.landmarker.correlation.Rd:12): Warning: missing </ul> before </div>
classmajority.landmarker.entropy.html:50:1 (classmajority.landmarker.entropy.Rd:12): Warning: missing </ul> before </div>
classmajority.landmarker.interinfo.html:50:1 (classmajority.landmarker.interinfo.Rd:12): Warning: missing </ul> before </div>
classmajority.landmarker.mutual.information.html:50:1 (classmajority.landmarker.mutual.information.Rd:12): Warning: missing </ul> before </div>
dstump.landmarker_d1.html:50:1 (dstump.landmarker_d1.Rd:12): Warning: missing </ul> before </div>
dstump.landmarker_d1.correlation.html:50:1 (dstump.landmarker_d1.correlation.Rd:12): Warning: missing </ul> before </div>
dstump.landmarker_d1.entropy.html:50:1 (dstump.landmarker_d1.entropy.Rd:12): Warning: missing </ul> before </div>
dstump.landmarker_d1.interinfo.html:50:1 (dstump.landmarker_d1.interinfo.Rd:12): Warning: missing </ul> before </div>
dstump.landmarker_d1.mutual.information.html:50:1 (dstump.landmarker_d1.mutual.information.Rd:12): Warning: missing </ul> before </div>
dstump.landmarker_d2.html:50:1 (dstump.landmarker_d2.Rd:12): Warning: missing </ul> before </div>
dstump.landmarker_d2.correlation.html:50:1 (dstump.landmarker_d2.correlation.Rd:12): Warning: missing </ul> before </div>
dstump.landmarker_d2.entropy.html:50:1 (dstump.landmarker_d2.entropy.Rd:12): Warning: missing </ul> before </div>
dstump.landmarker_d2.interinfo.html:50:1 (dstump.landmarker_d2.interinfo.Rd:12): Warning: missing </ul> before </div>
dstump.landmarker_d2.mutual.information.html:50:1 (dstump.landmarker_d2.mutual.information.Rd:12): Warning: missing </ul> before </div>
dstump.landmarker_d3.html:50:1 (dstump.landmarker_d3.Rd:12): Warning: missing </ul> before </div>
dstump.landmarker_d3.correlation.html:50:1 (dstump.landmarker_d3.correlation.Rd:12): Warning: missing </ul> before </div>
dstump.landmarker_d3.entropy.html:50:1 (dstump.landmarker_d3.entropy.Rd:12): Warning: missing </ul> before </div>
dstump.landmarker_d3.interinfo.html:50:1 (dstump.landmarker_d3.interinfo.Rd:12): Warning: missing </ul> before </div>
dstump.landmarker_d3.mutual.information.html:50:1 (dstump.landmarker_d3.mutual.information.Rd:12): Warning: missing </ul> before </div>
get_target.html:46:1 (get_target.Rd:10): Warning: missing </ul> before </div>
lda.landmarker.correlation.html:51:1 (lda.landmarker.correlation.Rd:12): Warning: missing </ul> before </div>
majority_voting.html:46:1 (majority_voting.Rd:10): Warning: missing </ul> before </div>
mdsq.html:58:1 (mdsq.Rd:16): Warning: missing </ul> before </div>
nb.landmarker.html:50:1 (nb.landmarker.Rd:12): Warning: missing </ul> before </div>
nb.landmarker.correlation.html:50:1 (nb.landmarker.correlation.Rd:12): Warning: missing </ul> before </div>
nb.landmarker.entropy.html:50:1 (nb.landmarker.entropy.Rd:12): Warning: missing </ul> before </div>
nb.landmarker.interinfo.html:50:1 (nb.landmarker.interinfo.Rd:12): Warning: missing </ul> before </div>
nb.landmarker.mutual.information.html:50:1 (nb.landmarker.mutual.information.Rd:12): Warning: missing </ul> before </div>
- checking for non-standard things in the check directory ... OK
- DONE
Status: 2 NOTEs