- using R Under development (unstable) (2025-11-14 r89021)
- using platform: x86_64-pc-linux-gnu
- R was compiled by
gcc-15 (Debian 15.2.0-7) 15.2.0
GNU Fortran (Debian 15.2.0-7) 15.2.0
- running under: Debian GNU/Linux forky/sid
- using session charset: UTF-8
- checking for file ‘ammistability/DESCRIPTION’ ... OK
- checking extension type ... Package
- this is package ‘ammistability’ version ‘0.1.4’
- package encoding: UTF-8
- checking CRAN incoming feasibility ... [1s/2s] OK
- checking package namespace information ... OK
- checking package dependencies ... OK
- checking if this is a source package ... OK
- checking if there is a namespace ... OK
- checking for executable files ... OK
- checking for hidden files and directories ... OK
- checking for portable file names ... OK
- checking for sufficient/correct file permissions ... OK
- checking whether package ‘ammistability’ can be installed ... OK
See the install log for details.
- checking package directory ... OK
- checking for future file timestamps ... OK
- checking ‘build’ directory ... OK
- checking DESCRIPTION meta-information ... NOTE
Author field differs from that derived from Authors@R
Author: ‘B. C. Ajay [aut, cre] (<https://orcid.org/0000-0001-7222-8483>), J. Aravind [aut] (<https://orcid.org/0000-0002-4791-442X>), R. Abdul Fiyaz [aut] (<https://orcid.org/0000-0001-6261-7071>), ICAR [cph] (https://www.icar.org.in)’
Authors@R: ‘B. C. Ajay [aut, cre] (ORCID: <https://orcid.org/0000-0001-7222-8483>), J. Aravind [aut] (ORCID: <https://orcid.org/0000-0002-4791-442X>), R. Abdul Fiyaz [aut] (ORCID: <https://orcid.org/0000-0001-6261-7071>), ICAR [cph] (url: https://www.icar.org.in)’
- checking top-level files ... OK
- checking for left-over files ... OK
- checking index information ... OK
- checking package subdirectories ... OK
- checking code files for non-ASCII characters ... OK
- checking R files for syntax errors ... OK
- checking whether the package can be loaded ... [1s/2s] OK
- checking whether the package can be loaded with stated dependencies ... [1s/2s] OK
- checking whether the package can be unloaded cleanly ... [1s/2s] OK
- checking whether the namespace can be loaded with stated dependencies ... [1s/2s] OK
- checking whether the namespace can be unloaded cleanly ... [1s/2s] OK
- checking loading without being on the library search path ... [1s/2s] OK
- checking whether startup messages can be suppressed ... [2s/2s] OK
- checking use of S3 registration ... OK
- checking dependencies in R code ... OK
- checking S3 generic/method consistency ... OK
- checking replacement functions ... OK
- checking foreign function calls ... OK
- checking R code for possible problems ... [9s/13s] OK
- checking Rd files ... [2s/3s] OK
- checking Rd metadata ... OK
- checking Rd line widths ... OK
- checking Rd cross-references ... OK
- checking for missing documentation entries ... OK
- checking for code/documentation mismatches ... OK
- checking Rd \usage sections ... OK
- checking Rd contents ... OK
- checking for unstated dependencies in examples ... OK
- checking sizes of PDF files under ‘inst/doc’ ... OK
- checking installed files from ‘inst/doc’ ... OK
- checking files in ‘vignettes’ ... OK
- checking examples ... [5s/6s] OK
- checking for unstated dependencies in vignettes ... OK
- checking package vignettes ... OK
- checking re-building of vignette outputs ... [16s/21s] OK
- checking PDF version of manual ... [7s/9s] OK
- checking HTML version of manual ... [2s/3s] NOTE
Found the following HTML validation problems:
ammistability.html:307:1 (ASI.AMMI.Rd:37): Warning: <script> anchor "MathJax-script" already defined
ammistability.html:445:52 (ASTAB.AMMI.Rd:42): Warning: <script> anchor "MathJax-script" already defined
ammistability.html:591:52 (AVAMGE.AMMI.Rd:43): Warning: <script> anchor "MathJax-script" already defined
ammistability.html:742:39 (DA.AMMI.Rd:45): Warning: <script> anchor "MathJax-script" already defined
ammistability.html:891:26 (DZ.AMMI.Rd:46): Warning: <script> anchor "MathJax-script" already defined
ammistability.html:1034:63 (EV.AMMI.Rd:42): Warning: <script> anchor "MathJax-script" already defined
ammistability.html:1178:52 (FA.AMMI.Rd:42): Warning: <script> anchor "MathJax-script" already defined
ammistability.html:1346:52 (MASI.AMMI.Rd:45): Warning: <script> anchor "MathJax-script" already defined
ammistability.html:1507:39 (MASV.AMMI.Rd:45): Warning: <script> anchor "MathJax-script" already defined
ammistability.html:1690:63 (SIPC.AMMI.Rd:42): Warning: <script> anchor "MathJax-script" already defined
ammistability.html:1842:1 (SSI.Rd:35): Warning: <script> anchor "MathJax-script" already defined
ammistability.html:2020:26 (ZA.AMMI.Rd:44): Warning: <script> anchor "MathJax-script" already defined
- checking for non-standard things in the check directory ... OK
- DONE
Status: 2 NOTEs