- using R Under development (unstable) (2025-10-19 r88945)
- using platform: x86_64-pc-linux-gnu
- R was compiled by
gcc-15 (Debian 15.2.0-4) 15.2.0
GNU Fortran (Debian 15.2.0-4) 15.2.0
- running under: Debian GNU/Linux forky/sid
- using session charset: UTF-8
- checking for file ‘SuperGauss/DESCRIPTION’ ... OK
- checking extension type ... Package
- this is package ‘SuperGauss’ version ‘2.0.4’
- package encoding: UTF-8
- checking CRAN incoming feasibility ... [1s/1s] OK
- checking package namespace information ... OK
- checking package dependencies ... OK
- checking if this is a source package ... OK
- checking if there is a namespace ... OK
- checking for executable files ... OK
- checking for hidden files and directories ... OK
- checking for portable file names ... OK
- checking for sufficient/correct file permissions ... OK
- checking serialization versions ... OK
- checking whether package ‘SuperGauss’ can be installed ... OK
See the install log for details.
- used C++ compiler: ‘g++-15 (Debian 15.2.0-4) 15.2.0’
- checking package directory ... OK
- checking for future file timestamps ... OK
- checking ‘build’ directory ... OK
- checking DESCRIPTION meta-information ... OK
- checking top-level files ... OK
- checking for left-over files ... OK
- checking index information ... OK
- checking package subdirectories ... OK
- checking code files for non-ASCII characters ... OK
- checking R files for syntax errors ... OK
- checking whether the package can be loaded ... [0s/0s] OK
- checking whether the package can be loaded with stated dependencies ... [0s/0s] OK
- checking whether the package can be unloaded cleanly ... [0s/0s] OK
- checking whether the namespace can be loaded with stated dependencies ... [0s/1s] OK
- checking whether the namespace can be unloaded cleanly ... [0s/0s] OK
- checking loading without being on the library search path ... [0s/0s] OK
- checking use of S3 registration ... OK
- checking dependencies in R code ... OK
- checking S3 generic/method consistency ... OK
- checking replacement functions ... OK
- checking foreign function calls ... OK
- checking R code for possible problems ... [4s/6s] OK
- checking Rd files ... [0s/1s] OK
- checking Rd metadata ... OK
- checking Rd line widths ... OK
- checking Rd cross-references ... OK
- checking for missing documentation entries ... OK
- checking for code/documentation mismatches ... OK
- checking Rd \usage sections ... OK
- checking Rd contents ... OK
- checking for unstated dependencies in examples ... OK
- checking line endings in shell scripts ... OK
- checking line endings in C/C++/Fortran sources/headers ... OK
- checking line endings in Makefiles ... OK
- checking compilation flags in Makevars ... OK
- checking for GNU extensions in Makefiles ... OK
- checking for portable use of $(BLAS_LIBS) and $(LAPACK_LIBS) ... OK
- checking use of PKG_*FLAGS in Makefiles ... OK
- checking use of SHLIB_OPENMP_*FLAGS in Makefiles ... OK
- checking pragmas in C/C++ headers and code ... OK
- checking compilation flags used ... OK
- checking compiled code ... OK
- checking installed files from ‘inst/doc’ ... OK
- checking files in ‘vignettes’ ... OK
- checking examples ... [0s/1s] OK
- checking for unstated dependencies in ‘tests’ ... OK
- checking tests ... [4s/6s] OK
Running ‘testthat.R’ [4s/6s]
- checking for unstated dependencies in vignettes ... OK
- checking package vignettes ... OK
- checking re-building of vignette outputs ... [100s/130s] OK
- checking PDF version of manual ... [5s/6s] OK
- checking HTML version of manual ... [1s/2s] NOTE
Found the following HTML validation problems:
Circulant.html:391:1 (Circulant.Rd:206): Warning: missing </ul> before </div>
Circulant.html:121:1 (Circulant.Rd:54): Warning: <h5> anchor "Usage" already defined
Circulant.html:127:1 (Circulant.Rd:58): Warning: <h5> anchor "Returns" already defined
Circulant.html:144:1 (Circulant.Rd:67): Warning: <h5> anchor "Usage" already defined
Circulant.html:150:1 (Circulant.Rd:71): Warning: <h5> anchor "Arguments" already defined
Circulant.html:173:1 (Circulant.Rd:84): Warning: <h5> anchor "Usage" already defined
Circulant.html:179:1 (Circulant.Rd:88): Warning: <h5> anchor "Returns" already defined
Circulant.html:198:1 (Circulant.Rd:99): Warning: <h5> anchor "Usage" already defined
Circulant.html:204:1 (Circulant.Rd:103): Warning: <h5> anchor "Arguments" already defined
Circulant.html:227:1 (Circulant.Rd:116): Warning: <h5> anchor "Usage" already defined
Circulant.html:233:1 (Circulant.Rd:120): Warning: <h5> anchor "Returns" already defined
Circulant.html:250:1 (Circulant.Rd:129): Warning: <h5> anchor "Usage" already defined
Circulant.html:256:1 (Circulant.Rd:133): Warning: <h5> anchor "Returns" already defined
Circulant.html:273:1 (Circulant.Rd:142): Warning: <h5> anchor "Usage" already defined
Circulant.html:279:1 (Circulant.Rd:146): Warning: <h5> anchor "Arguments" already defined
Circulant.html:292:1 (Circulant.Rd:153): Warning: <h5> anchor "Returns" already defined
Circulant.html:309:1 (Circulant.Rd:162): Warning: <h5> anchor "Usage" already defined
Circulant.html:315:1 (Circulant.Rd:166): Warning: <h5> anchor "Arguments" already defined
Circulant.html:328:1 (Circulant.Rd:173): Warning: <h5> anchor "Returns" already defined
Circulant.html:345:1 (Circulant.Rd:182): Warning: <h5> anchor "Usage" already defined
Circulant.html:351:1 (Circulant.Rd:186): Warning: <h5> anchor "Returns" already defined
Circulant.html:368:1 (Circulant.Rd:195): Warning: <h5> anchor "Usage" already defined
Circulant.html:374:1 (Circulant.Rd:199): Warning: <h5> anchor "Arguments" already defined
NormalCirculant.html:242:1 (NormalCirculant.Rd:130): Warning: missing </ul> before </div>
NormalCirculant.html:106:1 (NormalCirculant.Rd:53): Warning: <h5> anchor "Usage" already defined
NormalCirculant.html:112:1 (NormalCirculant.Rd:57): Warning: <h5> anchor "Returns" already defined
NormalCirculant.html:129:1 (NormalCirculant.Rd:66): Warning: <h5> anchor "Usage" already defined
NormalCirculant.html:135:1 (NormalCirculant.Rd:70): Warning: <h5> anchor "Arguments" already defined
NormalCirculant.html:150:1 (NormalCirculant.Rd:79): Warning: <h5> anchor "Returns" already defined
NormalCirculant.html:167:1 (NormalCirculant.Rd:88): Warning: <h5> anchor "Usage" already defined
NormalCirculant.html:173:1 (NormalCirculant.Rd:92): Warning: <h5> anchor "Arguments" already defined
NormalCirculant.html:192:1 (NormalCirculant.Rd:105): Warning: <h5> anchor "Returns" already defined
NormalCirculant.html:219:1 (NormalCirculant.Rd:119): Warning: <h5> anchor "Usage" already defined
NormalCirculant.html:225:1 (NormalCirculant.Rd:123): Warning: <h5> anchor "Arguments" already defined
NormalToeplitz.html:337:1 (NormalToeplitz.Rd:188): Warning: missing </ul> before </div>
NormalToeplitz.html:109:1 (NormalToeplitz.Rd:51): Warning: <h5> anchor "Usage" already defined
NormalToeplitz.html:115:1 (NormalToeplitz.Rd:55): Warning: <h5> anchor "Returns" already defined
NormalToeplitz.html:132:1 (NormalToeplitz.Rd:64): Warning: <h5> anchor "Usage" already defined
NormalToeplitz.html:138:1 (NormalToeplitz.Rd:68): Warning: <h5> anchor "Arguments" already defined
NormalToeplitz.html:153:1 (NormalToeplitz.Rd:77): Warning: <h5> anchor "Returns" already defined
NormalToeplitz.html:170:1 (NormalToeplitz.Rd:86): Warning: <h5> anchor "Usage" already defined
NormalToeplitz.html:176:1 (NormalToeplitz.Rd:90): Warning: <h5> anchor "Arguments" already defined
NormalToeplitz.html:197:1 (NormalToeplitz.Rd:105): Warning: <h5> anchor "Returns" already defined
NormalToeplitz.html:214:1 (NormalToeplitz.Rd:114): Warning: <h5> anchor "Usage" already defined
NormalToeplitz.html:220:1 (NormalToeplitz.Rd:118): Warning: <h5> anchor "Arguments" already defined
NormalToeplitz.html:245:1 (NormalToeplitz.Rd:137): Warning: <h5> anchor "Returns" already defined
NormalToeplitz.html:262:1 (NormalToeplitz.Rd:146): Warning: <h5> anchor "Usage" already defined
NormalToeplitz.html:268:1 (NormalToeplitz.Rd:150): Warning: <h5> anchor "Arguments" already defined
NormalToeplitz.html:287:1 (NormalToeplitz.Rd:163): Warning: <h5> anchor "Returns" already defined
NormalToeplitz.html:314:1 (NormalToeplitz.Rd:177): Warning: <h5> anchor "Usage" already defined
NormalToeplitz.html:320:1 (NormalToeplitz.Rd:181): Warning: <h5> anchor "Arguments" already defined
Toeplitz.html:153:1 (Toeplitz.Rd:101): Warning: <h5> anchor "Usage" already defined
Toeplitz.html:169:1 (Toeplitz.Rd:111): Warning: <h5> anchor "Usage" already defined
Toeplitz.html:175:1 (Toeplitz.Rd:115): Warning: <h5> anchor "Returns" already defined
Toeplitz.html:192:1 (Toeplitz.Rd:124): Warning: <h5> anchor "Usage" already defined
Toeplitz.html:198:1 (Toeplitz.Rd:128): Warning: <h5> anchor "Arguments" already defined
Toeplitz.html:221:1 (Toeplitz.Rd:141): Warning: <h5> anchor "Usage" already defined
Toeplitz.html:227:1 (Toeplitz.Rd:145): Warning: <h5> anchor "Returns" already defined
Toeplitz.html:244:1 (Toeplitz.Rd:154): Warning: <h5> anchor "Usage" already defined
Toeplitz.html:250:1 (Toeplitz.Rd:158): Warning: <h5> anchor "Returns" already defined
Toeplitz.html:267:1 (Toeplitz.Rd:167): Warning: <h5> anchor "Usage" already defined
Toeplitz.html:273:1 (Toeplitz.Rd:171): Warning: <h5> anchor "Arguments" already defined
Toeplitz.html:286:1 (Toeplitz.Rd:178): Warning: <h5> anchor "Returns" already defined
Toeplitz.html:303:1 (Toeplitz.Rd:187): Warning: <h5> anchor "Usage" already defined
Toeplitz.html:309:1 (Toeplitz.Rd:191): Warning: <h5> anchor "Arguments" already defined
Toeplitz.html:326:1 (Toeplitz.Rd:202): Warning: <h5> anchor "Returns" already defined
Toeplitz.html:343:1 (Toeplitz.Rd:211): Warning: <h5> anchor "Usage" already defined
Toeplitz.html:349:1 (Toeplitz.Rd:215): Warning: <h5> anchor "Returns" already defined
Toeplitz.html:366:1 (Toeplitz.Rd:224): Warning: <h5> anchor "Usage" already defined
Toeplitz.html:372:1 (Toeplitz.Rd:228): Warning: <h5> anchor "Arguments" already defined
Toeplitz.html:385:1 (Toeplitz.Rd:235): Warning: <h5> anchor "Returns" already defined
Toeplitz.html:406:1 (Toeplitz.Rd:249): Warning: <h5> anchor "Usage" already defined
Toeplitz.html:412:1 (Toeplitz.Rd:253): Warning: <h5> anchor "Arguments" already defined
Toeplitz.html:427:1 (Toeplitz.Rd:262): Warning: <h5> anchor "Returns" already defined
Toeplitz.html:448:1 (Toeplitz.Rd:276): Warning: <h5> anchor "Usage" already defined
Toeplitz.html:454:1 (Toeplitz.Rd:280): Warning: <h5> anchor "Arguments" already defined
- checking for non-standard things in the check directory ... OK
- DONE
Status: 1 NOTE