* using log directory ‘/home/hornik/tmp/R.check/r-devel-gcc/Work/PKGS/SoyNAM.Rcheck’ * using R Under development (unstable) (2025-07-15 r88411) * using platform: x86_64-pc-linux-gnu * R was compiled by gcc-14 (Debian 14.2.0-19) 14.2.0 GNU Fortran (Debian 14.2.0-19) 14.2.0 * running under: Debian GNU/Linux 13 (trixie) * using session charset: UTF-8 * checking for file ‘SoyNAM/DESCRIPTION’ ... OK * checking extension type ... Package * this is package ‘SoyNAM’ version ‘1.6.2’ * checking CRAN incoming feasibility ... [0s/0s] NOTE Maintainer: ‘Alencar Xavier ’ No Authors@R field in DESCRIPTION. Please add one, modifying Authors@R: c(person(given = "Alencar", family = "Xavier", role = c("aut", "cre"), email = "alenxav@gmail.com"), person(given = "William", family = "Beavis", role = "aut"), person(given = "James", family = "Specht", role = "aut"), person(given = "Brian", family = "Diers", role = "aut"), person(given = "Rouf", family = "Mian", role = "aut"), person(given = "Reka", family = "Howard", role = "aut"), person(given = "George", family = "Graef", role = "aut"), person(given = "Randall", family = "Nelson", role = "aut"), person(given = "William", family = "Schapaugh", role = "aut"), person(given = "Dechun", family = "Wang", role = "aut"), person(given = "Grover", family = "Shannon", role = "aut"), person(given = "Leah", family = "McHale", role = "aut"), person(given = "Perry", family = "Cregan", role = "aut"), person(given = "Qijian", family = "Song", role = "aut"), person(given = "Miguel", family = "Lopez", role = "aut"), person(given = "William", family = "Muir", role = "aut"), person(given = "Katy", family = "Rainey.", role = "aut")) as necessary. * checking package namespace information ... OK * checking package dependencies ... INFO Package in Depends/Imports which should probably only be in LinkingTo: ‘RcppEigen’ * checking if this is a source package ... OK * checking if there is a namespace ... OK * checking for executable files ... OK * checking for hidden files and directories ... OK * checking for portable file names ... OK * checking for sufficient/correct file permissions ... OK * checking whether package ‘SoyNAM’ can be installed ... OK See 'https://www.r-project.org/nosvn/R.check/r-devel-linux-x86_64-debian-gcc/SoyNAM-00install.html' for details. * used C compiler: ‘gcc-14 (Debian 14.2.0-19) 14.2.0’ * used C++ compiler: ‘g++-14 (Debian 14.2.0-19) 14.2.0’ * checking package directory ... OK * checking for future file timestamps ... OK * checking DESCRIPTION meta-information ... OK * checking top-level files ... OK * checking for left-over files ... OK * checking index information ... OK * checking package subdirectories ... OK * checking code files for non-ASCII characters ... OK * checking R files for syntax errors ... OK * checking whether the package can be loaded ... [2s/3s] OK * checking whether the package can be loaded with stated dependencies ... [2s/2s] OK * checking whether the package can be unloaded cleanly ... [2s/2s] OK * checking whether the namespace can be loaded with stated dependencies ... [2s/2s] OK * checking whether the namespace can be unloaded cleanly ... [3s/3s] OK * checking loading without being on the library search path ... [2s/2s] OK * checking use of S3 registration ... OK * checking dependencies in R code ... OK * checking S3 generic/method consistency ... OK * checking replacement functions ... OK * checking foreign function calls ... OK * checking R code for possible problems ... [9s/12s] OK * checking Rd files ... [0s/0s] OK * checking Rd metadata ... OK * checking Rd line widths ... OK * checking Rd cross-references ... OK * checking for missing documentation entries ... OK * checking for code/documentation mismatches ... OK * checking Rd \usage sections ... OK * checking Rd contents ... OK * checking for unstated dependencies in examples ... OK * checking contents of ‘data’ directory ... OK * checking data for non-ASCII characters ... [2s/2s] OK * checking data for ASCII and uncompressed saves ... OK * checking line endings in C/C++/Fortran sources/headers ... OK * checking pragmas in C/C++ headers and code ... OK * checking compilation flags used ... OK * checking compiled code ... OK * checking examples ... [6s/7s] OK * checking PDF version of manual ... [5s/6s] OK * checking HTML version of manual ... [0s/1s] OK * checking for non-standard things in the check directory ... OK * DONE Status: 1 NOTE