- using R Under development (unstable) (2025-06-27 r88363)
- using platform: x86_64-pc-linux-gnu
- R was compiled by
gcc-14 (Debian 14.2.0-19) 14.2.0
GNU Fortran (Debian 14.2.0-19) 14.2.0
- running under: Debian GNU/Linux 13 (trixie)
- using session charset: UTF-8
- checking for file ‘SimMultiCorrData/DESCRIPTION’ ... OK
- checking extension type ... Package
- this is package ‘SimMultiCorrData’ version ‘0.2.2’
- package encoding: UTF-8
- checking CRAN incoming feasibility ... [2s/3s] NOTE
Maintainer: ‘Allison Cynthia Fialkowski <allijazz@uab.edu>’
No Authors@R field in DESCRIPTION.
Please add one, modifying
Authors@R: person(given = c("Allison", "Cynthia"),
family = "Fialkowski",
role = c("aut", "cre"),
email = "allijazz@uab.edu")
as necessary.
Found the following \keyword or \concept entries
which likely give several index terms:
File ‘calc_fisherk.Rd’:
\keyword{cumulants,}
File ‘calc_lower_skurt.Rd’:
\keyword{Fleishman,}
\keyword{boundary,}
\keyword{kurtosis,}
File ‘calc_moments.Rd’:
\keyword{cumulants,}
File ‘calc_theory.Rd’:
\keyword{cumulants,}
File ‘cdf_prob.Rd’:
\keyword{cumulative,}
\keyword{statistics,}
\keyword{theoretical,}
File ‘chat_nb.Rd’:
\keyword{Binomial,}
\keyword{correlation,}
File ‘chat_pois.Rd’:
\keyword{Poisson,}
\keyword{correlation,}
File ‘denom_corr_cat.Rd’:
\keyword{intercorrelation,}
File ‘error_loop.Rd’:
\keyword{error,}
File ‘error_vars.Rd’:
\keyword{error,}
File ‘find_constants.Rd’:
\keyword{Fleishman,}
\keyword{constants,}
File ‘findintercorr.Rd’:
\keyword{Binomial,}
\keyword{Fleishman,}
\keyword{Headrick,}
\keyword{Poisson,}
\keyword{continuous,}
\keyword{correlation,}
\keyword{intermediate,}
\keyword{ordinal,}
File ‘findintercorr2.Rd’:
\keyword{Binomial,}
\keyword{Fleishman,}
\keyword{Headrick,}
\keyword{Poisson,}
\keyword{continuous,}
\keyword{correlation,}
\keyword{intermediate,}
\keyword{ordinal,}
File ‘findintercorr_cat_nb.Rd’:
\keyword{Binomial,}
\keyword{correlation,}
\keyword{intermediate,}
\keyword{ordinal,}
File ‘findintercorr_cat_pois.Rd’:
\keyword{Poisson,}
\keyword{correlation,}
\keyword{intermediate,}
\keyword{ordinal,}
File ‘findintercorr_cont.Rd’:
\keyword{Fleishman,}
\keyword{continuous,}
\keyword{correlation,}
\keyword{intermediate,}
File ‘findintercorr_cont_cat.Rd’:
\keyword{Fleishman,}
\keyword{continuous,}
\keyword{correlation,}
\keyword{intermediate,}
\keyword{ordinal,}
File ‘findintercorr_cont_nb.Rd’:
\keyword{Binomial,}
\keyword{Fleishman,}
\keyword{Headrick,}
\keyword{continuous,}
\keyword{correlation,}
\keyword{intermediate,}
File ‘findintercorr_cont_nb2.Rd’:
\keyword{Binomial,}
\keyword{Fleishman,}
\keyword{Headrick,}
\keyword{continuous,}
\keyword{correlation,}
\keyword{intermediate,}
File ‘findintercorr_cont_pois.Rd’:
\keyword{Fleishman,}
\keyword{Headrick,}
\keyword{Poisson,}
\keyword{continuous,}
\keyword{correlation,}
\keyword{intermediate,}
File ‘findintercorr_cont_pois2.Rd’:
\keyword{Fleishman,}
\keyword{Headrick,}
\keyword{Poisson,}
\keyword{continuous,}
\keyword{correlation,}
\keyword{intermediate,}
File ‘findintercorr_nb.Rd’:
\keyword{Binomial,}
\keyword{correlation,}
\keyword{intermediate,}
File ‘findintercorr_pois.Rd’:
\keyword{Poisson,}
\keyword{correlation,}
\keyword{intermediate,}
File ‘findintercorr_pois_nb.Rd’:
\keyword{Binomial,}
\keyword{Poisson,}
\keyword{correlation,}
\keyword{intermediate,}
File ‘fleish.Rd’:
\keyword{constants,}
File ‘fleish_Hessian.Rd’:
\keyword{Fleishman,}
\keyword{boundary,}
\keyword{kurtosis,}
File ‘fleish_skurt_check.Rd’:
\keyword{boundary,}
\keyword{kurtosis,}
File ‘intercorr_fleish.Rd’:
\keyword{correlation,}
\keyword{intermediate,}
File ‘intercorr_poly.Rd’:
\keyword{correlation,}
\keyword{intermediate,}
File ‘max_count_support.Rd’:
\keyword{Binomial,}
\keyword{Poisson,}
\keyword{correlation,}
\keyword{intermediate,}
File ‘nonnormvar1.Rd’:
\keyword{Fleishman,}
\keyword{continuous,}
\keyword{simulation,}
\keyword{univariate,}
File ‘ordnorm.Rd’:
\keyword{correlation,}
\keyword{intermediate,}
\keyword{ordinal,}
File ‘pdf_check.Rd’:
\keyword{Fleishman,}
\keyword{constants,}
File ‘plot_cdf.Rd’:
\keyword{Fleishman,}
\keyword{cdf,}
\keyword{plot,}
\keyword{theoretical,}
File ‘plot_pdf_ext.Rd’:
\keyword{Fleishman,}
\keyword{external,}
\keyword{pdf,}
\keyword{plot,}
\keyword{theoretical,}
File ‘plot_pdf_theory.Rd’:
\keyword{Fleishman,}
\keyword{pdf,}
\keyword{plot,}
\keyword{theoretical,}
File ‘plot_sim_cdf.Rd’:
\keyword{empirical,}
\keyword{plot,}
\keyword{simulated,}
File ‘plot_sim_ext.Rd’:
\keyword{Fleishman,}
\keyword{external,}
\keyword{plot,}
\keyword{simulated,}
File ‘plot_sim_pdf_ext.Rd’:
\keyword{Fleishman,}
\keyword{external,}
\keyword{pdf,}
\keyword{plot,}
\keyword{simulated,}
File ‘plot_sim_pdf_theory.Rd’:
\keyword{Fleishman,}
\keyword{pdf,}
\keyword{plot,}
\keyword{simulated,}
\keyword{theoretical,}
File ‘plot_sim_theory.Rd’:
\keyword{Fleishman,}
\keyword{plot,}
\keyword{simulated,}
\keyword{theoretical,}
File ‘poly.Rd’:
\keyword{constants,}
File ‘poly_skurt_check.Rd’:
\keyword{boundary,}
\keyword{kurtosis,}
File ‘power_norm_corr.Rd’:
\keyword{Fleishman,}
\keyword{correlation,}
File ‘rcorrvar.Rd’:
\keyword{Binomial,}
\keyword{Fleishman,}
\keyword{Headrick,}
\keyword{Poisson,}
\keyword{continuous,}
\keyword{ordinal,}
\keyword{simulation,}
File ‘rcorrvar2.Rd’:
\keyword{Binomial,}
\keyword{Fleishman,}
\keyword{Headrick,}
\keyword{Poisson,}
\keyword{continuous,}
\keyword{ordinal,}
\keyword{simulation,}
File ‘sim_cdf_prob.Rd’:
\keyword{cumulative,}
\keyword{empirical,}
\keyword{simulated,}
\keyword{statistics,}
File ‘stats_pdf.Rd’:
\keyword{theoretical,}
File ‘valid_corr.Rd’:
\keyword{Binomial,}
\keyword{Fleishman,}
\keyword{Headrick,}
\keyword{Poisson,}
\keyword{bounds,}
\keyword{continuous,}
\keyword{correlation,}
\keyword{ordinal,}
File ‘valid_corr2.Rd’:
\keyword{Binomial,}
\keyword{Fleishman,}
\keyword{Headrick,}
\keyword{Poisson,}
\keyword{bounds,}
\keyword{continuous,}
\keyword{correlation,}
\keyword{ordinal,}
- checking package namespace information ... OK
- checking package dependencies ... OK
- checking if this is a source package ... OK
- checking if there is a namespace ... OK
- checking for executable files ... OK
- checking for hidden files and directories ... OK
- checking for portable file names ... OK
- checking for sufficient/correct file permissions ... OK
- checking serialization versions ... OK
- checking whether package ‘SimMultiCorrData’ can be installed ... OK
See the install log for details.
- checking package directory ... OK
- checking for future file timestamps ... OK
- checking ‘build’ directory ... OK
- checking DESCRIPTION meta-information ... OK
- checking top-level files ... OK
- checking for left-over files ... OK
- checking index information ... OK
- checking package subdirectories ... OK
- checking code files for non-ASCII characters ... OK
- checking R files for syntax errors ... OK
- checking whether the package can be loaded ... [2s/3s] OK
- checking whether the package can be loaded with stated dependencies ... [2s/3s] OK
- checking whether the package can be unloaded cleanly ... [2s/3s] OK
- checking whether the namespace can be loaded with stated dependencies ... [2s/3s] OK
- checking whether the namespace can be unloaded cleanly ... [2s/3s] OK
- checking loading without being on the library search path ... [2s/3s] OK
- checking use of S3 registration ... OK
- checking dependencies in R code ... OK
- checking S3 generic/method consistency ... OK
- checking replacement functions ... OK
- checking foreign function calls ... OK
- checking R code for possible problems ... [30s/38s] OK
- checking Rd files ... [2s/2s] OK
- checking Rd metadata ... OK
- checking Rd line widths ... OK
- checking Rd cross-references ... OK
- checking for missing documentation entries ... OK
- checking for code/documentation mismatches ... OK
- checking Rd \usage sections ... OK
- checking Rd contents ... OK
- checking for unstated dependencies in examples ... OK
- checking contents of ‘data’ directory ... OK
- checking data for non-ASCII characters ... [0s/0s] OK
- checking LazyData ... OK
- checking data for ASCII and uncompressed saves ... OK
- checking installed files from ‘inst/doc’ ... OK
- checking files in ‘vignettes’ ... OK
- checking examples ... [6s/7s] OK
- checking for unstated dependencies in vignettes ... OK
- checking package vignettes ... OK
- checking re-building of vignette outputs ... [123s/161s] OK
- checking PDF version of manual ... [7s/9s] OK
- checking HTML version of manual ... [4s/6s] OK
- checking for non-standard things in the check directory ... OK
- DONE
Status: 1 NOTE