- using R Under development (unstable) (2023-03-24 r84048)
- using platform: x86_64-pc-linux-gnu (64-bit)
- R was compiled by
gcc-12 (Debian 12.2.0-14) 12.2.0
GNU Fortran (Debian 12.2.0-14) 12.2.0
- running under: Debian GNU/Linux 12 (bookworm)
- using session charset: UTF-8
- checking for file ‘SensoMineR/DESCRIPTION’ ... OK
- this is package ‘SensoMineR’ version ‘1.26’
- package encoding: latin1
- checking package namespace information ... OK
- checking package dependencies ... OK
- checking if this is a source package ... OK
- checking if there is a namespace ... OK
- checking for executable files ... OK
- checking for hidden files and directories ... OK
- checking for portable file names ... OK
- checking for sufficient/correct file permissions ... OK
- checking serialization versions ... OK
- checking whether package ‘SensoMineR’ can be installed ... OK
- checking package directory ... OK
- checking for future file timestamps ... OK
- checking DESCRIPTION meta-information ... OK
- checking top-level files ... OK
- checking for left-over files ... OK
- checking index information ... OK
- checking package subdirectories ... OK
- checking R files for non-ASCII characters ... OK
- checking R files for syntax errors ... OK
- checking whether the package can be loaded ... [3s/6s] OK
- checking whether the package can be loaded with stated dependencies ... [3s/4s] OK
- checking whether the package can be unloaded cleanly ... [3s/5s] OK
- checking whether the namespace can be loaded with stated dependencies ... [3s/4s] OK
- checking whether the namespace can be unloaded cleanly ... [3s/5s] OK
- checking loading without being on the library search path ... [2s/3s] OK
- checking use of S3 registration ... OK
- checking dependencies in R code ... OK
- checking S3 generic/method consistency ... OK
- checking replacement functions ... OK
- checking foreign function calls ... OK
- checking R code for possible problems ... [53s/88s] OK
- checking Rd files ... [1s/2s] NOTE
checkRd: (-1) fahst.rd:39: Escaped LaTeX specials: \^
checkRd: (-1) fahst.rd:36: Escaped LaTeX specials: \^
checkRd: (-1) fasnt.rd:46: Escaped LaTeX specials: \^
checkRd: (-1) fasnt.rd:42: Escaped LaTeX specials: \^
checkRd: (-1) fasnt.rd:43: Escaped LaTeX specials: \^
checkRd: (-1) fast.Rd:49: Escaped LaTeX specials: \^
checkRd: (-1) fast.Rd:44: Escaped LaTeX specials: \^
checkRd: (-1) fast.Rd:45: Escaped LaTeX specials: \^
checkRd: (-1) fast.Rd:46: Escaped LaTeX specials: \^
checkRd: (-1) hsortplot.rd:24: Escaped LaTeX specials: \^
checkRd: (-1) nappesortplot.Rd:30: Escaped LaTeX specials: \^
checkRd: (-1) nappesortplot.Rd:28: Escaped LaTeX specials: \^
checkRd: (-1) plot.fahst.rd:45: Escaped LaTeX specials: \^
checkRd: (-1) plot.fasnt.Rd:47: Escaped LaTeX specials: \^
checkRd: (-1) plot.fast.Rd:45: Escaped LaTeX specials: \^
checkRd: (-1) print.fahst.rd:22: Escaped LaTeX specials: \^
checkRd: (-1) print.fasnt.Rd:22: Escaped LaTeX specials: \^
checkRd: (-1) print.fast.Rd:22: Escaped LaTeX specials: \^
- checking Rd metadata ... OK
- checking Rd line widths ... OK
- checking Rd cross-references ... OK
- checking for missing documentation entries ... OK
- checking for code/documentation mismatches ... OK
- checking Rd \usage sections ... OK
- checking Rd contents ... OK
- checking for unstated dependencies in examples ... OK
- checking contents of ‘data’ directory ... OK
- checking data for non-ASCII characters ... [0s/1s] OK
- checking data for ASCII and uncompressed saves ... OK
- checking examples ... [19s/32s] OK
Examples with CPU (user + system) or elapsed time > 5s
user system elapsed
WordCountAna 2.734 0.183 5.453
- checking PDF version of manual ... [8s/18s] OK
- checking HTML version of manual ... [3s/8s] OK
- checking for non-standard things in the check directory ... OK
- DONE
Status: 1 NOTE