* using log directory ‘/home/hornik/tmp/R.check/r-devel-gcc/Work/PKGS/SenSrivastava.Rcheck’ * using R Under development (unstable) (2025-07-15 r88411) * using platform: x86_64-pc-linux-gnu * R was compiled by gcc-14 (Debian 14.2.0-19) 14.2.0 GNU Fortran (Debian 14.2.0-19) 14.2.0 * running under: Debian GNU/Linux 13 (trixie) * using session charset: UTF-8 * checking for file ‘SenSrivastava/DESCRIPTION’ ... OK * this is package ‘SenSrivastava’ version ‘2015.6.25.1’ * package encoding: UTF-8 * checking CRAN incoming feasibility ... [1s/1s] NOTE Maintainer: ‘Kjetil B Halvorsen ’ No Authors@R field in DESCRIPTION. Please add one, modifying Authors@R: person(given = c("Kjetil", "B"), family = "Halvorsen", role = c("aut", "cre"), email = "kjetil1001@gmail.com") as necessary. Found the following \keyword or \concept entries which likely give several index terms: File ‘E1.19.Rd’: \concept{Data on Book Prices, Pages and Type of Bi [TRUNCATED] File ‘E2.9.Rd’: \concept{Data on Capital, Labour and Value Added f [TRUNCATED] File ‘E4.11.Rd’: \concept{ Data on Cost of Repairing Starters, Ring [TRUNCATED] File ‘E7.2.Rd’: \concept{Prices of Crude Oil, Natural Gas, Bitumin [TRUNCATED] File ‘E9.3.Rd’: \concept{ Areas, lengths and widths of rectangles [TRUNCATED] File ‘E9.8.Rd’: \concept{ Data on monthly rent, annual income and [TRUNCATED] * checking package namespace information ... OK * checking package dependencies ... OK * checking if this is a source package ... OK * checking if there is a namespace ... OK * checking for executable files ... OK * checking for hidden files and directories ... OK * checking for portable file names ... OK * checking for sufficient/correct file permissions ... OK * checking serialization versions ... OK * checking whether package ‘SenSrivastava’ can be installed ... OK See 'https://www.r-project.org/nosvn/R.check/r-devel-linux-x86_64-debian-gcc/SenSrivastava-00install.html' for details. * checking package directory ... OK * checking for future file timestamps ... OK * checking DESCRIPTION meta-information ... OK * checking top-level files ... OK * checking for left-over files ... OK * checking index information ... OK * checking package subdirectories ... OK * checking whether the package can be loaded ... [0s/0s] OK * checking whether the package can be loaded with stated dependencies ... [0s/0s] OK * checking whether the package can be unloaded cleanly ... [0s/0s] OK * checking whether the namespace can be loaded with stated dependencies ... [0s/0s] OK * checking whether the namespace can be unloaded cleanly ... [0s/0s] OK * checking loading without being on the library search path ... [0s/0s] OK * checking use of S3 registration ... OK * checking Rd files ... [0s/1s] OK * checking Rd metadata ... OK * checking Rd line widths ... OK * checking Rd cross-references ... OK * checking for missing documentation entries ... OK * checking for code/documentation mismatches ... OK * checking Rd \usage sections ... OK * checking Rd contents ... OK * checking for unstated dependencies in examples ... OK * checking contents of ‘data’ directory ... OK * checking data for non-ASCII characters ... [0s/0s] OK * checking LazyData ... OK * checking data for ASCII and uncompressed saves ... OK * checking examples ... [1s/2s] OK * checking PDF version of manual ... [5s/7s] OK * checking HTML version of manual ... [2s/3s] OK * checking for non-standard things in the check directory ... OK * DONE Status: 1 NOTE