* using log directory ‘/home/hornik/tmp/R.check/r-devel-gcc/Work/PKGS/SASmixed.Rcheck’ * using R Under development (unstable) (2025-07-14 r88410) * using platform: x86_64-pc-linux-gnu * R was compiled by gcc-14 (Debian 14.2.0-19) 14.2.0 GNU Fortran (Debian 14.2.0-19) 14.2.0 * running under: Debian GNU/Linux 13 (trixie) * using session charset: UTF-8 * checking for file ‘SASmixed/DESCRIPTION’ ... OK * this is package ‘SASmixed’ version ‘1.0-4’ * checking CRAN incoming feasibility ... [0s/0s] NOTE Maintainer: ‘Steven Walker ’ No Authors@R field in DESCRIPTION. Please add one, modifying Authors@R: c(person(given = c("Original", "by"), family = "Littell", role = "aut"), person(family = "Milliken", role = "aut"), person(family = "Stroup", role = "aut"), person(family = "Wolfinger", role = "aut"), person(given = c("modifications", "by", "Douglas"), family = "Bates", role = "aut", email = "bates@stat.wisc.edu"), person(given = "Martin", family = "Maechler", role = "aut"), person(given = "Ben", family = "Bolker", role = "aut"), person(given = "Steven", family = "Walker", role = c("aut", "cre"), email = "steve.walker@utoronto.ca")) as necessary. * checking package namespace information ... OK * checking package dependencies ... OK * checking if this is a source package ... OK * checking if there is a namespace ... OK * checking for executable files ... OK * checking for hidden files and directories ... OK * checking for portable file names ... OK * checking for sufficient/correct file permissions ... OK * checking serialization versions ... OK * checking whether package ‘SASmixed’ can be installed ... OK See 'https://www.r-project.org/nosvn/R.check/r-devel-linux-x86_64-debian-gcc/SASmixed-00install.html' for details. * checking package directory ... OK * checking for future file timestamps ... OK * checking ‘build’ directory ... OK * checking DESCRIPTION meta-information ... OK * checking top-level files ... OK * checking for left-over files ... OK * checking index information ... OK * checking package subdirectories ... OK * checking whether the package can be loaded ... [0s/0s] OK * checking whether the package can be loaded with stated dependencies ... [0s/0s] OK * checking whether the package can be unloaded cleanly ... [0s/0s] OK * checking whether the namespace can be loaded with stated dependencies ... [0s/0s] OK * checking whether the namespace can be unloaded cleanly ... [0s/0s] OK * checking loading without being on the library search path ... [0s/0s] OK * checking use of S3 registration ... OK * checking Rd files ... [0s/0s] OK * checking Rd metadata ... OK * checking Rd line widths ... OK * checking Rd cross-references ... OK * checking for missing documentation entries ... OK * checking for code/documentation mismatches ... OK * checking Rd \usage sections ... OK * checking Rd contents ... OK * checking for unstated dependencies in examples ... OK * checking contents of ‘data’ directory ... OK * checking data for non-ASCII characters ... [0s/0s] OK * checking LazyData ... OK * checking data for ASCII and uncompressed saves ... OK * checking sizes of PDF files under ‘inst/doc’ ... OK * checking installed files from ‘inst/doc’ ... OK * checking files in ‘vignettes’ ... OK * checking examples ... [4s/5s] OK * checking for unstated dependencies in vignettes ... OK * checking package vignettes ... OK * checking re-building of vignette outputs ... [7s/10s] OK * checking PDF version of manual ... [4s/6s] OK * checking HTML version of manual ... [1s/1s] OK * checking for non-standard things in the check directory ... OK * DONE Status: 1 NOTE