* using log directory ‘/home/hornik/tmp/R.check/r-devel-gcc/Work/PKGS/RNGforGPD.Rcheck’ * using R Under development (unstable) (2025-07-15 r88411) * using platform: x86_64-pc-linux-gnu * R was compiled by gcc-14 (Debian 14.2.0-19) 14.2.0 GNU Fortran (Debian 14.2.0-19) 14.2.0 * running under: Debian GNU/Linux 13 (trixie) * using session charset: UTF-8 * checking for file ‘RNGforGPD/DESCRIPTION’ ... OK * checking extension type ... Package * this is package ‘RNGforGPD’ version ‘1.1.0’ * package encoding: UTF-8 * checking CRAN incoming feasibility ... [0s/0s] NOTE Maintainer: ‘Ruizhe Chen ’ No Authors@R field in DESCRIPTION. Please add one, modifying Authors@R: c(person(given = "Hesen", family = "Li", role = "aut"), person(given = "Ruizhe", family = "Chen", role = c("aut", "cre"), email = "rchen18@uic.edu"), person(given = "Hai", family = "Nguyen", role = "aut"), person(given = "Yu-Che", family = "Chung", role = "aut"), person(given = "Ran", family = "Gao", role = "aut"), person(given = "Hakan", family = "Demirtas", role = "aut")) as necessary. * checking package namespace information ... OK * checking package dependencies ... OK * checking if this is a source package ... OK * checking if there is a namespace ... OK * checking for executable files ... OK * checking for hidden files and directories ... OK * checking for portable file names ... OK * checking for sufficient/correct file permissions ... OK * checking whether package ‘RNGforGPD’ can be installed ... OK See 'https://www.r-project.org/nosvn/R.check/r-devel-linux-x86_64-debian-gcc/RNGforGPD-00install.html' for details. * checking package directory ... OK * checking for future file timestamps ... OK * checking ‘build’ directory ... OK * checking DESCRIPTION meta-information ... OK * checking top-level files ... OK * checking for left-over files ... OK * checking index information ... OK * checking package subdirectories ... OK * checking code files for non-ASCII characters ... OK * checking R files for syntax errors ... OK * checking whether the package can be loaded ... [2s/2s] OK * checking whether the package can be loaded with stated dependencies ... [1s/2s] OK * checking whether the package can be unloaded cleanly ... [2s/2s] OK * checking whether the namespace can be loaded with stated dependencies ... [1s/2s] OK * checking whether the namespace can be unloaded cleanly ... [1s/2s] OK * checking loading without being on the library search path ... [1s/2s] OK * checking use of S3 registration ... OK * checking dependencies in R code ... OK * checking S3 generic/method consistency ... OK * checking replacement functions ... OK * checking foreign function calls ... OK * checking R code for possible problems ... [8s/12s] OK * checking Rd files ... [0s/0s] OK * checking Rd metadata ... OK * checking Rd line widths ... OK * checking Rd cross-references ... OK * checking for missing documentation entries ... OK * checking for code/documentation mismatches ... OK * checking Rd \usage sections ... OK * checking Rd contents ... OK * checking for unstated dependencies in examples ... OK * checking LazyData ... INFO 'LazyData' is specified without a 'data' directory * checking installed files from ‘inst/doc’ ... OK * checking files in ‘vignettes’ ... OK * checking examples ... [2s/2s] OK * checking for unstated dependencies in vignettes ... OK * checking package vignettes ... OK * checking re-building of vignette outputs ... [13s/16s] OK * checking PDF version of manual ... [4s/5s] OK * checking HTML version of manual ... [0s/1s] OK * checking for non-standard things in the check directory ... OK * DONE Status: 1 NOTE