* using log directory ‘/home/hornik/tmp/R.check/r-devel-gcc/Work/PKGS/RMark.Rcheck’ * using R Under development (unstable) (2025-07-15 r88411) * using platform: x86_64-pc-linux-gnu * R was compiled by gcc-14 (Debian 14.2.0-19) 14.2.0 GNU Fortran (Debian 14.2.0-19) 14.2.0 * running under: Debian GNU/Linux 13 (trixie) * using session charset: UTF-8 * using options ‘--install=fake --no-examples --no-tests --no-vignettes’ * checking for file ‘RMark/DESCRIPTION’ ... OK * this is package ‘RMark’ version ‘3.0.0’ * package encoding: UTF-8 * checking CRAN incoming feasibility ... [1s/1s] NOTE Maintainer: ‘Jeff Laake ’ No Authors@R field in DESCRIPTION. Please add one, modifying Authors@R: c(person(given = c("Jeff", "Laake", "with", "code", "contributions", "from", "Eldar"), family = "Rakhimberdiev", role = "aut", email = "jefflaake@gmail.com"), person(given = "Ben", family = "Augustine", role = "aut"), person(given = "Daniel", family = "Turek", role = "aut"), person(given = "Brett", family = "McClintock", role = "aut"), person(given = "Jim", family = "Hines", role = "aut"), person(given = "example", family = "data", role = "aut"), person(given = c("analysis", "from", "Bret"), family = "Collier", role = "aut"), person(given = "Jay", family = "Rotella", role = "aut"), person(given = "David", family = "Pavlacky", role = "aut"), person(given = "Andrew", family = "Paul", role = "aut"), person(given = c("Luke", "Eberhart-"), family = "Phillips", role = "aut"), person(given = "Jake", family = "Ivan", role = "aut"), person(given = "Connor", family = "Wood.", role = "aut"), person(given = "Jeff", family = "Laake", role = "cre", email = "jefflaake@gmail.com")) as necessary. Package CITATION file contains call(s) to old-style personList() or as.personList(). Please use c() on person objects instead. Package CITATION file contains call(s) to old-style citEntry(). Please use bibentry() instead. * checking package namespace information ... OK * checking package dependencies ... OK * checking if this is a source package ... OK * checking if there is a namespace ... OK * checking for executable files ... OK * checking for hidden files and directories ... OK * checking for portable file names ... OK * checking for sufficient/correct file permissions ... OK * checking serialization versions ... OK * checking whether package ‘RMark’ can be installed ... OK See 'https://www.r-project.org/nosvn/R.check/r-devel-linux-x86_64-debian-gcc/RMark-00install.html' for details. * checking package directory ... OK * checking for future file timestamps ... OK * checking DESCRIPTION meta-information ... OK * checking top-level files ... OK * checking for left-over files ... OK * checking index information ... OK * checking package subdirectories ... OK * checking code files for non-ASCII characters ... OK * checking R files for syntax errors ... OK * checking whether the package can be loaded ... [2s/2s] OK * checking whether the package can be loaded with stated dependencies ... [2s/2s] OK * checking whether the package can be unloaded cleanly ... [2s/2s] OK * checking whether the namespace can be loaded with stated dependencies ... [1s/2s] OK * checking whether the namespace can be unloaded cleanly ... [2s/2s] OK * checking loading without being on the library search path ... [2s/3s] OK * checking whether startup messages can be suppressed ... [2s/2s] OK * checking use of S3 registration ... OK * checking dependencies in R code ... OK * checking S3 generic/method consistency ... OK * checking replacement functions ... OK * checking foreign function calls ... OK * checking R code for possible problems ... [26s/34s] OK * checking Rd files ... [1s/1s] OK * checking Rd metadata ... OK * checking Rd line widths ... OK * checking Rd cross-references ... OK * checking for missing documentation entries ... OK * checking for code/documentation mismatches ... OK * checking Rd \usage sections ... OK * checking Rd contents ... OK * checking for unstated dependencies in examples ... OK * checking contents of ‘data’ directory ... OK * checking data for non-ASCII characters ... [0s/0s] OK * checking data for ASCII and uncompressed saves ... OK * checking examples ... SKIPPED * checking PDF version of manual ... [9s/12s] OK * checking HTML version of manual ... [4s/7s] OK * checking for non-standard things in the check directory ... OK * DONE Status: 1 NOTE