- using R Under development (unstable) (2024-04-29 r86495)
- using platform: x86_64-pc-linux-gnu
- R was compiled by
gcc-13 (Debian 13.2.0-24) 13.2.0
GNU Fortran (Debian 13.2.0-24) 13.2.0
- running under: Debian GNU/Linux trixie/sid
- using session charset: UTF-8
- checking for file ‘RKEEL/DESCRIPTION’ ... OK
- checking extension type ... Package
- this is package ‘RKEEL’ version ‘1.3.4’
- checking package namespace information ... OK
- checking package dependencies ... OK
- checking if this is a source package ... OK
- checking if there is a namespace ... OK
- checking for executable files ... OK
- checking for hidden files and directories ... OK
- checking for portable file names ... OK
- checking for sufficient/correct file permissions ... OK
- checking serialization versions ... OK
- checking whether package ‘RKEEL’ can be installed ... OK
See the install log for details.
- checking package directory ... OK
- checking for future file timestamps ... OK
- checking DESCRIPTION meta-information ... OK
- checking top-level files ... OK
- checking for left-over files ... OK
- checking index information ... OK
- checking package subdirectories ... OK
- checking code files for non-ASCII characters ... OK
- checking R files for syntax errors ... OK
- checking whether the package can be loaded ... [1s/1s] OK
- checking whether the package can be loaded with stated dependencies ... [1s/1s] OK
- checking whether the package can be unloaded cleanly ... [1s/1s] OK
- checking whether the namespace can be loaded with stated dependencies ... [1s/1s] OK
- checking whether the namespace can be unloaded cleanly ... [1s/1s] OK
- checking loading without being on the library search path ... [1s/1s] OK
- checking whether startup messages can be suppressed ... [1s/1s] OK
- checking use of S3 registration ... OK
- checking dependencies in R code ... OK
- checking S3 generic/method consistency ... OK
- checking replacement functions ... OK
- checking foreign function calls ... OK
- checking R code for possible problems ... [12s/19s] OK
- checking Rd files ... [1s/2s] OK
- checking Rd metadata ... OK
- checking Rd line widths ... OK
- checking Rd cross-references ... OK
- checking for missing documentation entries ... OK
- checking for code/documentation mismatches ... OK
- checking Rd \usage sections ... OK
- checking Rd contents ... OK
- checking for unstated dependencies in examples ... OK
- checking examples ... [267s/423s] OK
Examples with CPU (user + system) or elapsed time > 5s
user system elapsed
ANR-F 8.112 0.284 10.353
Nominal2Binary-TR 6.247 0.137 9.940
Alcalaetal-A 6.000 0.359 9.433
ABB-IEP-FS 5.974 0.354 9.320
GANN-C 5.824 0.130 7.842
CART-R 5.429 0.257 9.158
ID3-D 5.015 0.265 7.802
UniformFrequency-D 4.928 0.324 7.858
Proportional-D 4.817 0.382 6.996
SSGA-Integer-knn-FS 4.912 0.248 7.026
FPgrowth-A 4.844 0.290 8.255
DecimalScaling-TR 4.947 0.120 7.360
UniformWidth-D 4.751 0.281 7.354
CleanAttributes-TR 4.768 0.204 7.050
Bayesian-D 4.696 0.263 6.911
Eclat-A 4.679 0.211 7.965
AllPosible-MV 4.598 0.241 6.246
MinMax-TR 4.663 0.160 7.413
Relief-FS 4.558 0.247 7.058
ZScore-TR 4.685 0.114 6.949
ART-C 4.609 0.168 5.920
Ignore-MV 4.638 0.125 6.632
ID3-C 4.540 0.143 6.651
RISE-C 4.464 0.140 7.578
MostCommon-MV 4.435 0.126 7.945
Apriori-A 4.254 0.291 6.525
KNN-MV 4.437 0.101 7.884
FuzzyApriori-A 4.291 0.210 7.117
KMeans-MV 4.335 0.158 6.482
LVF-IEP-FS 4.283 0.164 6.278
SFS-IEP-FS 4.202 0.211 6.572
GeneticFuzzyAprioriDC-A 4.050 0.296 6.371
GeneticFuzzyApriori-A 4.085 0.200 6.757
NB-C 3.865 0.206 6.480
JFKNN-C 3.534 0.094 5.037
BSE-C 3.210 0.129 5.872
runCV 0.420 0.004 9.881
runSequential 0.120 0.008 7.472
- checking PDF version of manual ... [10s/21s] OK
- checking HTML version of manual ... [5s/13s] OK
- checking for non-standard things in the check directory ... OK
- DONE
Status: OK