- using R Under development (unstable) (2023-06-02 r84486)
- using platform: x86_64-pc-linux-gnu
- R was compiled by
gcc-12 (Debian 12.2.0-14) 12.2.0
GNU Fortran (Debian 12.2.0-14) 12.2.0
- running under: Debian GNU/Linux 12 (bookworm)
- using session charset: UTF-8
- checking for file ‘RAQSAPI/DESCRIPTION’ ... OK
- checking extension type ... Package
- this is package ‘RAQSAPI’ version ‘2.0.3’
- package encoding: UTF-8
- checking package namespace information ... OK
- checking package dependencies ... OK
- checking if this is a source package ... OK
- checking if there is a namespace ... OK
- checking for executable files ... OK
- checking for hidden files and directories ... OK
- checking for portable file names ... OK
- checking for sufficient/correct file permissions ... OK
- checking whether package ‘RAQSAPI’ can be installed ... OK
- checking package directory ... OK
- checking for future file timestamps ... OK
- checking ‘build’ directory ... OK
- checking DESCRIPTION meta-information ... OK
- checking top-level files ... OK
- checking for left-over files ... OK
- checking index information ... OK
- checking package subdirectories ... OK
- checking R files for non-ASCII characters ... OK
- checking R files for syntax errors ... OK
- checking whether the package can be loaded ... [2s/3s] OK
- checking whether the package can be loaded with stated dependencies ... [1s/1s] OK
- checking whether the package can be unloaded cleanly ... [1s/2s] OK
- checking whether the namespace can be loaded with stated dependencies ... [1s/2s] OK
- checking whether the namespace can be unloaded cleanly ... [1s/3s] OK
- checking loading without being on the library search path ... [1s/3s] OK
- checking startup messages can be suppressed ... [1s/2s] OK
- checking use of S3 registration ... OK
- checking dependencies in R code ... OK
- checking S3 generic/method consistency ... OK
- checking replacement functions ... OK
- checking foreign function calls ... OK
- checking R code for possible problems ... [11s/18s] OK
- checking Rd files ... [2s/3s] NOTE
checkRd: (-1) aqs_annualsummary_by_box.Rd:73: Escaped LaTeX specials: \$
checkRd: (-1) aqs_annualsummary_by_box.Rd:75: Escaped LaTeX specials: \$
checkRd: (-1) aqs_annualsummary_by_cbsa.Rd:54: Escaped LaTeX specials: \$
checkRd: (-1) aqs_annualsummary_by_cbsa.Rd:55: Escaped LaTeX specials: \$
checkRd: (-1) aqs_annualsummary_by_county.Rd:64: Escaped LaTeX specials: \$
checkRd: (-1) aqs_annualsummary_by_county.Rd:65: Escaped LaTeX specials: \$
checkRd: (-1) aqs_annualsummary_by_site.Rd:69: Escaped LaTeX specials: \$
checkRd: (-1) aqs_annualsummary_by_site.Rd:70: Escaped LaTeX specials: \$
checkRd: (-1) aqs_annualsummary_by_state.Rd:56: Escaped LaTeX specials: \$
checkRd: (-1) aqs_annualsummary_by_state.Rd:57: Escaped LaTeX specials: \$
checkRd: (-1) aqs_dailysummary_by_box.Rd:75: Escaped LaTeX specials: \$
checkRd: (-1) aqs_dailysummary_by_box.Rd:76: Escaped LaTeX specials: \$
checkRd: (-1) aqs_dailysummary_by_cbsa.Rd:55: Escaped LaTeX specials: \$
checkRd: (-1) aqs_dailysummary_by_cbsa.Rd:56: Escaped LaTeX specials: \$
checkRd: (-1) aqs_dailysummary_by_county.Rd:64: Escaped LaTeX specials: \$
checkRd: (-1) aqs_dailysummary_by_county.Rd:65: Escaped LaTeX specials: \$
checkRd: (-1) aqs_dailysummary_by_site.Rd:68: Escaped LaTeX specials: \$
checkRd: (-1) aqs_dailysummary_by_site.Rd:69: Escaped LaTeX specials: \$
checkRd: (-1) aqs_dailysummary_by_state.Rd:57: Escaped LaTeX specials: \$
checkRd: (-1) aqs_dailysummary_by_state.Rd:58: Escaped LaTeX specials: \$
checkRd: (-1) aqs_monitors_by_cbsa.Rd:55: Escaped LaTeX specials: \$
checkRd: (-1) aqs_monitors_by_cbsa.Rd:56: Escaped LaTeX specials: \$
checkRd: (-1) aqs_qa_flowrateaudit_by_MA.Rd:55: Escaped LaTeX specials: \$
checkRd: (-1) aqs_qa_flowrateaudit_by_MA.Rd:56: Escaped LaTeX specials: \$
checkRd: (-1) aqs_qa_flowrateaudit_by_county.Rd:64: Escaped LaTeX specials: \$
checkRd: (-1) aqs_qa_flowrateaudit_by_county.Rd:65: Escaped LaTeX specials: \$
checkRd: (-1) aqs_qa_flowrateaudit_by_pqao.Rd:55: Escaped LaTeX specials: \$
checkRd: (-1) aqs_qa_flowrateaudit_by_pqao.Rd:56: Escaped LaTeX specials: \$
checkRd: (-1) aqs_qa_flowrateaudit_by_site.Rd:68: Escaped LaTeX specials: \$
checkRd: (-1) aqs_qa_flowrateaudit_by_site.Rd:69: Escaped LaTeX specials: \$
checkRd: (-1) aqs_qa_flowrateaudit_by_state.Rd:57: Escaped LaTeX specials: \$
checkRd: (-1) aqs_qa_flowrateaudit_by_state.Rd:58: Escaped LaTeX specials: \$
checkRd: (-1) aqs_qa_one_point_qc_by_MA.Rd:54: Escaped LaTeX specials: \$
checkRd: (-1) aqs_qa_one_point_qc_by_MA.Rd:56: Escaped LaTeX specials: \$
checkRd: (-1) aqs_qa_one_point_qc_by_county.Rd:63: Escaped LaTeX specials: \$
checkRd: (-1) aqs_qa_one_point_qc_by_county.Rd:65: Escaped LaTeX specials: \$
checkRd: (-1) aqs_qa_one_point_qc_by_pqao.Rd:54: Escaped LaTeX specials: \$
checkRd: (-1) aqs_qa_one_point_qc_by_site.Rd:67: Escaped LaTeX specials: \$
checkRd: (-1) aqs_qa_one_point_qc_by_site.Rd:69: Escaped LaTeX specials: \$
checkRd: (-1) aqs_qa_one_point_qc_by_state.Rd:56: Escaped LaTeX specials: \$
checkRd: (-1) aqs_qa_one_point_qc_by_state.Rd:58: Escaped LaTeX specials: \$
checkRd: (-1) aqs_qa_pep_audit_by_MA.Rd:55: Escaped LaTeX specials: \$
checkRd: (-1) aqs_qa_pep_audit_by_MA.Rd:56: Escaped LaTeX specials: \$
checkRd: (-1) aqs_qa_pep_audit_by_county.Rd:63: Escaped LaTeX specials: \$
checkRd: (-1) aqs_qa_pep_audit_by_county.Rd:65: Escaped LaTeX specials: \$
checkRd: (-1) aqs_qa_pep_audit_by_pqao.Rd:55: Escaped LaTeX specials: \$
checkRd: (-1) aqs_qa_pep_audit_by_pqao.Rd:56: Escaped LaTeX specials: \$
checkRd: (-1) aqs_qa_pep_audit_by_site.Rd:67: Escaped LaTeX specials: \$
checkRd: (-1) aqs_qa_pep_audit_by_site.Rd:69: Escaped LaTeX specials: \$
checkRd: (-1) aqs_qa_pep_audit_by_state.Rd:56: Escaped LaTeX specials: \$
checkRd: (-1) aqs_qa_pep_audit_by_state.Rd:58: Escaped LaTeX specials: \$
checkRd: (-1) aqs_quarterlysummary_by_box.Rd:75: Escaped LaTeX specials: \$
checkRd: (-1) aqs_quarterlysummary_by_box.Rd:76: Escaped LaTeX specials: \$
checkRd: (-1) aqs_quarterlysummary_by_cbsa.Rd:56: Escaped LaTeX specials: \$
checkRd: (-1) aqs_quarterlysummary_by_cbsa.Rd:57: Escaped LaTeX specials: \$
checkRd: (-1) aqs_quarterlysummary_by_county.Rd:64: Escaped LaTeX specials: \$
checkRd: (-1) aqs_quarterlysummary_by_county.Rd:65: Escaped LaTeX specials: \$
checkRd: (-1) aqs_quarterlysummary_by_site.Rd:68: Escaped LaTeX specials: \$
checkRd: (-1) aqs_quarterlysummary_by_site.Rd:69: Escaped LaTeX specials: \$
checkRd: (-1) aqs_quarterlysummary_by_state.Rd:57: Escaped LaTeX specials: \$
checkRd: (-1) aqs_quarterlysummary_by_state.Rd:58: Escaped LaTeX specials: \$
- checking Rd metadata ... OK
- checking Rd line widths ... OK
- checking Rd cross-references ... OK
- checking for missing documentation entries ... OK
- checking for code/documentation mismatches ... OK
- checking Rd \usage sections ... OK
- checking Rd contents ... OK
- checking for unstated dependencies in examples ... OK
- checking installed files from ‘inst/doc’ ... OK
- checking files in ‘vignettes’ ... OK
- checking examples ... [2s/2s] OK
- checking for unstated dependencies in ‘tests’ ... OK
- checking tests ... [2s/4s] OK
Running ‘spelling.R’ [0s/0s]
Running ‘testthat.R’ [2s/3s]
- checking for unstated dependencies in vignettes ... OK
- checking package vignettes in ‘inst/doc’ ... OK
- checking re-building of vignette outputs ... [14s/29s] OK
- checking PDF version of manual ... [11s/22s] OK
- checking HTML version of manual ... [6s/12s] OK
- checking for non-standard things in the check directory ... OK
- DONE
Status: 1 NOTE